BEGIN:VCALENDAR
VERSION:2.0
PRODID:-//https://techplay.jp//JP
CALSCALE:GREGORIAN
METHOD:PUBLISH
X-WR-CALDESC:【最終参加者数28名につき開催いたします！】
 【新宿】IT企業営業/購買交流会(フリーランスエンジニ
 ア参加可)
X-WR-CALNAME:【最終参加者数28名につき開催いたします！】
 【新宿】IT企業営業/購買交流会(フリーランスエンジニ
 ア参加可)
X-WR-TIMEZONE:Asia/Tokyo
BEGIN:VTIMEZONE
TZID:Asia/Tokyo
BEGIN:STANDARD
DTSTART:19700101T000000
TZOFFSETFROM:+0900
TZOFFSETTO:+0900
TZNAME:JST
END:STANDARD
END:VTIMEZONE
BEGIN:VEVENT
UID:923384@techplay.jp
SUMMARY:【最終参加者数28名につき開催いたします！】【
 新宿】IT企業営業/購買交流会(フリーランスエンジニア
 参加可)
DTSTART;TZID=Asia/Tokyo:20231122T143000
DTEND;TZID=Asia/Tokyo:20231122T160000
DTSTAMP:20260424T161755Z
CREATED:20231016T050337Z
DESCRIPTION:イベント詳細はこちら\nhttps://techplay.jp/event/92338
 4?utm_medium=referral&utm_source=ics&utm_campaign=ics\n\n【最終参加
 者数２８名につき開催いたします！】【新宿】11月22日
 (水)IT企業営業/購買交流会(フリーランスエンジニア参
 加可)\n主催\nNorth Star Management株式会社https://northstar.co.jp
 /\n交流会について\nIT業界の営業や購買の方々が集まっ
 て情報交換、名刺交換する交流会を開催します。フリ
 ーランスとしてIT業界で働かれている方も参加頂ける
 場です。弊社はコンサルやPMO領域を扱う企業となって
 おり、当日は弊社の営業もおりますので、弊社案件に
 ご興味があるフリーランスや営業の方は会場でお声が
 け頂く事も可能です。是非ご参加下さい。\nその他の
 告知サイトでも参加募集をしております。\nこんな方
 の参加をお待ちしております！\n・IT業界での社外のつ
 ながりや人脈をつくりたい方・登録エンジニアに割り
 ふれる案件を探している・リソース不足に備えて他社
 と協業の体制を作っておきたい\n以下、交流会の詳細
 となります。\nタイムスケジュール\n\n\n\n時間\n内容\n\n
 \n\n\n14:00\n受付開始\n\n\n14:30〜16:00\n会社挨拶交流会\n\n\n
 16:00\n交流会終了\n\n\n\n※ 交流会中は歓談形式となりま
 すのでご自由にご歓談下さい。※ 交流会途中の入退場
 は自由となります。※ 当日予告なく時間配分・内容が
 変更になる可能性がございます。\n日時\n2023年11月22(水
 ) 14:30～16:00 (14:00より入場受付開始)\n参加対象\n\nIT営業
 /購買\nフリーランスエンジニア\n\n参加費\n2\,000円(当日
 会場にて現金支払い)※ 現金のみのお支払いとなりま
 す。当日はできる限り1\,000円札か5\,000円札でのお支払
 いをお願いします。※ 1名分ずつでのお申し込みをお
 願いします。\n定員\n最大50名\n場所\nふれあい貸し会議
 室新宿No63〒160-0022　東京都新宿区新宿4-2-21 相模ビル 5
 階\n交通\n新宿駅ミライナタワー改札から徒歩2分\n持ち
 物\n名刺※ 受付にて1枚ご提出いただきます。※ 枚数
 に余裕をもってご準備ください。\n服装\n自由な格好で
 OKです。\n\n注意事項\n\n参加をキャンセルされる場合は
 、お手数ですが11月19日中までにキャンセル処理をお願
 い致します。\n体調不良や自然災害等のやむを得ない
 理由を除き、開催当日のキャンセルは不可とさせてい
 ただきます。当日連絡なくキャンセル・欠席となった
 場合は参加費を全額請求致します。\n無断キャンセル
 や欠席が続く場合、次回以降の参加をお断りさせてい
 ただく場合がございます。\n宗教、交流会目的外のリ
 クルーティングまたは勧誘などが目的のイベント参加
 はお断りしております。\n万一、宗教やネットワーク
 ビジネス等、別組織、別団体等への本交流会の目的外
 での勧誘が発覚した場合は、罰金を課す可能性があり
 ますのでご了承ください。\n
LOCATION:ふれあい貸し会議室新宿No63 〒160-0022 東京都新宿
 区新宿4-2-21 相模ビル 5階
URL:https://techplay.jp/event/923384?utm_medium=referral&utm_source=ics&utm
 _campaign=ics
END:VEVENT
END:VCALENDAR
