BEGIN:VCALENDAR
VERSION:2.0
PRODID:-//https://techplay.jp//JP
CALSCALE:GREGORIAN
METHOD:PUBLISH
X-WR-CALDESC:IT導入補助金の採択率98%を越える実績から、最
 新の申請方法や事例を徹底解説
X-WR-CALNAME:IT導入補助金の採択率98%を越える実績から、最
 新の申請方法や事例を徹底解説
X-WR-TIMEZONE:Asia/Tokyo
BEGIN:VTIMEZONE
TZID:Asia/Tokyo
BEGIN:STANDARD
DTSTART:19700101T000000
TZOFFSETFROM:+0900
TZOFFSETTO:+0900
TZNAME:JST
END:STANDARD
END:VTIMEZONE
BEGIN:VEVENT
UID:923460@techplay.jp
SUMMARY:IT導入補助金の採択率98%を越える実績から、最新
 の申請方法や事例を徹底解説
DTSTART;TZID=Asia/Tokyo:20231019T150000
DTEND;TZID=Asia/Tokyo:20231019T160000
DTSTAMP:20260424T172313Z
CREATED:20231016T090615Z
DESCRIPTION:イベント詳細はこちら\nhttps://techplay.jp/event/92346
 0?utm_medium=referral&utm_source=ics&utm_campaign=ics\n\nこんな方に
 オススメ\n\nIT導入補助金の受給条件や具体的な申請手
 順を知りたい方\nコストを抑えてDX推進に取り組みたい
 方\n受給できる金額を知りたい方\n\nこのセミナーでわ
 かること\n\nIT導入補助金の最新情報、受給条件、 申請
 方法\nIT導入補助金2023後期の最新情報\nスターティアレ
 イズで提供可能な対象サービス\n\nセミナー概要\n本セ
 ミナーは、総申請数6\,000件以上・採択率98%以上の実績
 を持つ株式会社KIZASHIの堤 雄三氏にご登壇いただき、
 「IT導入補助金2023（後期）の最新情報」を徹底解説し
 ます。補助対象の条件や申請方法、補助金はどれだけ
 付与されるか多数の過去実績をもとにご紹介いたしま
 す。\nまた、2023年のIT導入補助金は例年とは異なり、
 前期・後期で事務局が異なっております。後期が始ま
 り事務局が異なることで何が変わるのか、どのような
 点に注意する必要があるのか、皆さまが気になるポイ
 ントを盛り込んだコンテンツをお届けします。\n講師
 紹介\n株式会社KIZASHI取締役堤 雄三氏■経歴2008年株式
 会社エス・エム・エス入社。2012年コヴィディエンジャ
 パン株式会社入社。2014年株式会社あしたのチーム入社
 。取締役として事業戦略本部・海外事業本部・セール
 ス＆マーケティング本部 本部長を歴任。2023年　株式
 会社KIZASHI 取締役就任。経営戦略室 室長も担う。SaaSビ
 ジネス経験を活かして、ITベンダー及び導入企業様の
 サポートに従事。\nスターティアレイズ株式会社業務
 自動化ソリューション部部長 鈴木 健太■経歴2003年ス
 ターティアに営業として入社。2005年ネットワークエン
 ジニアに転身し、エンジニア部隊を立ち上げ。セキュ
 リティ製品、NW機器選定やサービス企画等を行いつつ
 、NWの設計から構築まで携わり、NWセキュリティ関連の
 エバンジェリストとしても活躍。現在は業務自動化ソ
 リューション部にてRPAコンサルタントに従事する傍ら
 、新サービスの企画を行っている。\nセミナー詳細\n\n\
 n\n\n\n\n\n\n\nタイトル\nIT導入補助金の採択率98%を越える
 実績から、最新の申請方法や事例を徹底解説\n\n\n日時\
 n2023年10月19日(木)15:00~16:00\n\n\n会場\nオンライン（Zoom）
 \n\n\n受講料\n無料\n\n\n主催\nスターティアレイズ株式会
 社/株式会社KIZASHI\n\n\n\n・お申込みいただいた際に、Zoo
 m登録用URLをご登録いただいたメールアドレスに送付致
 します。・セミナー当日のご参加も可能です。・プロ
 グラムは、都合により予告無く変更する場合がござい
 ます。・ユーザー企業様向けのセミナーの為、同業者
 様のご参加はお断りさせていただく場合がございます
 。\nセミナープログラム\n\n\n\n\n\n\n\n\n\n01\nIT導入補助金
 2023（後期）の最新情報を徹底解説！└　IT導入補助金
 とは└　受給対象の条件について└　採択率└　申請
 ごとの受給可能金額└　ITツールの採択事例\n\n\n02\nIT
 導入補助金対象サービスのご紹介（RPA/AI-OCR/iPaaS）\n\n\n
LOCATION:オンライン（Zoom）
URL:https://techplay.jp/event/923460?utm_medium=referral&utm_source=ics&utm
 _campaign=ics
END:VEVENT
END:VCALENDAR
