BEGIN:VCALENDAR
VERSION:2.0
PRODID:-//https://techplay.jp//JP
CALSCALE:GREGORIAN
METHOD:PUBLISH
X-WR-CALDESC:【ソフトウェア品質向上セミナー】技術的負
 債にどう向き合うか
X-WR-CALNAME:【ソフトウェア品質向上セミナー】技術的負
 債にどう向き合うか
X-WR-TIMEZONE:Asia/Tokyo
BEGIN:VTIMEZONE
TZID:Asia/Tokyo
BEGIN:STANDARD
DTSTART:19700101T000000
TZOFFSETFROM:+0900
TZOFFSETTO:+0900
TZNAME:JST
END:STANDARD
END:VTIMEZONE
BEGIN:VEVENT
UID:923891@techplay.jp
SUMMARY:【ソフトウェア品質向上セミナー】技術的負債に
 どう向き合うか
DTSTART;TZID=Asia/Tokyo:20231116T133000
DTEND;TZID=Asia/Tokyo:20231116T163000
DTSTAMP:20260419T234440Z
CREATED:20231020T043811Z
DESCRIPTION:イベント詳細はこちら\nhttps://techplay.jp/event/92389
 1?utm_medium=referral&utm_source=ics&utm_campaign=ics\n\n\n【ソフト
 ウェア品質向上セミナー】技術的負債にどう向き合う
 か\n概要\n近年のソフトウェア開発規模の拡大、開発期
 間の短縮化に伴い、開発現場では、品質も開発スピー
 ドも求められています。今回のソフトウェア品質向上
 セミナーは、基調講演として、名古屋大学 大学院情報
 学研究科 准教授 森崎 修司様を講師にお迎えし、ソー
 スコードメトリクスを活用した事例を紹介いただきま
 す。また、活用上の課題に対する対処をしやすくする5
 つの基準(対策の取りやすさ、合意の取りやすさ、収集
 コスト、構成概念、頑健性)をご説明いただきます。今
 回は、ユーザー様をパネラーとしてお招きし、パネル
 ディスカッションを行っていただくセッションを設け
 させていただきました。各社の取り組みやツール活用
 のノウハウなどについて議論していただく予定です。\
 nUnderstandをご利用いただいているお客様はもちろんの
 こと、製品にご興味をお持ちのお客様にも有益な情報
 をお届けできるように準備しております。皆様のご来
 場・ご参加を心よりお待ちしております。\n本セミナ
 ーは、オフライン(会場：TKPガーデンシティPREMIUM横浜
 ランドマークタワー)とオンライン(Zoom)のハイブリッド
 形式で開催します。オフライン会場では、セミナー終
 了後、ユーザー様同士でのご歓談のお時間もご用意し
 ております。ユーザー様同士で直接会話のできる貴重
 な機会になりますので、どうぞふるってお申込みくだ
 さい。\n今回のオフライン会場は、同日に開催されるEd
 geTech+ 2023(テクマトリックス ブース：[A-T04])の会場であ
 るパシフィコ横浜から近い場所にあります。オフライ
 ンでセミナーに参加されるお客様にEdgeTech+ 2023のご招
 待券をお渡しします。\n※内容は、変更する場合がご
 ざいます。あらかじめご了承ください。※ご同業の方
 、個人の方の参加はご遠慮いただいております。\nテ
 クマトリックスセミナーページ\nタイムスケジュール\n
 \n\n\n内容\n\n\n\n\n[セッション1] ご挨拶講演者：テクマ
 トリックス株式会社 ソフトウェアエンジニアリング事
 業部\n\n\n[セッション2] 基調講演タイトル：ソースコー
 ドメトリクスと活用のしやすさを評価する5つの基準講
 演者：名古屋大学 大学院情報学研究科 准教授 森崎 修
 司様\n\n\n[セッション3] パネルディスカッションテーマ
 ：リスク分析\n\n\n[セッション4] パネルディスカッショ
 ンテーマ：ソースコード解析ツール「Understand」の活用
 \n\n\n[セッション5] ソースコード解析ツール「Understand
 」最新情報のご紹介講演者：テクマトリックス株式会
 社 ソフトウェアエンジニアリング事業部\n\n\n\n※ 当日
 予告なく時間配分・内容が変更になる可能性がござい
 ます。\n受講料\n\n無料\n\nお問い合わせ\n\nテクマトリ
 ックス株式会社　ソフトウェアエンジニアリング事業
 部\n\n「Understand」公式サイト
LOCATION:TKPガーデンシティPREMIUM横浜ランドマークタワー
URL:https://techplay.jp/event/923891?utm_medium=referral&utm_source=ics&utm
 _campaign=ics
END:VEVENT
END:VCALENDAR
