BEGIN:VCALENDAR
VERSION:2.0
PRODID:-//https://techplay.jp//JP
CALSCALE:GREGORIAN
METHOD:PUBLISH
X-WR-CALDESC:DX推進は難しくない！自社カスタマイズのMA改
 善を学ぶ60分間
X-WR-CALNAME:DX推進は難しくない！自社カスタマイズのMA改
 善を学ぶ60分間
X-WR-TIMEZONE:Asia/Tokyo
BEGIN:VTIMEZONE
TZID:Asia/Tokyo
BEGIN:STANDARD
DTSTART:19700101T000000
TZOFFSETFROM:+0900
TZOFFSETTO:+0900
TZNAME:JST
END:STANDARD
END:VTIMEZONE
BEGIN:VEVENT
UID:924125@techplay.jp
SUMMARY:DX推進は難しくない！自社カスタマイズのMA改善を
 学ぶ60分間
DTSTART;TZID=Asia/Tokyo:20231122T120000
DTEND;TZID=Asia/Tokyo:20231122T130000
DTSTAMP:20260420T141141Z
CREATED:20231023T003543Z
DESCRIPTION:イベント詳細はこちら\nhttps://techplay.jp/event/92412
 5?utm_medium=referral&utm_source=ics&utm_campaign=ics\n\nDX推進は難
 しくない！自社カスタマイズのMA改善を学ぶ60分間\n概
 要\n第一部（12:00-12:25）：株式会社BESW\nSNSを活用して低
 コストでベストマッチな認知獲得をする方法とは？\n
 近年『デジタルマーケティング』が主流になる中で、S
 NSでいかに見込みの高いユーザーを獲得できるかが重
 要になってきています。そんなデジタルマーケティン
 グを自社運用することで、情報発信の円滑化やコスト
 削減に繋がります。今回はSNSのマーケティング活用法
 を題材に、各SNSの特徴や運用方法などを実際の事例を
 交えてご紹介いたします。マーケティングDX化を推進
 すると共に、自社にマーケティングのプロを育成して
 いくコツをお教えします！\n\n田中 千晶（Tanaka Chiaki）\
 n株式会社BESW　代表取締役社長2009年、大学在学中に会
 社を設立し、1年半で大手企業、中小企業50社と取引を
 する。Webプロモーション支援を得意とし、特にSNS活用
 支援で多くの実績をもつ。2012年から全国各地でセミナ
 ーを精力的に実施。シリコンバレーのFacebook本社やTwitt
 er本社へ毎年出向いて直接SNSの最先端情報を仕入れて
 きている。角川出版社、マイナビ社、技術評論社、翔
 泳社、インプレス社でマーケティング支援の書籍を6冊
 出版。連載も7社で行う。 自身のラジオ番組、パーソ
 ナリティとしても活動し、SNSの最新情報を届けている
 。\n– 学べること –\n\nSNS最新動向\nSNS集客におけるユ
 ーザーコミュニケーションの必要性\nSNSの運用戦略の
 立て方\n\n– こんな方にオススメ –\n\n自社SNSの認知拡
 大や、担当者の育成に伸び悩みを感じている方\n企業
 としてのSNSマーケティングに悩まれている方\nSNS運用
 体制が整っていないと感じているマーケティング担当
 者\n\n\n第二部（12:25-12:50）：Zen office株式会社\nMAツール
 を導入したが成果が上がらない…とお悩みのマーケテ
 ィングご担当者様、自社に合わせたMAツールの使いこ
 なし術\nMAツールを導入したが、活用できていない。自
 社に合わせた最適な活用方法が分からない。といった
 ご相談を多くいただいております。活用が上手くいか
 ない原因は、戦略・組織・システムの3要素が揃ってい
 ないとゆうケースがほどんどです。ＭＡツールを上手
 に活用し、成果を出す為のノウハウを事例を踏まえて
 ご案内いたします。\n\n寺井 章家（Terai Akiie）\nZen office
 株式会社　マーケター2023年3月に関西大学総合情報学
 部を卒業後、同年4月に新卒一期生としてZen office inc.へ
 入社。SEOやMEOのコンサルティング、Google Analyticsを用い
 たWebサイト解析、WEB広告の最適化など数々のデジタル
 マーケティング業務を行っている。\n– 学べること –
 \n\nMAツールの活用が上手くいかない原因\nMA活用度チェ
 ックリスト\n上手に活用するステップ\n最適なパートナ
 ーの選び方\n\n– こんな方にオススメ –\n\nMAツールを
 導入したが十分に活用できているのか分からない\n効
 果的な活用方法を知りたい\n自社に最適な運用ができ
 ているのか知りたい\n施策実施から分析、効果検証ま
 でのPDCAサイクルを確立したい\n\n\nセミナー詳細情報\n
 【日程】 11月22日(水)　12:00～13:00\n【開催形式】オンラ
 イン（※WEBツール：Zoom）\n【タイムスケジュール】　
 　株式会社BESW　12:00-12:25　　Zen office株式会社　12:25-12:
 50　　質疑応答 12:50-13:00\n【注意事項】\n\nWEBのみの開
 催となりますので、ご了承ください。エントリーいた
 だいた方に、前日までにWEBセミナー開催のURLをお送り
 します。\n競合、同業社様のご参加はお断りいたしま
 す。\n\nお申込が予定数を超過した場合は、早期受付終
 了とさせていただく場合がございます。お申込後のキ
 ャンセルが発生した場合は再受付させていただく事が
 ございますので、ご参加が難しくなった際は下記まで
 ご連絡いただきますようお願い申し上げます。＜株式
 会社BESW　セミナー運営担当 03-5829-3510＞
LOCATION:オンライン
URL:https://techplay.jp/event/924125?utm_medium=referral&utm_source=ics&utm
 _campaign=ics
END:VEVENT
END:VCALENDAR
