BEGIN:VCALENDAR
VERSION:2.0
PRODID:-//https://techplay.jp//JP
CALSCALE:GREGORIAN
METHOD:PUBLISH
X-WR-CALDESC:【札幌】執筆・編集・ブランディングまで学
 ぶ！ 伝わるライティング講座
X-WR-CALNAME:【札幌】執筆・編集・ブランディングまで学
 ぶ！ 伝わるライティング講座
X-WR-TIMEZONE:Asia/Tokyo
BEGIN:VTIMEZONE
TZID:Asia/Tokyo
BEGIN:STANDARD
DTSTART:19700101T000000
TZOFFSETFROM:+0900
TZOFFSETTO:+0900
TZNAME:JST
END:STANDARD
END:VTIMEZONE
BEGIN:VEVENT
UID:924347@techplay.jp
SUMMARY:【札幌】執筆・編集・ブランディングまで学ぶ！ 
 伝わるライティング講座
DTSTART;TZID=Asia/Tokyo:20231115T180000
DTEND;TZID=Asia/Tokyo:20231115T200000
DTSTAMP:20260424T195244Z
CREATED:20231024T102018Z
DESCRIPTION:イベント詳細はこちら\nhttps://techplay.jp/event/92434
 7?utm_medium=referral&utm_source=ics&utm_campaign=ics\n\n◆3つの特徴
 \n(1) 明快でインパクトのあるライティング術やキャッ
 チコピーの付け方を習得できます(2) 会社の広報やPRセ
 クションなど、ブランディングや情報発信に携わる方
 に役立ちます(3) メディアに取材されやすいプレスリリ
 ースの作り方＆アプローチ方法を学べます\n◆受講特
 典はコレ！・希望者に、ライティングや企画構成の無
 償添削（１回のみ）。メールかオンラインでコメント
 （20～30分程度）\n◆参加に向いている人　レベル【初
 級】・ライティングの基礎を学びたい、学び直したい
 方・ライターを目指している方、筆力をアップさせた
 い方・企業や団体の広報や社内報担当など、情報発信
 の機会が多い方・メディアが興味を抱く効果的なブラ
 ンディング編集を習得したい\n◆学べること【札幌】\n
 20年以上、新聞、雑誌、Webなどのさまざまなメディア
 で、取材・執筆・編集をしてきた浅利圭一郎講師が、
 実際に掲載された記事を教材に、インパクトのある見
 出しの付け方、明快なリードや本文の書き方、文章構
 成などを伝授します。\n作文実習もあり、実際に書い
 た文章の良さや課題などを直接指導してもらえるので
 、長所を伸ばし弱点を修正できます。しかも、メディ
 アに取材されやすくなるプレスリリースの作り方やア
 プローチ方法なども組み込んだカリキュラム。広報ブ
 ランディングに携わっている講師だからこその、充実
 の内容です。\n読み手を引きつける「伝わる文章」の
 書き方はもとより、情報をターゲットに的確にアプロ
 ーチできるコツも習得して、明日から仕事で生かしま
 しょう！\n◆カリキュラム(1)よく伝わる文章作りとは
 ？　 話すように書く。明快な文章はテンポがいい！　
 ・何をテーマに、誰をターゲットに想定して書くのか
 　・「５W１H」を常に意識！逆ピラミッドの法則　・
 省略可のものを取捨選択。ブロック単位で捉える！　
 ・「PREP法」と「起承転結」の見極めと活用　・「中学
 １年生が分かる表現」で書く　・一文を短く、重複表
 現の整理で劇的にスッキリ！　・固有名詞は初出時フ
 ルネーム、次からは略称　・ムダな接続詞、助詞はバ
 ッサリ！　・主語は基本冒頭、主述が明確でない文章
 は伝わらない！　・修飾語の関係性を常に意識する(2)
 寺子屋形式ワーク＆ロールプレイング５W1HとPREPを意識
 して書いてみる「この１年で一番嬉しかったこと」（1
 50字）(3)PR＆ブランディングのための文章作り　・プレ
 スリリースは、メディア取材の必須ツール　・PR＆ブ
 ランディングにも欠かせない文章要素　・ブランディ
 ングの代表格「SEO対策」とは？　・「キーワード」と
 「内容の質」を意識した文章(4)質疑応答\n◆受講する
 と・話のポイントを押さえた伝わる文章、最後まで読
 んでもらえる文章が書けます。・ライティングへの苦
 手意識を払拭できます。・ライティングやエディトリ
 アルの仕事で必要な基礎力がアップします。・広報や
 ブランディング、プレスリリースの作り方や発信術の
 コツが学べます。\n◆講師のメッセージこれまで、新
 聞社や出版社、Webメディアなどで、記者や編集者とし
 て記事の企画構成や執筆、校閲など、関連する業務全
 般を手掛けてきました。講義では、現在も日々進歩す
 べく、仕事に取り組む実務家としての経験や感じるこ
 とを惜しみなく伝授します。複数人の受講でも、マニ
 ュアル的な進行ではなく、演習や問答などを盛り込ん
 で、それぞれの悩みやニーズに即した内容を心掛けて
 います。「ラクに伝わるライティング」を会得すべく
 、ともにブラッシュアップしていきましょう！\n◆持
 ち物・インターネットに接続可能なPCやタブレット、
 スマートフォン・筆記用具・レポート用紙かメモパッ
 ド\n※レンタルPCのご案内・希望者は、「PCレンタル希
 望」と備考欄にご記入ください。　先着順で受け付け
 ます。数に限りがありますことをご了承願います。　
 事前にお申し込みがない場合は準備致しかねます。・
 利用料金は「1台・1000円(税込)」。受講日に現金払いと
 なります。　当日、万一、PC本体における不具合が発
 生した場合は、全額返金致します。　ただし、ご利用
 者さまの故意または過失による場合は返金対象外とな
 ります。\n◆講師浅利　圭一郎 ／ ライター・エディタ
 ー・ジャーナリスト\n1975年北海道札幌市生まれ。法政
 大学文学部史学科卒業後、神戸新聞社入社。販売局企
 画開発部で勤務後、伝え手に専心するため退社。\nタ
 ウン誌編集記者を経て、2007年よりフリーランスとして
 活動を開始。月刊誌やタウン誌、Webメディア、企業や
 自治体パンフレットなどで、企画取材執筆を続ける。2
 014年９月、一票の格差をテーマに取材執筆した書籍『
 決めごとのきまりゴト～１人１票からはじめる民主主
 義?』（旬報社）を上梓。\nその後、十勝毎日新聞社札
 幌常駐記者として約1200本の記事を企画取材執筆。2021
 年、取材ライティングと編集、広報PR代行、LGBTダイバ
 ーシティ講座などを事業にする会社「ハーモニクス」
 を設立。\n＜注意事項＞◆開講の有無・申し込み締め
 切り日に決定。最低開催人数に達しなかった場合は、
 見合わせとなります。　ただし、追加料金の支払いで
 開催可能になる講座は、3300円（税込）を追加していた
 だけると受講可能になります。お支払い方法は別途お
 知らせします。・事前にご連絡いただいた方に、申し
 込み状況をお伝えすることは可能です。・有料セミナ
 ーが中止となった場合、受講料金は全額返金。　返金
 方法は、別途メールでご連絡します。◆受講料の支払
 い・クレジットカードまたはコンビニ決済・コンビニ
 決済は、申し込み日から3日以内にお支払いください。
 ◆キャンセル・申し込み締め切り日の前夜23時59分迄に
 、ご連絡ください。・他講座への振替は1回のみ可能。
 ・コンビニ払いの場合は、手数料1000円を引いた金額を
 振り込みます。・上記以降のキャンセルや無連絡不参
 加の場合、返金や振替には応じかねます。◆海外での
 受講・クレジットカードでのお支払いとなります。・
 受講費はクレジットカード会社が定めた為替と為替レ
 ートになります。　ご契約のクレジットカード会社に
 お問い合わせ下さい。・インターネット環境が日本の
 規格と異なる場合、まれに画像がスムーズに呼び出さ
 れない場合があります。◆新型コロナウイルス感染予
 防対策・入室の際、検温、アルコール消毒などにご協
 力願います。・せき、発熱などの症状のある方は、受
 講を控えてください。◆講座に対する意見や要望・受
 講後、3営業日以内（フェローズ営業時間10:00～19:00）
 に事務局まで。・上記以降は対応いたしかねます。ご
 了承ください。
LOCATION:株式会社フェローズ　札幌支社 札幌市中央区北1
 条西3-3敷島北一条ビル8F
URL:https://techplay.jp/event/924347?utm_medium=referral&utm_source=ics&utm
 _campaign=ics
END:VEVENT
END:VCALENDAR
