BEGIN:VCALENDAR
VERSION:2.0
PRODID:-//https://techplay.jp//JP
CALSCALE:GREGORIAN
METHOD:PUBLISH
X-WR-CALDESC:顧客育成ツールを使って 営業活動の生産性を
 向上させる方法とは
X-WR-CALNAME:顧客育成ツールを使って 営業活動の生産性を
 向上させる方法とは
X-WR-TIMEZONE:Asia/Tokyo
BEGIN:VTIMEZONE
TZID:Asia/Tokyo
BEGIN:STANDARD
DTSTART:19700101T000000
TZOFFSETFROM:+0900
TZOFFSETTO:+0900
TZNAME:JST
END:STANDARD
END:VTIMEZONE
BEGIN:VEVENT
UID:924930@techplay.jp
SUMMARY:顧客育成ツールを使って 営業活動の生産性を向上
 させる方法とは
DTSTART;TZID=Asia/Tokyo:20231117T130000
DTEND;TZID=Asia/Tokyo:20231117T140000
DTSTAMP:20260419T172314Z
CREATED:20231030T053627Z
DESCRIPTION:イベント詳細はこちら\nhttps://techplay.jp/event/92493
 0?utm_medium=referral&utm_source=ics&utm_campaign=ics\n\n顧客育成ツ
 ールを使って 営業活動の生産性を向上させる方法\n概
 要\nリード獲得は、企業の生き残りを考えると必要不
 可欠なものです。このセミナーでは、リード獲得の目
 的と獲得方法、そしてリード育成方法までを解説しま
 す。\n参加者の声\n・MAを導入する目的が明確に分かり
 やすかった。・BtoBの営業にMAが必要だと感じた。・現
 在の営業方法では生産性を上げれないことが解った。\
 n参加された方からこのような声をいただいています。
 \n主なトピック\n・リード獲得とは・リード獲得の目的
 ・リードを獲得する方法・リード育成\n対象者\n・マー
 ケティングや営業推進部でリード獲得の責任者、担当
 者・営業部門の生産性を上げる責任者、担当者・マー
 ケティングオートメーションの利用者、これから導入
 を検討されている皆様\n以下の内容を予めご了承の上
 、お申し込みください。※同業他社のご参加はお断り
 しております。\n参加方法\n申込みいただきましたら、
 セミナー参加用のZoom URLをメールアドレス宛に送らせ
 て頂います。\nZoomを使ったことがない方は、Zoomアプリ
 をダウンロードしてください。https://zoom.us/download#client
 _4meeting\n参加費\n無料\n\n登壇者\n\n椋本庄治\n株式会社
 マインドアイ 代表取締役\n大阪市生まれ。龍谷大学卒
 業後、印刷会社、広告代理店を経て、株式会社マイン
 ドアイを設立。著書「集客がどんどん楽しくなる！Ｉ
 ＳＤロジックビジネス」生涯学習評議会認定「ＩＳＤ
 個性心理学協会」マスターインストラクター集客コン
 サルタント。店舗（会社）集客には、ランチェスター
 戦略を導入。ネット集客においては独自のノウハウを
 構築し、アクセッスアップを実現。販促物は、ＩＳＤ
 ロジックを活用し成果を上げている。\n\n\n小林 祐太\nM
 arkefan株式会社　アカウントエグゼクティブ\n1996年10月
 香川県生まれ大学卒業後は銀行にて法人営業として顧
 客の資金調達やビジネスマッチングに従事していたが
 、セールスの根本であるマーケティング領域に面白さ
 と興味を抱き、2020年6月Markefan株式会社へジョイン。Mar
 kefanユーザーのアカウント担当者として、導入支援や
 運用後の操作サポート・運用コンサルティングを行な
 っている。銀行勤務時に身に付けた「まずはお客様の
 ビジネスを理解することから始める」というポリシー
 の元、お客様の現状の課題や業種・業界に合わせたオ
 ンリーワンのMA導入のご提案が強み。\n\n注意事項\n\nリ
 クルーティング、勧誘など、採用目的でのイベント参
 加はお断りしております。\nキャンセル待ち・補欠・
 落選の方はご参加いただくことが出来ませんのでご了
 承ください。\n欠席される場合は、お手数ですが速や
 かにキャンセル処理をお願い致します。\n無断キャン
 セルや欠席が続く場合、次回以降の参加をお断りさせ
 ていただく場合がございます。\n
LOCATION:ZOOM
URL:https://techplay.jp/event/924930?utm_medium=referral&utm_source=ics&utm
 _campaign=ics
END:VEVENT
END:VCALENDAR
