BEGIN:VCALENDAR
VERSION:2.0
PRODID:-//https://techplay.jp//JP
CALSCALE:GREGORIAN
METHOD:PUBLISH
X-WR-CALDESC:アルゴリズムから徹底解説!確実に応募を集め
 る『採用を見据えたSNS運用法』
X-WR-CALNAME:アルゴリズムから徹底解説!確実に応募を集め
 る『採用を見据えたSNS運用法』
X-WR-TIMEZONE:Asia/Tokyo
BEGIN:VTIMEZONE
TZID:Asia/Tokyo
BEGIN:STANDARD
DTSTART:19700101T000000
TZOFFSETFROM:+0900
TZOFFSETTO:+0900
TZNAME:JST
END:STANDARD
END:VTIMEZONE
BEGIN:VEVENT
UID:925116@techplay.jp
SUMMARY:アルゴリズムから徹底解説!確実に応募を集める『
 採用を見据えたSNS運用法』
DTSTART;TZID=Asia/Tokyo:20231122T143000
DTEND;TZID=Asia/Tokyo:20231122T153000
DTSTAMP:20260420T105736Z
CREATED:20231031T081003Z
DESCRIPTION:イベント詳細はこちら\nhttps://techplay.jp/event/92511
 6?utm_medium=referral&utm_source=ics&utm_campaign=ics\n\nアルゴリズ
 ムから徹底解説!確実に応募を集める『採用を見据えた
 SNS運用法』\n概要\n人口減少による人手不足が騒がれる
 中、新卒の求職者(就活生)の行動も多様化しており、
 企業はこれまでと同様に求人媒体に掲載するだけでは
 応募を集めることが困難になっています。\nSNSを活用
 して就職活動を行う学生も増加傾向にある中で、今回
 は求人媒体ではなく、より多くの優秀な新卒学生に対
 して認知を広げ、採用を成功に導くためのSNS採用戦略
 について解説します。\n採用視点での**「就活生の興味
 を惹く戦略設計」から、3大SNSのアルゴリズムから紐解
 く「認知度拡大のためのSNS運用方法」**まで、新卒・
 中途問わず経営者様、採用担当者様にとって、新しい
 手法を切り開くきっかけとなるセミナーです。\n– 本
 セミナーで得られること –\n\n23卒新卒採用の動向分析
 データ\n大手企業に負けない、新卒採用ブランディン
 グの設計方法\n内定承諾率を格段に向上させる、認知
 〜採用までのSNS戦略\ninstagram/X/tiktokの最新アルゴリズ
 ム\n明日から始められる、企業のパターン別おすすめSN
 S\n\n\n– こんな方にオススメ –\n\n採用課題を持つ経営
 者、人事担当者\n採用広報を強化していきたい方\nSNS採
 用における運用方針にお困りの方\n採用率、定着率に
 課題を持っている方\n新卒採用特有のノウハウが知り
 たい方\n\n\n～ 登壇者 ～\n井上 愛海株式会社ミギナナ
 メウエ執行役員 兼 採用支援事業部長\n\n2019年8月 株式
 会社ミギナナメウエ入社。東京大学大学院所属採用支
 援コンサルタントとして、ベンチャー/スタートアップ
 企業を中心に「母集団を月間100名形成」「支援1ヶ月で
 歴10年エンジニアを採用」など、異例のスピードで結
 果を構築。\n\n現在は執行役員 兼 採用支援事業部責任
 者として月間約40社の採用を支援。年々厳しくなるIT人
 材の採用を、独自のマーケティング戦略によって次々
 と成功させている。\n\n田中 千晶株式会社BESW代表取締
 役\n\n大学在学中に会社を設立、1年半で大手企業、中
 小企業50社と取引。Webプロモーション支援を得意とし
 、特にSNS活用支援で多くの実績をもつ。マーケティン
 グ支援書籍を6冊出版、7社で連載を行いSNSの最新情報
 を届けているSNS活用事業のプロフェッショナル。\n\n\n
 セミナー詳細情報\n【日程】 11月22日(水)　14:30～15:30\n
 【開催形式】Zoomによるオンライン無料配信\n【注意事
 項】\n\nWEBのみの開催となりますので、ご了承ください
 。エントリーいただいた方に、前日までにWEBセミナー
 開催のURLをお送りします。\n競合、同業社様のご参加
 はお断りいたします。\n\nお申込が予定数を超過した場
 合は、早期受付終了とさせていただく場合がございま
 す。お申込後のキャンセルが発生した場合は再受付さ
 せていただく事がございますので、ご参加が難しくな
 った際は下記までご連絡いただきますようお願い申し
 上げます。＜株式会社BESW　セミナー運営担当 03-5829-351
 0＞
LOCATION:オンライン
URL:https://techplay.jp/event/925116?utm_medium=referral&utm_source=ics&utm
 _campaign=ics
END:VEVENT
END:VCALENDAR
