BEGIN:VCALENDAR
VERSION:2.0
PRODID:-//https://techplay.jp//JP
CALSCALE:GREGORIAN
METHOD:PUBLISH
X-WR-CALDESC:脱・サポート終了レガシーOS オンラインセミ
 ナー『迫るレガシーOSのサポート終了！今、取るべき
 対策を徹底解説』
X-WR-CALNAME:脱・サポート終了レガシーOS オンラインセミ
 ナー『迫るレガシーOSのサポート終了！今、取るべき
 対策を徹底解説』
X-WR-TIMEZONE:Asia/Tokyo
BEGIN:VTIMEZONE
TZID:Asia/Tokyo
BEGIN:STANDARD
DTSTART:19700101T000000
TZOFFSETFROM:+0900
TZOFFSETTO:+0900
TZNAME:JST
END:STANDARD
END:VTIMEZONE
BEGIN:VEVENT
UID:925376@techplay.jp
SUMMARY:脱・サポート終了レガシーOS オンラインセミナー
 『迫るレガシーOSのサポート終了！今、取るべき対策
 を徹底解説』
DTSTART;TZID=Asia/Tokyo:20231109T140000
DTEND;TZID=Asia/Tokyo:20231109T150000
DTSTAMP:20260420T215702Z
CREATED:20231102T050020Z
DESCRIPTION:イベント詳細はこちら\nhttps://techplay.jp/event/92537
 6?utm_medium=referral&utm_source=ics&utm_campaign=ics\n\n迫るレガシ
 ーOSのサポート終了！今、取るべき対策を徹底解説\n～
  Windows Server 2012／Cent OS Linux 7のアップグレードや移行
 の取り組み ～\nセミナー概要\nDX時代の昨今、その実現
 に向けた取り組みが、業界・業種を問わず進められて
 いる一方で、DX化の阻害要因であるレガシーシステム
 の問題に直面し、解決方法を模索する企業も少なくあ
 りません。\nレガシーシステム刷新に強みを持つシス
 テムズは、「DX推進を阻むレガシー問題とその解決ア
 プローチ」をテーマに、当社とパートナー企業の得意
 なソリューションとのコラボレーションによる共同セ
 ミナーを定期的に開催しています。\nそこで今回は、
 「2023年～2024年にサポート終了を迎えるOSからの脱却と
 移行」をテーマに、株式会社ディーネットの専門家を
 ゲストに迎え、マイグレーションの専門家であるシス
 テムズと、「Windows Server2012とCentOS Linux 7のサポート終
 了後の移行先の選定や移行時のポイント」についてご
 紹介する共同セミナーを企画いたしました。\n本セミ
 ナーの前半では、システムズのマイグレーションの専
 門家が、2023年10月で延長サポートが終了した Windows Serv
 er2012/2012 R2からの移行先の選定や、VB6.0で作成されたレ
 ガシーアプリの移行方法について、最新のAWS等クラウ
 ドサービスを活用した移行事例を交え解説します。\n
 また後半のセッションでは、ディーネットの専門家が
 、**「CentOS7サポート終了間近：次の一手を見極める」*
 *と題して、2024年6月にCentOS Linux 7(以下、CentOS7)のコミ
 ュニティサポートが終了することによる影響と、その
 受け皿となる代替Linuxディストリビューションの現状
 、移行先選びのポイントについて、詳しくご紹介いた
 します。\n◆タイムスケジュール◆※ 当日予告なく時
 間配分・内容が変更になる可能性がございます。\n登
 壇者\n\n\n本セミナーは、こんな方におすすめです！\n\n
 DX実現に向け自社の古いシステム／ITリソースを将来に
 向けてなんとかしたい\n2023年10月にWindows Server 2012/R2の
 延長サポートが終了したので対応を検討したい\n2024年6
 月にCentOS Linux 7のコミュニティサポートが終了するの
 で対応を検討したい\n\n参加費\n無料\nハッシュタグ\n#te
 chplayjp #IT #セミナー #お知らせ\n注意事項\n\nリクルーテ
 ィング、勧誘など、採用目的でのイベント参加はお断
 りしております。\nキャンセル待ち・補欠・落選の方
 はご参加いただくことが出来ませんのでご了承くださ
 い。\n欠席される場合は、お手数ですが速やかにキャ
 ンセル処理をお願い致します。\n無断キャンセルや欠
 席が続く場合、次回以降の参加をお断りさせていただ
 く場合がございます。\n
LOCATION:オンライン [Zoomを利用します。 聴講用URLは開始
 直前までにメールでお知らせします。]
URL:https://techplay.jp/event/925376?utm_medium=referral&utm_source=ics&utm
 _campaign=ics
END:VEVENT
END:VCALENDAR
