BEGIN:VCALENDAR
VERSION:2.0
PRODID:-//https://techplay.jp//JP
CALSCALE:GREGORIAN
METHOD:PUBLISH
X-WR-CALDESC:コンテンツマーケーター必見！役立つChatGPT汎
 用プロンプトを紹介！
X-WR-CALNAME:コンテンツマーケーター必見！役立つChatGPT汎
 用プロンプトを紹介！
X-WR-TIMEZONE:Asia/Tokyo
BEGIN:VTIMEZONE
TZID:Asia/Tokyo
BEGIN:STANDARD
DTSTART:19700101T000000
TZOFFSETFROM:+0900
TZOFFSETTO:+0900
TZNAME:JST
END:STANDARD
END:VTIMEZONE
BEGIN:VEVENT
UID:925591@techplay.jp
SUMMARY:コンテンツマーケーター必見！役立つChatGPT汎用プ
 ロンプトを紹介！
DTSTART;TZID=Asia/Tokyo:20231116T140000
DTEND;TZID=Asia/Tokyo:20231116T143000
DTSTAMP:20260420T212426Z
CREATED:20231104T123619Z
DESCRIPTION:イベント詳細はこちら\nhttps://techplay.jp/event/92559
 1?utm_medium=referral&utm_source=ics&utm_campaign=ics\n\nこんな方に
 おすすめ\n\nChatGPTで何ができるのか知りたい方\nChatGPT
 をコンテンツで有効活用する方法を知りたい方\nコン
 テンツマーケティングで使えるプロンプトをまとめて
 知りたい方\n\n\n\n\n開催日\n2023年11月16日(木)\n\n\n\n\n時
 間\n14:00～14:30 (15分前より入室可能)\n\n\n場所\nウェビナ
 ー\n\n\n定員\n30名\n\n\n参加費\n無料\n\n\n登壇者\n水越 貫
 太\n\n\n\nセミナー内容紹介\nコンテンツマーケティング
 で使えるChatGPTのプロンプトを紹介します！ChatGPTが話
 題になって数か月以上が経ちました。実際の業務でChat
 GPTを使うにはコツが必要です。今回はコンテンツマー
 ケティングにおけるChatGPTの活用方法を紹介します。弊
 社のコンテンツディレクターが内部で蓄積したノウハ
 ウを凝縮してお届けします！御社のマーケティング施
 策の一助になれば幸いです。\n株式会社ipeについて\n弊
 社は SEO対策を専業に10年取り組ませて頂いており、KADO
 KAWA様、SUNTORY様、LIXL様をはじめ、ご支援させて頂いた
 企業様は300社以上になります。社内には、分析チーム
 だけではなくコンテンツチーム、エンジニアチームが
 在籍しているため、品質の高い記事作成によるビック
 ワードでの上位化や施策の実装・開発など技術的なフ
 ォローまで一貫してご支援させて頂ける体制となって
 おります。また、UI/UX改善によるCVRの向上を見据えた
 ご支援をさせて頂くことで、検索順位の向上だけでな
 く売り上げ増加までをサポートします。\nTwitterはこち
 ら↓Follow @info_ipe\nクライアント実績一例\n\nウェビナー
 参加特典\nウェビナー参加頂いた方の中でご希望され
 る方には下記の特典をプレゼントします。・「サイト
 無料診断」⇒SEO対策に関するお悩みを解決させて頂く
 相談会を無料でご招待させて頂きます。下記に該当す
 る悩みをお持ちの方に、お役立ていただける内容にな
 っております。\n・検索順位が伸び悩んでいる・今以
 上に流入数を増加させたいが、方法が分からない・流
 入数は確保できているが、CVにつながらない\nプログラ
 ム\n\n\n\n時間\n内容\n\n\n\n\n13:45~14:00\nZOOM入室可能\n\n\n14:
 00~14:30\nChatGPTとはChatGPTでコンテンツを作成するポイン
 トと注意事項今すぐ使えるChatGPTの命令文章を紹介！\n\
 n\n\n株式会社ipe　セールスチーム 水越 貫太早稲田大学
 商学部卒。マーケティングを専攻し、ブランド戦略論
 や消費者行動論を学ぶ。 在学時に、インターンとし
 てipeへ参画。 現在はインサイドセールスとして、持
 ち前の傾聴力で、お客様に寄り添い、お客様の課題解
 決に向けた営業活動を行うなど、新規顧客との接点創
 出に従事している。
LOCATION:オンライン
URL:https://techplay.jp/event/925591?utm_medium=referral&utm_source=ics&utm
 _campaign=ics
END:VEVENT
END:VCALENDAR
