BEGIN:VCALENDAR
VERSION:2.0
PRODID:-//https://techplay.jp//JP
CALSCALE:GREGORIAN
METHOD:PUBLISH
X-WR-CALDESC:【Similarweb×インフォネット共催】 自社・競合
 サイトアクセス分析×デジマの勝ちパターン
X-WR-CALNAME:【Similarweb×インフォネット共催】 自社・競合
 サイトアクセス分析×デジマの勝ちパターン
X-WR-TIMEZONE:Asia/Tokyo
BEGIN:VTIMEZONE
TZID:Asia/Tokyo
BEGIN:STANDARD
DTSTART:19700101T000000
TZOFFSETFROM:+0900
TZOFFSETTO:+0900
TZNAME:JST
END:STANDARD
END:VTIMEZONE
BEGIN:VEVENT
UID:925711@techplay.jp
SUMMARY:【Similarweb×インフォネット共催】 自社・競合サイ
 トアクセス分析×デジマの勝ちパターン
DTSTART;TZID=Asia/Tokyo:20231108T140000
DTEND;TZID=Asia/Tokyo:20231108T150000
DTSTAMP:20260420T111214Z
CREATED:20231106T070543Z
DESCRIPTION:イベント詳細はこちら\nhttps://techplay.jp/event/92571
 1?utm_medium=referral&utm_source=ics&utm_campaign=ics\n\n概要\nBtoBデ
 ジタルマーケティングで成果を上げるポイントを公開
 ！\nBtoB企業におけるデジタルマーケティングは、オフ
 ラインのマーケティング施策に比べ費用対効果が高く
 、その重要性はここ数年で急激に高まっています。し
 かしながら、競争が激化するBtoBデジタルマーケティン
 グで成功するには緻密なデータ分析が欠かせません。
 このたびマーケティング界の注目を集めるデータプロ
 バイダー「Similarweb」と圧倒的にわかりやすい サイト
 アクセス分析ツール「MEGLASS finder」を提供する「イン
 フォネット」がセミナーで初共演。BtoB企業がデジタル
 における競争環境を勝ち抜くためのヒント、そしてデ
 ジマの秘訣を、Similarwebの競合サイト分析とインフォネ
 ットによる自社サイト分析で解き明かします。デジタ
 ルを活用したマーケティングで成功を目指すBtoB企業に
 とって、見逃せない情報とインサイトをお届けします
 。皆様のお申し込みを心よりお待ち申し上げておりま
 す。\n◆こんな方におすすめ\n\n競合のアクセス情報を
 調査したい方\nサイト改善に興味はあるが手のつけど
 ころがわからない方\nできる限り時間をかけずにサイ
 トを改善していきたい方\n\nタイムスケジュール\n\n\n\n
 時間\n内容\n\n\n\n\n14:00〜14:25\nSimilarWeb Japan株式会社 セ
 ールスマネージャー　及川 裕貴競合サイト分析を軸と
 したデジマ施策の導き出し方\n\n\n14:25〜14:50\n株式会社
 インフォネット　メディアプロデュース部　村岡 祐輔
 自社サイトを見える化する！アクセス分析と改善のポ
 イントとは？\n\n\n14:50〜15:00\n質疑応答\n\n\n\n※ 当日予
 告なく時間配分・内容が変更になる可能性がございま
 す。\nこんな方におすすめ\n\n競合のアクセス情報を調
 査したい方\nサイト改善に興味はあるが手のつけどこ
 ろがわからない方\nできる限り時間をかけずにサイト
 を改善していきたい方\n\n参加費\n無料\n注意事項\n\n同
 業他社の方の参加はお断りする場合がございます。\n
 リクルーティング、勧誘など、採用目的でのイベント
 参加はお断りしております。\nキャンセル待ち・補欠
 ・落選の方はご参加いただくことが出来ませんのでご
 了承ください。\n欠席される場合は、お手数ですが速
 やかにキャンセル処理をお願い致します。\n無断キャ
 ンセルや欠席が続く場合、次回以降の参加をお断りさ
 せていただく場合がございます。\n本セミナーは以前
 当社で開催したセミナーと内容が重複する場合がござ
 います。\n
LOCATION:オンライン
URL:https://techplay.jp/event/925711?utm_medium=referral&utm_source=ics&utm
 _campaign=ics
END:VEVENT
END:VCALENDAR
