BEGIN:VCALENDAR
VERSION:2.0
PRODID:-//https://techplay.jp//JP
CALSCALE:GREGORIAN
METHOD:PUBLISH
X-WR-CALDESC:【DX推進戦略Webセミナー】生成AIによる基幹業
 務の定着化
X-WR-CALNAME:【DX推進戦略Webセミナー】生成AIによる基幹業
 務の定着化
X-WR-TIMEZONE:Asia/Tokyo
BEGIN:VTIMEZONE
TZID:Asia/Tokyo
BEGIN:STANDARD
DTSTART:19700101T000000
TZOFFSETFROM:+0900
TZOFFSETTO:+0900
TZNAME:JST
END:STANDARD
END:VTIMEZONE
BEGIN:VEVENT
UID:925713@techplay.jp
SUMMARY:【DX推進戦略Webセミナー】生成AIによる基幹業務の
 定着化
DTSTART;TZID=Asia/Tokyo:20231128T153000
DTEND;TZID=Asia/Tokyo:20231128T170000
DTSTAMP:20260421T153743Z
CREATED:20231106T080305Z
DESCRIPTION:イベント詳細はこちら\nhttps://techplay.jp/event/92571
 3?utm_medium=referral&utm_source=ics&utm_campaign=ics\n\n【DX推進戦
 略Webセミナー】生成AIによる基幹業務の定着化\n概要\n2
 022年末のChatGPTのリリース以来、空前の生成AIブームと
 なっている。生成AIをどこにどう使うかは、様々な可
 能性があり、これが現在のDX推進に与える影響も計り
 知れない。本セミナーでは基幹業務の定着化の切り札
 であるデジタルアダプション（DAP）に生成AIを搭載す
 ることで、その効果を最大化させることができること
 を解説する。\n※本セミナーは、コムチュア株式会社
 とマイメタジャパン株式会社の共催セミナーです。\n
 タイムスケジュール\n\n\n\n時間\n内容\n\n\n\n\n15:20〜\n受
 付開始\n\n\n15:30〜15:35\nオープニング\n\n\n15:35〜16:05\n生
 成AI克服に向けてSOMPOシステムズ株式会社　会長　浦川
  伸一 氏\n\n\n16:05〜16:35\nデジタルアダプションと生成AI
 によるDXの定着化マイメタジャパン株式会社　代表取
 締役社長　坂寄 嗣俊\n\n\n16:35〜16:55\nコムチュアのDXに
 よる業務改革ソリューションとmyMetaへの取り組みコム
 チュア株式会社　クラウドサービスインテグレーショ
 ン本部部長　田村 嘉史\n\n\n16:55〜17:00\n質疑応答\n\n\n\n
 登壇者\n浦川 伸一 氏\nSOMPOシステムズ株式会社 会長\n
 日本IBM出身、損保ジャパン日本興亜（現損保ジャパン
 ）執行役員CTO、損保ジャパン日本興亜システムズ（現S
 OMPOシステムズ）代表取締役社長。損保ジャパン取締役
 専務執行役員CIOを経て現在SOMPOシステムズ会長。また
 経団連DX会議タスクフォース座長、デジタルエコノミ
 ー推進委員会企画部会長、立教大学大学院人工知能科
 学研究科客員教授、株式会社スカイエージ代表取締役
 の肩書を持つ。\n\n\n坂寄 嗣俊\nマイメタジャパン株式
 会社 代表取締役社長\n日本IBM出身、SAPジャパン西日本
 支社長を経てManugisticsジャパン（後にBlue Yonderとなりパ
 ナソニックコネクト社が買収）、日本BroadVision（代表
 を2度経験）、InterSystemsジャパンの日本代表を経験。現
 在マイメタジャパン代表取締役。BroadVision Groupのマネ
 ージングディレクタ、Vmoso Inc.の日本代表を兼任。\n\n\n
 田村 嘉史\nコムチュア株式会社クラウドソリューショ
 ン事業部 クラウドサービスインテグレーション本部ク
 ラウドサービスインテグレーション第三部　部長\nグ
 ループウェア基盤であるNotesのアプリケーション開発
 者として、社内利用のワークフローアプリを多数開発
 し、お客様の社内業務効率化に貢献。2017年よりBPMS業
 務アプリの開発部門で、プロジェクトマネージャーと
 して単なるワークフローアプリの開発にとどまらない
 、業務プロセス電子化プロジェクトを推進。現在はBPMS
 業務アプリ開発、各種システムとの連携による基幹業
 務の定着化を含めた真のDXをお客様に提案中。\n\n参加
 対象\n\nDXにご関心のある経営者様\n生成AIの導入社内推
 進のご担当者様\n経営管理ご担当者様\n情報システム部
 門ご担当者様\n\n参加費\n無料\n注意事項\n\n本セミナー
 は企業様向けのセミナーとなります。\n競合製品をお
 取り扱いの企業様からのお申込についてはお断りする
 場合があります。\nフリーメールでのお申込みは、参
 加をお断りさせていただいております。予めご了承く
 ださい。\nご視聴用URLは、セミナー開催前日までにZoom 
 <no-reply@zoom.us> からご案内いたします。\nコムチュア株
 式会社とマイメタジャパン株式会社（myMeta Software Inc.
 ）のプライバシーポリシーをご確認の上、お申込くだ
 さい。\n\n　・コムチュア株式会社 プライバシーポリ
 シー　・マイメタジャパン株式会社（myMeta Software Inc.
 ）プライバシーポリシー
LOCATION:オンライン（Zoomでの配信）
URL:https://techplay.jp/event/925713?utm_medium=referral&utm_source=ics&utm
 _campaign=ics
END:VEVENT
END:VCALENDAR
