BEGIN:VCALENDAR
VERSION:2.0
PRODID:-//https://techplay.jp//JP
CALSCALE:GREGORIAN
METHOD:PUBLISH
X-WR-CALDESC:経営者必見：生成AIとリスキリングがもたらす
 企業DXの変革。月50時間の作業工数を削減し、企業の生
 産性向上を実現する方法
X-WR-CALNAME:経営者必見：生成AIとリスキリングがもたらす
 企業DXの変革。月50時間の作業工数を削減し、企業の生
 産性向上を実現する方法
X-WR-TIMEZONE:Asia/Tokyo
BEGIN:VTIMEZONE
TZID:Asia/Tokyo
BEGIN:STANDARD
DTSTART:19700101T000000
TZOFFSETFROM:+0900
TZOFFSETTO:+0900
TZNAME:JST
END:STANDARD
END:VTIMEZONE
BEGIN:VEVENT
UID:925878@techplay.jp
SUMMARY:経営者必見：生成AIとリスキリングがもたらす企
 業DXの変革。月50時間の作業工数を削減し、企業の生産
 性向上を実現する方法
DTSTART;TZID=Asia/Tokyo:20231115T160000
DTEND;TZID=Asia/Tokyo:20231115T170000
DTSTAMP:20260425T120038Z
CREATED:20231107T140709Z
DESCRIPTION:イベント詳細はこちら\nhttps://techplay.jp/event/92587
 8?utm_medium=referral&utm_source=ics&utm_campaign=ics\n\nこんな方に
 オススメ\n\n社内でAI人材の育成がしたい方\n最新の生
 成AIトレンドをキャッチアップしたい方\n生成AIをビジ
 ネスに活用し、業務効率の改善をしたい方\nAI人材の育
 成と生成AIの活用法についての具体的な成功事例を知
 りたい方\nDX推進部門ご担当者様・部長以上のご担当者
 様\n\nセミナー概要\n昨今話題になっているChatGPTなどの
 「生成AI」は、業務効率化ツールとして多くの企業に
 おいて活用されています。急速な変化に対応するため
 に、新しいAIの活用スキルや知識の取得は企業にとっ
 て必要不可欠となっており、その背景からも現在リス
 キリングが注目されています。\n中小企業において、
 生成AIを活用できるDX人材を育成することで、劇的に生
 産性を向上し継続的な賃上げが実現します。ですが、
 国家施策や大企業向けの施策が多く提供される中、日
 本の99.7%を占める中小企業向けの施策に関する情報が
 不足しています。\n本セミナーでは、ChatGPTをカスタマ
 イズしたサービスを提供する、株式会社デジライズの
 代表取締役でAIスペシャリストであるチャエン氏とAIリ
 スキリングの事業責任者である堤氏が登壇し、中小企
 業におけるリスキリングの必要性や業務改革の効果に
 ついて詳しくご紹介します。また、生成AIを活用した
 業務生産性向上の成功事例をもとに、具体的な取り組
 み方や成功のポイントを解説いたします。\n講師紹介\n
 株式会社デジライズ代表取締役茶圓 将裕 氏■経歴法
 人向けのAI研修、及び企業向けChatGPTを開発する株式会
 社デジライズをはじめ、他数社の代表取締役。GMO AI & W
 eb3株式会社など他数社の顧問も兼任。Twitterはフォロワ
 ー9.1万人。日本初AIツール検索サイト「AI Database」やAI
 との英会話できる「AI英会話」など複数のAIサービスも
 開発。ABEMAやTBSテレビなどメディア出演も多数。Twitter:
 @masahirochaen\n株式会社デジライズ取締役堤 雄三 氏■経
 歴2023年6月　デジライズ取締役就任中小企業特化型の
 「AI SaaS」×「リスキリング」サービスの事業開発責任
 者。SaaS事業のCSO/CMOとして複数社の取締役を兼任。元
 あしたのチーム取締役として、中小企業の人事評価制
 度導入者数4\,000社・個人として400社以上の支援実績。
 中小企業の人的資本経営・生産性向上・賃上げの仕組
 化が専門領域。\nセミナー詳細\n\n\n\n\n\n\n\n\n\nタイトル
 \n経営者必見：生成AIとリスキリングがもたらす企業DX
 の変革月50時間の作業工数を削減し、企業の生産性向
 上を実現する方法\n\n\n日時\n2023年11月15日(水)16:00~17:00\n
 \n\n参加費\n無料\n\n\n主催\nスターティアレイズ株式会
 社\n\n\n\n・お申込みいただいた際に、Zoom登録用URLをご
 登録いただいたメールアドレスに送付致します。・セ
 ミナー当日のご参加も可能です。・プログラムは、都
 合により予告無く変更する場合がございます。・ユー
 ザー企業様向けのセミナーの為、同業者様のご参加は
 お断りさせていただく場合がございます。\nセミナー
 プログラム\n01	講師紹介02	リスキリングが求められる
 時代背景03	リスキリングの概要04	中小企業こそがAIリ
 スキリングで劇的な生産性向上を実現できる05	最新の
 生成AIトレンド06	業務で活用できる生成AI活用法07	SMBリ
 スキリングサービス紹介08	補助金・助成金の概要
LOCATION:オンライン（Zoom）
URL:https://techplay.jp/event/925878?utm_medium=referral&utm_source=ics&utm
 _campaign=ics
END:VEVENT
END:VCALENDAR
