BEGIN:VCALENDAR
VERSION:2.0
PRODID:-//https://techplay.jp//JP
CALSCALE:GREGORIAN
METHOD:PUBLISH
X-WR-CALDESC:工務店の集客術を徹底解説！絶対に試したい3
 つの施策とは
X-WR-CALNAME:工務店の集客術を徹底解説！絶対に試したい3
 つの施策とは
X-WR-TIMEZONE:Asia/Tokyo
BEGIN:VTIMEZONE
TZID:Asia/Tokyo
BEGIN:STANDARD
DTSTART:19700101T000000
TZOFFSETFROM:+0900
TZOFFSETTO:+0900
TZNAME:JST
END:STANDARD
END:VTIMEZONE
BEGIN:VEVENT
UID:926072@techplay.jp
SUMMARY:工務店の集客術を徹底解説！絶対に試したい3つの
 施策とは
DTSTART;TZID=Asia/Tokyo:20231208T120000
DTEND;TZID=Asia/Tokyo:20231208T133000
DTSTAMP:20260420T172922Z
CREATED:20231109T044208Z
DESCRIPTION:イベント詳細はこちら\nhttps://techplay.jp/event/92607
 2?utm_medium=referral&utm_source=ics&utm_campaign=ics\n\n工務店の集
 客術を徹底解説！絶対に試したい3つの施策とは\n概要\
 n第一部（12:00-12:25）：株式会社BESW\n住宅業界で試して
 ほしい！効果的なSNSのオーガニック運用法とは？\n今
 や全年代の70%以上が毎日SNS検索を利用しています。住
 宅業界において特に人気が高まっているのが**「Instagra
 m」。ですが、「押さえるべきポイント」**を知ってい
 る企業は実はとても少ないです。今回は住宅業界×Insta
 gramに徹底フォーカス！認知を最大化させる投稿・コミ
 ュニケーション術や、運用をルーチン化させる考え方
 など、最新事例も交えて解説しながらご紹介いたます
 ！\n田中 千晶（Tanaka Chiaki）\n株式会社BESW　代表取締役
 社長2009年、大学在学中に会社を設立し、1年半で大手
 企業、中小企業50社と取引をする。Webプロモーション
 支援を得意とし、特にSNS活用支援で多くの実績をもつ
 。2012年から全国各地でセミナーを精力的に実施。シリ
 コンバレーのFacebook本社やTwitter本社へ毎年出向いて直
 接SNSの最先端情報を仕入れてきている。角川出版社、
 マイナビ社、技術評論社、翔泳社、インプレス社でマ
 ーケティング支援の書籍を6冊出版。連載も7社で行う
 。 自身のラジオ番組、パーソナリティとしても活動し
 、SNSの最新情報を届けている。\n– 学べること –\n\nSN
 Sの運用戦略の立て方\nSNS最新動向\nSNS(Instagram/Twitter/Face
 book)を活用した成功事例\n\n– こんな方にオススメ –\n
 \n今後、SNS集客を強化していきたい方\nSNSアカウントの
 戦略にお悩みの方\n集客にお困りのマーケティング担
 当者\nSNSを効果的に活用したい方\n費用をかけずに集客
 ・売上増加につなげたい方\n\n\n第二部（12:25-12:50）：
 株式会社ザメディアジョン\n自社の魅力を1冊に！オリ
 ジナル雑誌×ルームツアー動画で集客・ブランド構築
 を成功させる！\nWEBやSNS広告の戦国時代。他社と同じ
 手法をとっていたのでは、WEBやSNSで集客やブランディ
 ングを成功させるのが難しくなっています。自社の魅
 力を1冊にまとめる**「オリジナル雑誌」とルームツア
 ー動画やWEB、SNSを組み合わせたプロモーションを行う*
 *ことで、集客・ブランディングに成功されている企業
 様の事例をご紹介します。\n\n乃万 郁美（Ikumi Noma）\n
 株式会社ザメディアジョン　メディアマーケティング
 事業部　課長2018年に出版社「株式会社ザメディアジョ
 ン」に入社し、メディアマーケティング事業部に所属
 。住宅メディアプランナーとして、全国の住宅会社様
 、リフォーム会社様のプロモーションの支援を行って
 いる。住宅業界に特化したコンテンツの制作を得意と
 し、雑誌やパンフレットなどのオフラインのツールか
 ら、ルームツアー動画やWEB、SNSなどのオンラインのツ
 ールまでご提案している。豊富な実績と成功事例に基
 づいた提案で、会社様のプロモーションを成功に導い
 ている。\n– 学べること –\n\n紙媒体(雑誌)を使っての
 プロモーション/ブランディング実例\nデジタルマーケ
 ティング全盛の時代において、紙媒体を活用する価値\
 nアナログ(雑誌)とデジタル(WEB・SNS)を組み合わせたプ
 ロモーション\nルームツアー動画の活用\n\n\n– こんな
 方にオススメ –\n\nマーケティング/ブランディング担
 当者様\n成約率の低さにお悩みの営業担当者様\n自社ブ
 ランドの「信頼」を獲得したい方\n\n\n第三部（12:50-13:1
 5）：株式会社コンベックス\n来場を増やす！集客後の
 来場率・コンタクト率を高めるアプローチ方法\n資材
 高騰や金利動向など、さまざまな影響で多くの工務店
 様にて住宅着工棟数が伸び悩んでおります。安定した
 契約数を得るには集客数を増やす取組みが重要です。
 そして、それと同時に集客したお客様を来場につなげ
 ることが大切です。本セミナーでは全国の住宅会社様
 をご支援している中で成果に繋がった、来場率を向上
 させ、契約率を高める方法をお伝えします。明日から
 活用できる情報を凝縮してお伝えしますので是非ご参
 加ください。\n\n田島 隆之介 (Tajima Ryunosuke)\n株式会社
 コンベックス　プロダクトソリューション部　コンサ
 ルタント大学を卒業後、住宅・不動産会社向け営業自
 動化システム「Digima」を展開するコンベックス社に入
 社し、現在プロダクトセールスチームにコンサルタン
 トとして所属。会社ミッションである「世界中に良縁
 を」を実現する為、Digimaによって住宅・不動産会社様
 とお客様の良縁関係を構築し、集客後の来場率・契約
 率の向上を目指し営業面の支援をしている。\n– 学べ
 ること –\n\n集客した後の来場率が高いアプローチ方
 法\nお客様からメール、SMSで返信率が高く、コンタク
 トが取れるポイント\n今すぐの検討ではないお客様を
 契約に繋げるフォロー\n\n\n– こんな方にオススメ –\n
 \n集客したお客様コンタクトが取れないとお感じの方\n
 集客後の来場率、契約率をより高めていきたい方\nお
 忙しくて中長期のお客様へのフォローに手が回らない
 方\n\n\nセミナー詳細情報\n【日程】 12月8日(金)　12:00～
 13:30\n【開催形式】オンライン（※WEBツール：Zoom）\n【
 タイムスケジュール】　　株式会社BESW　12:00-12:25　　
 株式会社ザメディアジョン　12:25-12:50　　株式会社コ
 ンベックス　12:50-13:15　　質疑応答 13:15-13:30\n【注意事
 項】\n\nWEBのみの開催となりますので、ご了承ください
 。エントリーいただいた方に、前日までにWEBセミナー
 開催のURLをお送りします。\n競合、同業社様のご参加
 はお断りいたします。\n\nお申込が予定数を超過した場
 合は、早期受付終了とさせていただく場合がございま
 す。お申込後のキャンセルが発生した場合は再受付さ
 せていただく事がございますので、ご参加が難しくな
 った際は下記までご連絡いただきますようお願い申し
 上げます。＜株式会社BESW　セミナー運営担当 03-5829-351
 0＞
LOCATION:オンライン
URL:https://techplay.jp/event/926072?utm_medium=referral&utm_source=ics&utm
 _campaign=ics
END:VEVENT
END:VCALENDAR
