BEGIN:VCALENDAR
VERSION:2.0
PRODID:-//https://techplay.jp//JP
CALSCALE:GREGORIAN
METHOD:PUBLISH
X-WR-CALDESC:12/20（水）金融業・公共団体向け AWSを活用し
 たサイバーセキュリティ対策ウェビナー開催のお知ら
 せ
X-WR-CALNAME:12/20（水）金融業・公共団体向け AWSを活用し
 たサイバーセキュリティ対策ウェビナー開催のお知ら
 せ
X-WR-TIMEZONE:Asia/Tokyo
BEGIN:VTIMEZONE
TZID:Asia/Tokyo
BEGIN:STANDARD
DTSTART:19700101T000000
TZOFFSETFROM:+0900
TZOFFSETTO:+0900
TZNAME:JST
END:STANDARD
END:VTIMEZONE
BEGIN:VEVENT
UID:926123@techplay.jp
SUMMARY:12/20（水）金融業・公共団体向け AWSを活用したサ
 イバーセキュリティ対策ウェビナー開催のお知らせ
DTSTART;TZID=Asia/Tokyo:20231220T150000
DTEND;TZID=Asia/Tokyo:20231220T160000
DTSTAMP:20260423T112650Z
CREATED:20231109T083832Z
DESCRIPTION:イベント詳細はこちら\nhttps://techplay.jp/event/92612
 3?utm_medium=referral&utm_source=ics&utm_campaign=ics\n\n12/20（水）
 金融業・公共団体向け AWSを活用したサイバーセキュリ
 ティ対策ウェビナー\n概要\n株式会社TOKAIコミュニケー
 ションズは、2023年12月20日（水）に金融業・公共団体
 の方向けに、AWSを活用したサイバーセキュリティ対策
 セミナーを開催いたします。\nサイバー攻撃の手口は
 日々巧妙となり、いつどこからウイルスが侵入するか
 分かりません。AWSを活用すれば、社内インターネット
 にアクセスせずとも、社内とほぼ同様のセキュアな業
 務環境が実現できます。さらに社内の重要な情報資産
 を守るために、ネットワーク環境を整えておくことも
 重要なポイントです。\n今回は、AWSのセキュリティ、
 金融業界・公共団体におけるネットワーク分離の現状
 と課題、対策方法、お客様事例をご紹介します。また
 、AWSが提供する「金融・公共団体向けセキュリティア
 セスメント評価シート」を基に、対策方法を紹介しま
 す。\n\n\nこんな方にオススメです\n・高品質、安全、
 低コストな接続環境を実現したい・短期間でサイバー
 攻撃対策を実施したい・AWSを利用したいが、セキュリ
 ティに懸念がある・国や総務省、金融庁のガイドライ
 ンに沿った対策を実現したい\n皆様のご参加を心より
 お待ちしております。\nセミナー名称\nネットワーク分
 離で金融業・公共団体のサイバーセキュリティ対策を
 強化しませんか？～AWSで実現する方法をわかりやすく
 解説～\nタイムスケジュール\n\n\n\n時間\n内容\n\n\n\n\n14:
 45～15:00\n受付開始\n\n\n15:00～15:05\n講演開始のご案内\n\n
 \n15:05～15:20\n金融・公共団体が備えるべき、サイバー
 攻撃対策とは（仮）講師：アマゾン ウェブ サービス 
 ジャパン合同会社\n\n\n15:20～15:35\nAWSが提供するセキュ
 リティサービス（仮）講師：アマゾン ウェブ サービ
 ス ジャパン合同会社\n\n\n15:35～15:50\n構築例からわかる
 、ネットワーク分離とは？（仮）講師：株式会社TOKAI
 コミュニケーションズ\n\n\n15:50～15:55\n質疑応答\n\n\n15:5
 5～16:00\n講演終了のご案内\n\n\n\n参加費\n無料\n参加方
 法\n申込ページからお申込みをお願いします。※お申
 込み期限　開催日当日の14:30までZoomウェビナーを使用
 し、開催します。事前にZoomウェビナーにアクセスでき
 るブラウザ環境（Google Chrome、MozillFirefox）を準備いた
 だき、環境チェックをお願いします。（環境チェックU
 RL　 https://zoom.us/test）\n※同業他社の方のお申込み/ご
 参加はお断りしております。\n共催\n株式会社TOKAIコミ
 ュニケーションズアマゾン ウェブ サービス ジャパン
 合同会社\n注意事項\n\nリクルーティング、勧誘など、
 採用目的でのイベント参加はお断りしております。\n
 キャンセル待ち・補欠・落選の方はご参加いただくこ
 とが出来ませんのでご了承ください。\n欠席される場
 合は、お手数ですが速やかにキャンセル処理をお願い
 致します。\n無断キャンセルや欠席が続く場合、次回
 以降の参加をお断りさせていただく場合がございます
 。\n申込時アンケートを正確に回答頂けていない場合
 、個別にご連絡させていただく場合がございます。\n
LOCATION:オンライン
URL:https://techplay.jp/event/926123?utm_medium=referral&utm_source=ics&utm
 _campaign=ics
END:VEVENT
END:VCALENDAR
