BEGIN:VCALENDAR
VERSION:2.0
PRODID:-//https://techplay.jp//JP
CALSCALE:GREGORIAN
METHOD:PUBLISH
X-WR-CALDESC:【初心者歓迎】ゼロから始める生成AI勉強会
X-WR-CALNAME:【初心者歓迎】ゼロから始める生成AI勉強会
X-WR-TIMEZONE:Asia/Tokyo
BEGIN:VTIMEZONE
TZID:Asia/Tokyo
BEGIN:STANDARD
DTSTART:19700101T000000
TZOFFSETFROM:+0900
TZOFFSETTO:+0900
TZNAME:JST
END:STANDARD
END:VTIMEZONE
BEGIN:VEVENT
UID:926130@techplay.jp
SUMMARY:【初心者歓迎】ゼロから始める生成AI勉強会
DTSTART;TZID=Asia/Tokyo:20231126T130000
DTEND;TZID=Asia/Tokyo:20231126T180000
DTSTAMP:20260426T005841Z
CREATED:20231109T121444Z
DESCRIPTION:イベント詳細はこちら\nhttps://techplay.jp/event/92613
 0?utm_medium=referral&utm_source=ics&utm_campaign=ics\n\n【初心者歓
 迎】ゼロから始める生成AI勉強会\n概要\n5時間で画像生
 成AI の基本を学べます。今回の講座の内容をマスター
 すれば、画像生成AI で様々な画像を生成できるように
 なります。途中で適宜休憩をはさみますので、無理な
 く学習することができます。\nStable Diffusion と Blender と
 いうツールを用いますが、Stable Diffusion や Blender を使
 ったことがない方でも、ついてこれる内容です。\nま
 ず、2時間の講座で、Stable Diffusion や Blender のインスト
 ールや基本的な使い方を学んでいただきます。その後
 、希望される方限定で、実際にお手持ちのパソコンで
 画像生成を行う実技を3時間行います。実技の時間では
 、講師に何度でも質問できるので、確実に画像生成の
 スキルを身につけることができます。\n講座を通じて
 得られること\n・AI で画像を作る方法の基礎・自分の
 好みの画像を出力する方法\n内容\nStable diffusion と Blende
 r で画像を作成します。Stable diffusion のインストールと
 よく使う設定を行います。初心者でも簡単にきれいな
 イラストを作れる基礎を指導します。\nこんな人にお
 すすめ\n・画像生成AIを使ってみたいけどやり方がわか
 らない方・画像生成AIで好みのイラストを生成したい
 人\n場所\n新宿駅からすぐの場所にあります。\nふれあ
 い貸し会議室 新宿No65東京都新宿区新宿4-2-21 相模ビル 
 5階地図はこちら\n講師\n榊正宗は1973年8月24日に福岡県
 で生まれ、日本のCGクリエイター 、キャラクター企画
 者、映像作家、作家、そしてゲームディレクタ ーとし
 て広範な活動を展開しています。彼はキャラクター企
 画者として「東北ずん子＆ずんだもん」の企画原作を
 担当し、作家として は「社長少女 PRESIDENT GIRL」を発表
 しています。また、アニメ「 アイドルマスターシンデ
 レラガールズU149」や「無職転生〜異世 界行ったら本
 気だす〜」などのプロジェクトにも関与しており、こ
 れらの活動を通じてエンターテイメントの分野で多く
 のクリエイティブな貢献をしています。 https://twitter.co
 m/megamarsun\n過去の実績・Linuxサーバー管理　　非常勤講
 師　（2002年）・御茶ノ水美術専門学校　Flashアニメー
 ション　非常勤講師（2015年ごろ）・日本工学院専門学
 校　MAYAアニメーション　非常勤講師（2017年ごろ）・
 代々木アニメーション学院　Blender３Dレイアウト・モ
 デリング　非常勤講師（2020年～）\n持ち物\n当日は、
 ノートパソコン(Windows、Mac どちらでも可能)をご持参下
 されば、実技として一緒に学びながら画像の完成まで
 を体験出来ます。実技を希望しない場合、ノートパソ
 コンなしの聴講のみ受講も可能です。\n領収書につい
 て\nクレジットカード会社が明細を発行しますので、
 そちらを領収書の代わりとして利用可能です。現金払
 いの方で、領収書をご希望の方は、現地でお申し出く
 ださい。\nタイムテーブル\n12:45　受付開始(以降、随時
 入室できます)13:00〜15:00　画像生成AI講座15:00〜18:00　
 画像生成AI実技\n適宜短時間の休憩を取ります。\nお問
 い合わせ\n・メールでのお問い合わせは、m@jiyu.green ま
 でご連絡ください。・X(Twitter) のDMでも問い合わせ可能
 です。「イベントの件」とメッセージの最初に書いて
 ください。\n注意事項\n・リクルーティング、勧誘、採
 用活動など、目的に沿わない行為につきまして、主催
 者が相応しくないと判断した場合は即刻退出処分とし
 ます。全員が気持ちよく過ごすことが出来るよう、ご
 協力をお願い致します。・個人ブログへの講義コンテ
 ンツの掲載はご遠慮ください。・最小遂行人数は「10
 名」です。開催日の前日までにこの人数に達しない場
 合は中止となります。ただし、複数の媒体で募集を行
 っているので、本サイトの申込者数が最小遂行人数に
 達しない場合でも開催になる場合がございます。もし
 、中止が決定した場合はその時点で登録しているメー
 ルアドレスにご連絡させていただきます。\nBlendAIとは\
 nBlendAI（ブレンドアイ）は、AIによるアニメ制作の技術
 検証をするアカウントです。AI技術でアニメのキャラ
 クターや背景、音声などを生成・分析します。AIとBlend
 erとアニメに関心がある方はフォローしてください。Bl
 endAIは現在法人化を準備しているプロジェクトです。AI
 とアニメの可能性を一緒に探求しましょう。
LOCATION:ふれあい貸し会議室 新宿No12 東京都新宿区西新宿
 7丁目8-11 中川ビル6階
URL:https://techplay.jp/event/926130?utm_medium=referral&utm_source=ics&utm
 _campaign=ics
END:VEVENT
END:VCALENDAR
