BEGIN:VCALENDAR
VERSION:2.0
PRODID:-//https://techplay.jp//JP
CALSCALE:GREGORIAN
METHOD:PUBLISH
X-WR-CALDESC:【ソフトウェア品質向上セミナー】いま組み
 込み開発に求められるソフトウェア品質対応とは？安
 全性、セキュリティを担保するMISRA、CERT活用の最新ト
 レンド
X-WR-CALNAME:【ソフトウェア品質向上セミナー】いま組み
 込み開発に求められるソフトウェア品質対応とは？安
 全性、セキュリティを担保するMISRA、CERT活用の最新ト
 レンド
X-WR-TIMEZONE:Asia/Tokyo
BEGIN:VTIMEZONE
TZID:Asia/Tokyo
BEGIN:STANDARD
DTSTART:19700101T000000
TZOFFSETFROM:+0900
TZOFFSETTO:+0900
TZNAME:JST
END:STANDARD
END:VTIMEZONE
BEGIN:VEVENT
UID:926227@techplay.jp
SUMMARY:【ソフトウェア品質向上セミナー】いま組み込み
 開発に求められるソフトウェア品質対応とは？安全性
 、セキュリティを担保するMISRA、CERT活用の最新トレン
 ド
DTSTART;TZID=Asia/Tokyo:20231201T133000
DTEND;TZID=Asia/Tokyo:20231201T163000
DTSTAMP:20260419T163947Z
CREATED:20231110T060231Z
DESCRIPTION:イベント詳細はこちら\nhttps://techplay.jp/event/92622
 7?utm_medium=referral&utm_source=ics&utm_campaign=ics\n\n開催概要\n
 昨今、組み込み機器においてソフトウェアが大きな役
 割を担うようになり、ソフトウェア品質向上への取り
 組みがますます重要になっています。高まる安全性へ
 の要求や、IoT活用などで増加するセキュリティ脅威に
 対応するためには、MISRA、CERTなどの有効なコーディン
 グ規約への準拠が欠かせない要素のひとつです。\nMISRA
 、CERTは、組み込みソフトウェア開発の安全性やセキュ
 リティ担保において、自動車や医療機器などのミッシ
 ョンクリティカルな開発をはじめとしたさまざまな業
 界で活用され、いまやデファクトスタンダードとなっ
 ているコーディング規約です。MISRAは最新版MISRA C:2023
 が公開され、AUTOSARとの統合などが行われるMISRA C++:2023 
 (公開予定) を含めいま注目が集まっています。また、
 セキュアコーディングの視点では、昨今のサイバーセ
 キュリティ対応の必要性から、多くの企業においてCERT
 のコーディング規約の活用が進んでいます。\nそこで
 本セミナーでは、セキュアコーディングの啓蒙活動を
 されているJPCERT/CC様、MISRAワーキンググループのメン
 バーであるParasoft社を特別講師にお招きし、近年の脆
 弱性のトレンドやCERTを活用したセキュアコーディング
 手法、最新のMISRAコーディング規約への対応のポイン
 トなどをご紹介します。\nさらに、セーフティ＆セキ
 ュリティクリティカルな車載ソフトウェア開発におい
 て全社的なソフトウェアテストに取り組まれているフ
 ォルクスワーゲン様の事例や、テクマトリックスから
 は組み込みソフトウェア開発の安全性、セキュリティ
 を担保するテストソリューションについてご紹介しま
 す。組み込みソフトウェア開発の安全性やセキュリテ
 ィ対応に取り組まれている方や、近年の脆弱性のトレ
 ンドやセキュアコーディング対応、最新のMISRAコーデ
 ィング規約についてご興味のある方は、ぜひご参加く
 ださい。\n＜こんな方におすすめ＞\n\nMISRA、CERTのコー
 ディング規約準拠を検討されている方​\n組み込みソ
 フトウェアの安全性、セキュリティ対応に取り組まれ
 ている方​\nソフトウェア脆弱性のトレンド、セキュ
 アコーディングガイドラインに興味ある方​\n最新MISRA
  C:2023、MISRA C++:2023について知りたい方\n\n主催\nテクマ
 トリックス株式会社\nアジェンダ\n１．脆弱性対応から
 セキュア開発へ、JPCERT/CCの経験から　　一般社団法人J
 PCERTコーディネーションセンター\n２．	MISRA C:2023につ
 いて知っておくべきこと　　Parasoft Corporation (MISRA ワー
 キングメンバー)\n３．ソフトウェアの安全性、セキュ
 リティを担保するテストソリューション　　テクマト
 リックス株式会社\n４．	「セーフティ＆セキュリティ
 」クリティカルなソフトウェアテストを全社規模で実
 現する　　The Volkswagen AG in Wolfsburg\, Germany (フォルクス
 ワーゲン)\n５．	(仮)最新MISRA C++:2023についての特別講
 演　　Parasoft Corporation (MISRA ワーキングメンバー)\n※ 
 当日予告なく内容が変更になる可能性がございます。\
 n※セッション4のフォルクスワーゲン様の講演は、昨
 年6月17日に開催した車載ソフトウェア品質向上セミナ
 ーの講演動画の再配信となります。本講演は、Parasoft S
 oftware Testing & Compliance Summit 2022の一部を翻訳したもので
 す。(https://alm.parasoft.com/software-testing-compliance-summit-2022) 
 Disclaimer: VW webinar recording is part of Parasoft Software Testing & C
 ompliance Summit 2022\n※セッション５は、公開予定のMISRA C+
 +:2023について最新情報をお届けする講演を準備してい
 ますが、MISRA C++:2023の公開タイミングによっては、当
 日セッション5は実施できない可能性がございますので
 ご了承ください。その場合、当日の講演はセッション4
 までとさせていただき、セッション5につきましては、
 お申込みいただいた方に後日講演動画をご案内させて
 いただきます。\n会場\n本セミナーは、Zoomを使用したWE
 Bセミナーとなります。WEBブラウザーより簡単にセミナ
 ーへご参加いただけます。\n参加方法\n１．お申し込み
 いただきますと「参加者へのお知らせ」に申し込みURL
 が表示されます。２．申し込みURLへアクセスしご登録
 ください。(募集期間中に本登録までお済ませください
 )３．ご登録後、受付メール（Webinarへの参加方法）を
 お送りします。\n想定受講者\n\nMISRA、CERTのコーディン
 グ規約準拠を検討されている方​\n組み込みソフトウ
 ェアの安全性、セキュリティ対応に取り組まれている
 方​\nソフトウェア脆弱性のトレンド、セキュアコー
 ディングガイドラインに興味ある方​\n最新MISRA C:2023
 、MISRA C++:2023について知りたい方\n\nお問い合わせ\nテ
 クマトリックス株式会社　ソフトウェアエンジニアリ
 ング事業部\n「静的解析・単体テストツール C/C++test」
 公式サイト
LOCATION:オンラインセミナー
URL:https://techplay.jp/event/926227?utm_medium=referral&utm_source=ics&utm
 _campaign=ics
END:VEVENT
END:VCALENDAR
