BEGIN:VCALENDAR
VERSION:2.0
PRODID:-//https://techplay.jp//JP
CALSCALE:GREGORIAN
METHOD:PUBLISH
X-WR-CALDESC:unerryとはじめる”人流ビッグデータ”活用【20
 23年11月】
X-WR-CALNAME:unerryとはじめる”人流ビッグデータ”活用【20
 23年11月】
X-WR-TIMEZONE:Asia/Tokyo
BEGIN:VTIMEZONE
TZID:Asia/Tokyo
BEGIN:STANDARD
DTSTART:19700101T000000
TZOFFSETFROM:+0900
TZOFFSETTO:+0900
TZNAME:JST
END:STANDARD
END:VTIMEZONE
BEGIN:VEVENT
UID:926442@techplay.jp
SUMMARY:unerryとはじめる”人流ビッグデータ”活用【2023年
 11月】
DTSTART;TZID=Asia/Tokyo:20231128T130000
DTEND;TZID=Asia/Tokyo:20231128T140000
DTSTAMP:20260421T203513Z
CREATED:20231113T031310Z
DESCRIPTION:イベント詳細はこちら\nhttps://techplay.jp/event/92644
 2?utm_medium=referral&utm_source=ics&utm_campaign=ics\n\nunerryとはじ
 める”人流ビッグデータ”活用【2023年11月】\n概要\n人
 流ビッグデータからは、地域生活者の移動や観光客の
 来訪状況、流通店舗等のショッパーマーケティング情
 報など、さまざまなことがわかります。\n本セミナー
 では、月間800億件超の人流ビッグデータを解析してい
 るunerryが、「人流データからどのようなことがわかる
 のか」「どのような活用方法があるのか」を、具体的
 にご紹介します。これから人流データの活用を検討し
 たい、という初級者の方にもおすすめのセミナーです
 。\nまた、今月のトピックは「メーカー様必見！デジ
 タル広告が店頭送客、売上拡大につながった事例の紹
 介」です。 「デジタル広告を出稿しているが効果があ
 ったのか」「小売業さまとのお取組において、売場展
 開に効果があったと言えるのか」など、位置情報を活
 用した効果の検証と効果的な店頭送客の事例をご紹介
 します。\n※ 当日予告なく時間配分・内容が変更にな
 る可能性がございます。\n\n参加対象\n\n人流データの
 種類や活用方法を知りたい方\n地域生活者や消費者の
 行動がどのように計測、分析できるか興味のある方\nun
 erry提供サービスの概要を知りたい方\n\n参加費\n無料\n
 注意事項\n\nセミナーの内容は予告なく、一部変更にな
 る場合がございます。\nセミナーの録画、録音、 撮影
 については固くお断りいたします。\n競合他社様のご
 参加は、 お断りすることがございます。\n当セミナー
 お申し込みでご提供頂きましたお客様の個人情報は、 
 当社および登壇企業からのサービス紹介、セミナー・
 展示等のご案内、及びアンケート調査依頼、 その他関
 連する事業活動の目的以外には利用いたしません。\n
 キャンセル待ち・補欠・落選の方はご参加いただくこ
 とが出来ませんのでご了承ください。\n欠席される場
 合は、お手数ですが速やかにキャンセル処理をお願い
 致します。\n無断キャンセルや欠席が続く場合、次回
 以降の参加をお断りさせていただく場合がございます
 。\n
LOCATION:オンライン
URL:https://techplay.jp/event/926442?utm_medium=referral&utm_source=ics&utm
 _campaign=ics
END:VEVENT
END:VCALENDAR
