BEGIN:VCALENDAR
VERSION:2.0
PRODID:-//https://techplay.jp//JP
CALSCALE:GREGORIAN
METHOD:PUBLISH
X-WR-CALDESC:日本最大のAIメディア編集長に聞く～ChatGPT公
 開から1年「注目すべき生成AIトレンドと活用事例」
X-WR-CALNAME:日本最大のAIメディア編集長に聞く～ChatGPT公
 開から1年「注目すべき生成AIトレンドと活用事例」
X-WR-TIMEZONE:Asia/Tokyo
BEGIN:VTIMEZONE
TZID:Asia/Tokyo
BEGIN:STANDARD
DTSTART:19700101T000000
TZOFFSETFROM:+0900
TZOFFSETTO:+0900
TZNAME:JST
END:STANDARD
END:VTIMEZONE
BEGIN:VEVENT
UID:926788@techplay.jp
SUMMARY:日本最大のAIメディア編集長に聞く～ChatGPT公開か
 ら1年「注目すべき生成AIトレンドと活用事例」
DTSTART;TZID=Asia/Tokyo:20231128T110000
DTEND;TZID=Asia/Tokyo:20231128T120000
DTSTAMP:20260425T130017Z
CREATED:20231115T074239Z
DESCRIPTION:イベント詳細はこちら\nhttps://techplay.jp/event/92678
 8?utm_medium=referral&utm_source=ics&utm_campaign=ics\n\n日本最大のA
 Iメディア編集長に聞く～ChatGPT公開から1年「注目すべ
 き生成AIトレンドと活用事例」\n概要\n2023年9月に著作
 「生成AI導入の教科書」を上梓された日本最大のAIメデ
 ィア編集長 小澤 健祐(おざけん)氏をお招きし、ChatGPT
 及び生成AIについてここ1年で登場した注目のトレンド
 や市場動向、活用事例について解説いただきます。さ
 らに、今後予測される「生成AIによる広報・PRの変化」
 についてもメディア視点でお話を伺います。\n■小澤
 健祐(おざけん)氏　略歴\n日本最大のAI専門メディア「A
 INOW( https://ainow.ai/ )」の編集長。2023年9月には、「日清
 食品HD」「ベネッセ」「ディップ」といった企業の担
 当者へのインタビューを含む書籍「生成AI導入の教科
 書」を上梓。ディップ株式会社で生成AI活用推進プロ
 ジェクトを進めるほか、AI活用コミュニティ「SHIFT AI」
 のモデレーターとしても知られる。\n※本セミナーは
 企業の広報・PR・マーケティング担当者向けとなって
 おります。※弊社の競合企業のご参加はお断りさせて
 いただく場合がございます。※応募多数の場合は抽選
 とさせていただく可能性がございます。※WEBでのご参
 加には、PCやタブレットなどの端末とインターネット
 接続環境が必要です。\n■セミナー概要\n<セミナーコ
 ンテンツ>\n\nChatGPT公開から1年で発生した、または今後
 注目すべきトレンドを解説\n押さえるべき生成AIの企業
 の活用事例を紹介\n今後予測される「生成AIによる広報
 ・PRの変化」とは\n\n■登壇者情報\n▽登壇者\nAI専門メ
 ディア AINOW 編集長小澤 健祐(おざけん) 氏\n▽モデレー
 ター\nビルコム株式会社　PR Tech局　髙橋 憲一郎\n■ビ
 ルコムについて\nビルコム株式会社は、統合型PRソリュ
 ーション、クラウド型PR効果測定ツール「PR Analyzer®」
 、国内唯一の広告媒体データベース「月刊メディア・
 データ®」を展開する唯一無二のPR Tech®カンパニーで
 す。予測困難な時代をテクノロジーとデータで読み解
 き、確かな効果へ導く「見えるPR」実現を支援してま
 いります。書籍「広告をやめた企業は、どうやって売
 り上げをあげているのか。」(インプレスジャパン)、
 「WebPRのしかけ方」(インプレスジャパン)を上梓するほ
 か、2020年より青山学院大学大学院国際マネジメント研
 究科（社会人向けビジネススクール・MBA課程）にて、
 寄附講座「SNS時代のパブリックリレーションズ」を開
 講しています。\n\n注意事項\n\n本セミナーは自治体の
 広報・PR・マーケティング担当者向けとなっておりま
 す。\n応募多数の場合は抽選とさせていただく可能性
 がございます旨、ご了承ください。\nWEBでのご参加に
 は、PCやタブレットなどの端末とインターネット接続
 環境が必要です。\n
LOCATION:オンライン
URL:https://techplay.jp/event/926788?utm_medium=referral&utm_source=ics&utm
 _campaign=ics
END:VEVENT
END:VCALENDAR
