BEGIN:VCALENDAR
VERSION:2.0
PRODID:-//https://techplay.jp//JP
CALSCALE:GREGORIAN
METHOD:PUBLISH
X-WR-CALDESC:【申込者受付中】5分で情報収集　～企業の売
 り上げ増加のヒント～
X-WR-CALNAME:【申込者受付中】5分で情報収集　～企業の売
 り上げ増加のヒント～
X-WR-TIMEZONE:Asia/Tokyo
BEGIN:VTIMEZONE
TZID:Asia/Tokyo
BEGIN:STANDARD
DTSTART:19700101T000000
TZOFFSETFROM:+0900
TZOFFSETTO:+0900
TZNAME:JST
END:STANDARD
END:VTIMEZONE
BEGIN:VEVENT
UID:926988@techplay.jp
SUMMARY:【申込者受付中】5分で情報収集　～企業の売り上
 げ増加のヒント～
DTSTART;TZID=Asia/Tokyo:20231120T150000
DTEND;TZID=Asia/Tokyo:20231124T150000
DTSTAMP:20260421T165422Z
CREATED:20231117T043834Z
DESCRIPTION:イベント詳細はこちら\nhttps://techplay.jp/event/92698
 8?utm_medium=referral&utm_source=ics&utm_campaign=ics\n\n◤ターゲテ
 ィングのAI化から売り上げを劇的に増加させる方法◢\n
 \n昨今ニーズが伸びている\nマーケティングとファイナ
 ンスの両領域をクロスした事例動画をご紹介します。\
 n\n\n△▼△▽△▼△▽△▼△▽△▼△▽△▼△▽△▼
 △▽△▼△▽△▼△\n　5分で理解する！DX組織のデー
 タ活用実践事例！\n　【第一回】～マーケティング × 
 ファイナンス編～\n△▼△▽△▼△▽△▼△▽△▼△
 ▽△▼△▽△▼△▽△▼△▽△▼△\n\n\n本動画は\n　
 「ターゲティングのAI化から売り上げを劇的に増加さ
 せる方法」\nについて解説しております。\n\n\n　●デ
 ータ分析で何が出来るかをクイックに知りたい\n　●
 自社データはたくさんあるけど活用方法が分からず困
 っている\n　●データ分析が経営にどう反映出来るの
 かをクイックに知りたい\n　●とにかくデータ分析の
 活用事例を集めている\n\nそんな方に是非ご視聴いただ
 きたい１本です。\n5分で見れるので、ちょっとした空
 き時間に丁度いいですよ♪\n\n●視聴期間\n11月20日(月) 
 15:00　～　11月24日(金) 15:00\n　※無料公開！\n　※期間
 内であればいつでも何回でもご視聴いただけます！\n
 　※申込者のみに視聴用URLを差し上げます！\n\n●内容
 \n～前半～\n5分で理解する！DX組織のデータ活用実践事
 例！\n【第一回】～マーケティング × ファイナンス編
 ～\n・ターゲティングのAI化から売り上げを劇的に増加
 させる方法\n\n～後半～\nインタビュー形式で前半で解
 説した内容をより掘り下げてご説明しております。\n\n
 ●登壇者\n\n柿内　憲人\n株式会社データフォーシーズ\
 n執行役員、コンサルティング・プラットフォーム事業
 担当、D4cプレミアム取締役、エグゼクティブデータサ
 イエンティストコンサルタント\n工学修士、MBAのいわ
 ゆるダブルマスター。SIerにおけるビジネスアナリティ
 クスシステム構築、名門マーケティングリサーチ会社
 でのビジネスインテリジェンス業務などを経てデータ
 フォーシーズへ合流。数々の大規模プロジェクトを成
 功へ導き、複数チームを統率するトップサイエンティ
 スト。\n\n\n●参加対象\nマーケティング・DX/デジタル
 戦略・経営企画などの関連部署に所属されている方へ
 オススメ！\n部門の情報収集にお役立てください。\n\n\
 n\n●注意事項\n\nリクルーティング、勧誘など、採用目
 的でのイベント参加はお断りしております。\n予告な
 く時間配分・内容が変更になる可能性がございます。\
 n無断キャンセルや欠席が続く場合、次回以降の参加を
 お断りさせていただく場合がございます。\n
LOCATION:オンライン
URL:https://techplay.jp/event/926988?utm_medium=referral&utm_source=ics&utm
 _campaign=ics
END:VEVENT
END:VCALENDAR
