BEGIN:VCALENDAR
VERSION:2.0
PRODID:-//https://techplay.jp//JP
CALSCALE:GREGORIAN
METHOD:PUBLISH
X-WR-CALDESC:SEOで20倍の集客力【GA4・ChatGPT活用】SEOコンサ
 ルタント養成講座セミナー
X-WR-CALNAME:SEOで20倍の集客力【GA4・ChatGPT活用】SEOコンサ
 ルタント養成講座セミナー
X-WR-TIMEZONE:Asia/Tokyo
BEGIN:VTIMEZONE
TZID:Asia/Tokyo
BEGIN:STANDARD
DTSTART:19700101T000000
TZOFFSETFROM:+0900
TZOFFSETTO:+0900
TZNAME:JST
END:STANDARD
END:VTIMEZONE
BEGIN:VEVENT
UID:927386@techplay.jp
SUMMARY:SEOで20倍の集客力【GA4・ChatGPT活用】SEOコンサルタ
 ント養成講座セミナー
DTSTART;TZID=Asia/Tokyo:20231206T160000
DTEND;TZID=Asia/Tokyo:20231206T170000
DTSTAMP:20260422T134053Z
CREATED:20231121T015553Z
DESCRIPTION:イベント詳細はこちら\nhttps://techplay.jp/event/92738
 6?utm_medium=referral&utm_source=ics&utm_campaign=ics\n\nSEOで20倍の
 集客力【GA4・ChatGPT活用】SEOコンサルタント養成講座セ
 ミナー\n資料請求50倍！アクセス300倍！医療KW１位！の3
 つの事例から学ぶプロのSEOノウハウとは\n本セミナー
 はこのような方に最適です。\n\n抱えているクライアン
 トを満足させるSEOを提供されたい方\nGA4でSEO課題を見
 つける方法を知りたい方\nChatGPTでのコンテンツ制作テ
 クニックを知りたい方\nSEOコンサルタントを目指す方\n
 自社のSEOで成果を出したい方\n順位だけじゃないSEOの
 本質を知りたい方\n\n\nSEOコンサルティングで成果を出
 し続けているフリースクエアが渋谷で無料セミナーを
 開催します。\n本格的に成果につながるSEOを身に付け
 る「SEOコンサルタント養成講座」のご紹介もあります
 のでお見逃しなく。\n無料セミナーで手に入る物\n\nク
 ライアントを満足させるSEO対策の本質\n【GA4活用！】SE
 Oを成功させるための重要な6つのポイント\n資料請求50
 倍、アクセス300倍、医療KW１位の3つの事例から学ぶSEO
 ノウハウ\n【ChatGPT活用！】高品質コンテンツ作成テク
 ニック\n\n「SEOの6つのポイントとは？」「GA4で何を見
 ればいいの？」「ChatGPTで高品質コンテンツを作るには
 ？」の無料セミナー内容で、成果を出すために何をす
 べきか見えてくると思います。\n更に、自社やクライ
 アントに成果を出し続けるSEOをご提供されたい方は「S
 EOコンサルタント養成講座」をご案内させていただき
 ますので、初心者から中上級者まで幅広くご参加いた
 だけます。\n中小企業からプライム上場企業までSEOコ
 ンサルティングを行い、最難関キーワード「FX」1位施
 策参画、SEO会社からのSEOコンサルティング依頼がある
 トップレベルのコンサルタントが講師を行います。\nSE
 Oコンサルタントを目指す方、クライアントに信用でき
 る情報で満足していただきたい方にとって、成果を出
 し続けている現役SEOコンサルタントの最新ノウハウ手
 に入る一期一会のチャンスになるかもしれません。\n
 ぜひ無料セミナーにご参加ください。\n開催日程\n\n\n\n
 日程\n開場時間\n\n\n\n\n12/06（水）　16:00~17:00\n（開場15:5
 0）\n\n\n12/13（水）　16:00~17:00\n（開場15:50）\n\n\n12/20（
 水）　16:00~17:00\n（開場15:50）\n\n\n12/27（水）　16:00~17:00
 \n（開場15:50）\n\n\n※参加希望日程をメールでご指定く
 ださい\n\n\n\n\n登壇者\n\n立木　達也\n株式会社フリース
 クエア　ゼネラルマネジャー\nSEOコンサルティング実
 績（一部）\n\n\n金融系の東証1部上場企業\n日本有数の
 東証プライム上場企業\n年商70億の流通系企業\n全国5000
 店鋪以上の大型FC企業\n全国展開中の教育企業\nSEO会社
 に対するSEOコンサルティング\n年商20億超えのアパレル
 会社\n日本有数の某広告代理店企業\n全国展開中の整体
 院\n国内有数のITクラウドサービス事業\n\n\n\n＜講師プ
 ロフィール＞\nWEBデザイナー時代にSEOを本格的に開始
 し、勤めた会社で400以上の地域ページを上位表示させ
 る。\nSEO知識をベースにマーケティングコンサルティ
 ング会社へ転職し、マーケティングを身に着けながらS
 EOコンサルティング部署を立ち上げ、最難関キーワー
 ド「FX」1位施策に参画。\nGoogle特許解析を趣味にしな
 がら、結果の出る「SEOライティングメゾット」を確立
 し、SEOコンサルティングで上位表示率90％超えメディ
 アを連発する。\nSEO会社からも相談が来るSEOコンサル
 タントとして活躍。更にSEOで悩む多業種のクライアン
 トを求め現在の会社へ転職し、中小企業からプライム
 上場企業まで幅広い企業で成果を出し続けている。\n\n
 \n参加費\n無料\n注意事項\n\n名刺を1枚お持ちください
 。\nセミナー会場はこちら：〒150-0041　東京都渋谷区神
 南1-9-2 大畠ビル 5F\n日程の指定が分からない場合、以
 下より再送いただいても対応いたします。\n
LOCATION:株式会社フリースクエア 〒150-0041　東京都渋谷区
 神南1-9-2 大畠ビル 5F
URL:https://techplay.jp/event/927386?utm_medium=referral&utm_source=ics&utm
 _campaign=ics
END:VEVENT
END:VCALENDAR
