BEGIN:VCALENDAR
VERSION:2.0
PRODID:-//https://techplay.jp//JP
CALSCALE:GREGORIAN
METHOD:PUBLISH
X-WR-CALDESC:【オンラインセミナー開催】2023年12月13日(水) 
 AI-OCR×RPAで業務効率化を実現！～今から間に合うイン
 ボイス制度対応～
X-WR-CALNAME:【オンラインセミナー開催】2023年12月13日(水) 
 AI-OCR×RPAで業務効率化を実現！～今から間に合うイン
 ボイス制度対応～
X-WR-TIMEZONE:Asia/Tokyo
BEGIN:VTIMEZONE
TZID:Asia/Tokyo
BEGIN:STANDARD
DTSTART:19700101T000000
TZOFFSETFROM:+0900
TZOFFSETTO:+0900
TZNAME:JST
END:STANDARD
END:VTIMEZONE
BEGIN:VEVENT
UID:928027@techplay.jp
SUMMARY:【オンラインセミナー開催】2023年12月13日(水) AI-OC
 R×RPAで業務効率化を実現！～今から間に合うインボイ
 ス制度対応～
DTSTART;TZID=Asia/Tokyo:20231213T160000
DTEND;TZID=Asia/Tokyo:20231213T171500
DTSTAMP:20260421T083434Z
CREATED:20231127T091638Z
DESCRIPTION:イベント詳細はこちら\nhttps://techplay.jp/event/92802
 7?utm_medium=referral&utm_source=ics&utm_campaign=ics\n\n概要\n2023年1
 2月13日(水)にファーストアカウンティング株式会社と
 共同で開催するオンラインセミナーのご案内をいたし
 ます。本セミナーでは、経理・システムの担当で、OCR
 を活用して証憑（請求書／領収書）のチェック業務を
 自動化してみたいとお考えの方、OCRを導入したものの
 満足に活用しきれていないと悩まれている方向けに、A
 I-OCRの特徴や、RPAとの組合せによる業務効率化の実現
 方法をご紹介します。AI-OCRとRPAで業務効率化を図るに
 あたっては、必ずしもすべてが理想どおりにいくわけ
 ではなく、一筋縄では解決しない問題も起こり得ます
 。BTCが実際に解決してきた”あるある”な悩みネタも
 交えながら事例紹介をする予定ですので、ご自身の課
 題と照らして具体的にイメージしながら、新規導入・
 運用改善をご検討いただけるかと思います。また、2023
 年10月から始まったインボイス制度により、適格請求
 書としての要件確認など、今以上に業務負担の増加が
 予想されます。その要件確認も自動で行えるようにな
 りますので、インボイス制度にも併せて対応が可能に
 なります。「そもそもAI-OCRってOCRと何が違うの？」、
 「OCRを導入したが、チェック効率が一向に上がらない
 よ。」、「インボイス制度に対応した自動化について
 、まだ全然考えられていない…」といった疑問・課題
 をお持ちの皆様、ぜひご参加ください。\nタイムスケ
 ジュール\n■日程：2023年12月13日(水)　16:00～17:15■接続
 方法：オンライン(Zoom)\n登壇者\n[FastAccounting社　中村め
 い]\n2019年FAに弊社1人目の営業として入社。国内のエン
 タープライズ企業にAI-OCR、Remota・Robotaの提案導入。お
 客様目線の提案活動をモットーにお客様の課題解決に
 貢献できるよう努めている。\n[BTC　竹山園子]\n大学卒
 業後、政府系金融機関の情報システム子会社に入社。
 勘定系、情報系、市場系の金融システム開発を横断的
 に従事。上流工程から下流工程までの開発経験の他、
 金融庁検査対応や海外支店開業に伴うIT監査対応など
 も担当。BTC入社後は、RPA、OCR導入案件に携わる。\n\n参
 加費\n無料\n注意事項\n■当社は、お客さまの個人情報
 を、ファーストアカウンティング（株）へ提供します
 。\nファーストアカウンティング（株）は、該当個人
 情報を以下プライバシーポリシーに従い適切に取り扱
 います。ファーストアカウンティング（株）：https://ww
 w.fastaccounting.jp/privacy/\n■お預かりしたお客さま情報は
 お客さまご本人から、当社の運営上支障が無い範囲で
 閲覧、修正、削除を要求することができます。その場
 合はお問い合わせ先までご連絡いただけますようお願
 いいたします。株式会社ビッグツリーテクノロジー＆
 コンサルティングRPA事業部：https://rpa.bigtreetc.com/contact/
LOCATION:オンライン
URL:https://techplay.jp/event/928027?utm_medium=referral&utm_source=ics&utm
 _campaign=ics
END:VEVENT
END:VCALENDAR
