BEGIN:VCALENDAR
VERSION:2.0
PRODID:-//https://techplay.jp//JP
CALSCALE:GREGORIAN
METHOD:PUBLISH
X-WR-CALDESC:【特別開催＠神戸市】12月8日（金）Tableau自治
 体ユーザー会
X-WR-CALNAME:【特別開催＠神戸市】12月8日（金）Tableau自治
 体ユーザー会
X-WR-TIMEZONE:Asia/Tokyo
BEGIN:VTIMEZONE
TZID:Asia/Tokyo
BEGIN:STANDARD
DTSTART:19700101T000000
TZOFFSETFROM:+0900
TZOFFSETTO:+0900
TZNAME:JST
END:STANDARD
END:VTIMEZONE
BEGIN:VEVENT
UID:928113@techplay.jp
SUMMARY:【特別開催＠神戸市】12月8日（金）Tableau自治体ユ
 ーザー会
DTSTART;TZID=Asia/Tokyo:20231208T164000
DTEND;TZID=Asia/Tokyo:20231208T172000
DTSTAMP:20260420T223941Z
CREATED:20231128T004631Z
DESCRIPTION:イベント詳細はこちら\nhttps://techplay.jp/event/92811
 3?utm_medium=referral&utm_source=ics&utm_campaign=ics\n\n【特別開催
 ＠神戸市】12月8日(金)　Tableau自治体ユーザー\n概要\n12
 月8日、神戸市で開催される「Data Literacy for ALL in KOBE」
 の終了後に自治体で集まって、ネットワーキングを行
 います。現地参加の自治体・公共の方でのコミュニケ
 ーションを目的としています。ぜひご参加ください。\
 n※通常のTableau自治体ユーザー会はハイブリッドでの
 ご参加が可能ですが、今回は現地ご来場者の方が対象
 となります。ご了承ください。現地参加ではない方、
 すみませんが次回のTableau自治体ユーザー会にご参加く
 ださいませ。\n2023年12月8日（金）16：40～（40分程度の
 ネットワーキングです。）\n会場：デザイン・クリエ
 イティブセンター神戸（KIITO） 部屋番号＃301〒651-0082 
 兵庫県神戸市中央区小野浜町 1-4 https://kiito.jp/access/\n【
 ご参照】別イベント：Data Literacy for ALL in KOBE の詳細URL
 　https://sf.oatnd.com/code-for-japan-2023-kobe\nタイムスケジュ
 ール\n\n\n\n時間\n内容\n\n\n\n\n16：30〜\n受付開始（Data lit
 eracy for ALLイベント終了後となります）\n\n\n16：40\nオー
 プニング　【司会】目黒区　行政情報マネジメント課
 　データ利活用推進担当係長　武山 大輔　氏株式会社
 セールスフォース・ジャパンTableau公共営業本部　徳政
  由美子 氏\n\n\n16：50～17：00\n1. 「現地に来たから神戸
 市さんに聞いてみよう！」\n\n\n17：00～17：20\n2. 「ネッ
 トワーキング」\n\n\n17：20\n終了\n\n\n\n※ 当日予告なく
 時間配分・内容が変更になる可能性がございます。\n
 参加対象\n\n公共団体　特に自治体対象となります。\n\
 n参加費\n無料\n主催\nTableau 自治体ユーザー会\n注意事
 項\n\nリクルーティング、勧誘など、採用目的でのイベ
 ント参加はお断りしております。\nData literacy for ALL in K
 OBEのイベントにご参加でない方もご参加可能です。\n
 欠席される場合は、お手数ですが速やかにキャンセル
 処理をお願い致します。\n無断キャンセルや欠席が続
 く場合、次回以降の参加をお断りさせていただく場合
 がございます。\n
LOCATION:デザイン・クリエイティブセンター神戸（KIITO） 
 部屋番号＃301 〒651-0082 兵庫県神戸市中央区小野浜町 1-
 4  https://kiito.jp/access/
URL:https://techplay.jp/event/928113?utm_medium=referral&utm_source=ics&utm
 _campaign=ics
END:VEVENT
END:VCALENDAR
