BEGIN:VCALENDAR
VERSION:2.0
PRODID:-//https://techplay.jp//JP
CALSCALE:GREGORIAN
METHOD:PUBLISH
X-WR-CALDESC:製造業DXを推進！RPA導入後、月40時間の作業工
 数を削減した成功事例を徹底解説
X-WR-CALNAME:製造業DXを推進！RPA導入後、月40時間の作業工
 数を削減した成功事例を徹底解説
X-WR-TIMEZONE:Asia/Tokyo
BEGIN:VTIMEZONE
TZID:Asia/Tokyo
BEGIN:STANDARD
DTSTART:19700101T000000
TZOFFSETFROM:+0900
TZOFFSETTO:+0900
TZNAME:JST
END:STANDARD
END:VTIMEZONE
BEGIN:VEVENT
UID:928321@techplay.jp
SUMMARY:製造業DXを推進！RPA導入後、月40時間の作業工数を
 削減した成功事例を徹底解説
DTSTART;TZID=Asia/Tokyo:20231212T110000
DTEND;TZID=Asia/Tokyo:20231212T120000
DTSTAMP:20260424T123136Z
CREATED:20231129T071054Z
DESCRIPTION:イベント詳細はこちら\nhttps://techplay.jp/event/92832
 1?utm_medium=referral&utm_source=ics&utm_campaign=ics\n\nこんな方に
 オススメ\n\n製造業におけるDX推進について情報収集し
 ている方\n実際の企業で効率化を実現しているRPA活用
 方法を知りたい方\n月40時間の作業工数を削減した成功
 事例を知りたい方\nRPAの導入を検討している方\n\nセミ
 ナー概要\n本セミナーは、製造業でのRPA活用が成功し
 た事例をもとに、業務効率化やDXを推進するための運
 用方法について徹底解説いたします。具体的には、月4
 0時間の作業工数を削減し本来の業務に集中できる環境
 を整えた事例や、毎日発生する「生産計画立案用デー
 タのダウンロード・保存作業」「生産手配用リスト・
 不良情報の印刷作業」「注文書や請求書の帳票処理」
 などのルーティン作業を自動化し、業務効率化を実現
 した事例をご紹介いたします。\nまた、弊社独自が行
 ったRPAのアンケート調査※によると、製造業でのRPA導
 入率が一番高いことが分かりました。製造部門をはじ
 め、品質管理部門、総務・経理部門まで多岐にわたる
 部門で定型業務やルーティン作業が多いためRPAと相性
 がよく、属人化業務や単純作業、手作業での入力作業
 など、さまざまな課題を解決できます。\n当日、セミ
 ナーアンケートにご回答いただいた方に、活用事例が
 詳細に記載している資料をプレゼントしております。D
 X推進のヒントになる情報をお届けいたしますので、ぜ
 ひご活用ください。※【2022年度版】RPAツール導入に関
 するアンケート 調査結果レポート「スターティアレイ
 ズ調べ」\n講師紹介\nスターティアレイズ株式会社業務
 自動化ソリューション部シニアマネージャー　松原 良
 貴\n■経歴2008年スターティアに営業として新卒入社し
 、インターネットサービスを販売。2016年セキュリティ
 機能を向上するサービスや、OA機器を販売。2018年スタ
 ーティアレイズ株式会社の新規立ち上げに携わる。2019
 年2月から現在まで、RPAの販売をしながらお客様のバッ
 クオフィス業務全般のDX推進を支援している。\nスター
 ティアレイズ株式会社業務自動化ソリューション部金
 子 真帆\n■経歴バックオフィス業務のコンサルティン
 グや、RPA・OCRの導入支援をメインで行っている。お客
 様の課題に合わせた業務を効率化する方法のご提案や
 、ツールを導入後スムーズに運用できるようお客様に
 寄り添ったサポートに注力している。\nセミナー詳細\n
 \n\n\n\n\n\n\n\n\nタイトル\n製造業DXを推進！RPA導入後、月
 40時間の作業工数を削減した成功事例を徹底解説\n\n\n
 日時\n2023年12月12日(火)11:00~12:00\n\n\n受講料\n無料\n\n\n主
 催\nスターティアレイズ株式会社\n\n\n\n・お申込みいた
 だいた際に、Zoom登録用URLをご登録いただいたメールア
 ドレスに送付致します。・セミナー当日のご参加も可
 能です。・プログラムは、都合により予告無く変更す
 る場合がございます。・ユーザー企業様向けのセミナ
 ーの為、同業者様のご参加はお断りさせていただく場
 合がございます。\nセミナープログラム\n01	講師紹介02	
 RPAとは03	製造業でのRPA活用シーン04	RoboTANGOの導入成功
 事例3選05	RoboTANGOのご紹介06	セミナーのまとめ
LOCATION:オンライン
URL:https://techplay.jp/event/928321?utm_medium=referral&utm_source=ics&utm
 _campaign=ics
END:VEVENT
END:VCALENDAR
