BEGIN:VCALENDAR
VERSION:2.0
PRODID:-//https://techplay.jp//JP
CALSCALE:GREGORIAN
METHOD:PUBLISH
X-WR-CALDESC:メディアに聞く「2024年のトピックス」～ レタ
 スクラブWEB、ウォーカープラス、WEBザテレビジョン、
 ダ・ヴィンチWeb、毎日が発見ネット、OneNewsに聞きまし
 た ～
X-WR-CALNAME:メディアに聞く「2024年のトピックス」～ レタ
 スクラブWEB、ウォーカープラス、WEBザテレビジョン、
 ダ・ヴィンチWeb、毎日が発見ネット、OneNewsに聞きまし
 た ～
X-WR-TIMEZONE:Asia/Tokyo
BEGIN:VTIMEZONE
TZID:Asia/Tokyo
BEGIN:STANDARD
DTSTART:19700101T000000
TZOFFSETFROM:+0900
TZOFFSETTO:+0900
TZNAME:JST
END:STANDARD
END:VTIMEZONE
BEGIN:VEVENT
UID:928411@techplay.jp
SUMMARY:メディアに聞く「2024年のトピックス」～ レタス
 クラブWEB、ウォーカープラス、WEBザテレビジョン、ダ
 ・ヴィンチWeb、毎日が発見ネット、OneNewsに聞きました
  ～
DTSTART;TZID=Asia/Tokyo:20231212T120000
DTEND;TZID=Asia/Tokyo:20231212T130000
DTSTAMP:20260425T130037Z
CREATED:20231130T050333Z
DESCRIPTION:イベント詳細はこちら\nhttps://techplay.jp/event/92841
 1?utm_medium=referral&utm_source=ics&utm_campaign=ics\n\nメディアに
 聞く「2024年のトピックス」～レタスクラブWEB、ウォー
 カープラス、WEBザテレビジョン、ダ・ヴィンチWeb、毎
 日が発見ネット、OneNewsに聞きました\n概要\nゲストに
 ウォーカープラス編集長 / OneNews編集長の浅野祐介氏を
 お招きし、現職およびレタスクラブ、ザテレビジョン
 、ダ・ヴィンチWebの動画領域を担当されたご経験、ま
 た、前々職のファッション誌、前職のスポーツメディ
 アでのご経験にもとづき、メディア視点で2024年のトピ
 ックスや切り口・トレンドについて解説いただきます
 。\n「メディアの2024年のトピックス、求めている切り
 口や、注目するトレンドは?」「どんな情報を盛り込ん
 だプレスリリースが記事化されやすいのか?」KADOKAWA運
 営メディアのレタスクラブWEB、ウォーカープラス、WEB
 ザテレビジョン、ダ・ヴィンチWeb、毎日が発見ネット
 、OneNewsにヒアリングした内容をお伝えします。\nさら
 に、実際に編集記事化につながったプレスリリースの
 事例にもとづき、「メディアに取り上げられやすいプ
 レスリリース」のポイントについてもお話を伺います
 。ぜひご参加下さい。\n※本セミナーは企業の広報・PR
 ・マーケティング担当者向けとなっております。※弊
 社の競合企業のご参加はお断りさせていただく場合が
 ございます。※応募多数の場合は抽選とさせていただ
 く可能性がございます。※WEBでのご参加には、PCやタ
 ブレットなどの端末とインターネット接続環境が必要
 です。\n■セミナーコンテンツ\n\nレタスクラブWEB、ウ
 ォーカープラス、WEBザテレビジョン、ダ・ヴィンチWeb
 、毎日が発見ネット、OneNewsの読者層と特性の紹介\n各
 メディアが求めている情報・切り口と、2024年のトピッ
 クス\n記事化したプレスリリースから逆算して解説「
 メディアに取り上げられやすいプレスリリース」のポ
 イント\n編集記事化の可能性が高まるリリース配信サ
 ービス「PressWalker」とは\n\n■こんな方におすすめ\n\nメ
 ディア、記者が関心のあるトピックスについて知りた
 い\n2024年に向けて、プロモーションや広報活動の戦略
 を検討している\n情報発信はしているものの、なかな
 かニュースにならず困っている\n\n■登壇者情報\n▽登
 壇者\n株式会社KADOKAWAウォーカープラス編集長 / OneNews
 編集長浅野 祐介 氏\n出版社2社を経て株式会社KADOKAWAに
 2014年1月に入社。同年10月よりウォーカープラス編集長
 に就任。前々職のファッション誌、前職のスポーツメ
 ディア時代のネットワークに加え、東京、北海道、横
 浜、名古屋、大阪、福岡での編集経験があるため、全
 国の様々なジャンルのネットワークも広い。環境省国
 立公園サイネージプロジェクト、北海道、秋田県ほか
 各県の観光プロジェクト案件に加え、キャラWalker、平
 日Walkerなど、それぞれのユーザーニーズに応じたカス
 タム・タイアップ案件を業界最大規模で実施。2021年3
 月、ウォーカープラス編集長を退任後、ウォーカー、
 レタスクラブ、ザテレビジョン、ダ・ヴィンチの動画
 領域を担当。2022年3月に無料のプレスリリース配信サ
 ービス「PressWalker」をスタートし、同年9月、「OneNews」
 創刊編集長に就任。翌2023年10月より「ウォーカープラ
 ス」編集長に再任。\n▽モデレーター\nビルコム株式会
 社　PR Tech局　髙橋 憲一郎\n■ビルコムについて\nビル
 コム株式会社は、統合型PRソリューション、クラウド
 型PR効果測定ツール「PR Analyzer®」、国内唯一の広告媒
 体データベース「月刊メディア・データ®」を展開す
 る唯一無二のPR Tech®カンパニーです。予測困難な時代
 をテクノロジーとデータで読み解き、確かな効果へ導
 く「見えるPR」実現を支援してまいります。書籍「広
 告をやめた企業は、どうやって売り上げをあげている
 のか。」(インプレスジャパン)、「WebPRのしかけ方」(
 インプレスジャパン)を上梓するほか、2020年より青山
 学院大学大学院国際マネジメント研究科（社会人向け
 ビジネススクール・MBA課程）にて、寄附講座「SNS時代
 のパブリックリレーションズ」を開講しています。\n\n
 注意事項\n\n本セミナーは自治体の広報・PR・マーケテ
 ィング担当者向けとなっております。\n応募多数の場
 合は抽選とさせていただく可能性がございます旨、ご
 了承ください。\nWEBでのご参加には、PCやタブレットな
 どの端末とインターネット接続環境が必要です。\n
LOCATION:オンライン
URL:https://techplay.jp/event/928411?utm_medium=referral&utm_source=ics&utm
 _campaign=ics
END:VEVENT
END:VCALENDAR
