BEGIN:VCALENDAR
VERSION:2.0
PRODID:-//https://techplay.jp//JP
CALSCALE:GREGORIAN
METHOD:PUBLISH
X-WR-CALDESC:DXの実践者と共にテクノロジーを育成する戦略
 を定める
X-WR-CALNAME:DXの実践者と共にテクノロジーを育成する戦略
 を定める
X-WR-TIMEZONE:Asia/Tokyo
BEGIN:VTIMEZONE
TZID:Asia/Tokyo
BEGIN:STANDARD
DTSTART:19700101T000000
TZOFFSETFROM:+0900
TZOFFSETTO:+0900
TZNAME:JST
END:STANDARD
END:VTIMEZONE
BEGIN:VEVENT
UID:928596@techplay.jp
SUMMARY:DXの実践者と共にテクノロジーを育成する戦略を
 定める
DTSTART;TZID=Asia/Tokyo:20231218T110000
DTEND;TZID=Asia/Tokyo:20231218T120000
DTSTAMP:20260420T201342Z
CREATED:20231201T061339Z
DESCRIPTION:イベント詳細はこちら\nhttps://techplay.jp/event/92859
 6?utm_medium=referral&utm_source=ics&utm_campaign=ics\n\nDXの実践者
 と共にテクノロジーを育成する戦略を定める\n▼内容\n
 このたび、パーソルイノベーション株式会社、株式会
 社エクサウィザーズ、株式会社ベネッセコーポレーシ
 ョンの3社は、一般社団法人 日本経済団体連合会（経
 団連）の後援を頂きながら、日本企業のDXを推進する
 為、人材、組織開発の分野で貢献すべく、DXの実践者
 が持っている具体的な事例を発信していきます。\n現
 在の日本はDXを推進できる人材が不足しており、その
 育成が急務となっています。多くの企業や自治体がこ
 うした人材の必要性を認識しているものの、実際にど
 のような役割やスキルが必要なのか、それらをどのよ
 うにして育んでいくべきかを具体的に理解している企
 業が少ないのが現状です。\n本セッションでは、テク
 ノロジー人材の育成戦略にフォーカスを当ててディス
 カッションいたします。DX人材の育成戦略を具体的に
 遂行しているDX実践企業から、戦略の進め方や障壁、
 その乗り越え方について実践知をお話頂きます。\n企
 業が着手すべきことの具体的なヒントを得られる貴重
 な機会です。自社のDX人材育成を成功させ、競争力を
 高めたいとお考えの方は、ぜひご参加ください。（本
 セミナーは無料です）\n▼こんな方におすすめ\n\nDX推
 進担当役員/責任者/担当者の方\nDX組織構築・DX人材育
 成に携わる人事役員/責任者/担当者の方\n\n\n▼講義内
 容\n・両名による講演・パネルディスカッション・質
 疑応答などを予定しております。\n\n▼講師プロフィー
 ル\n中林 紀彦 氏​​​\nヤマト運輸株式会社　執行役
 員(輸配送データ活用推進担当)\n日本アイ・ビー・エム
 株式会社においてデータサイエンティストとして顧客
 のデータ分析を多方面からサポート、企業の抱えるさ
 まざまな課題をデータやデータ分析の観点から解決す
 る。株式会社オプトホールディング データサイエンス
 ラボ副所長、SOMPO ホールディングス株式会社チーフ・
 データサイエンティストを経て、2019 年 8 月にヤマト
 ホールディングス株式会社入社。2020 年 3 月同社執行
 役員。2021 年 4 月からヤマト運輸株式会社執行役員に
 就任。重要な経営資源となった”データ”をグループ
 横断で最大限に活用するためのデータ戦略を構築し実
 行する役割を担う。また筑波大学の客員教授、データ
 サイエンティスト協会の理事としてデータサイエンス
 に関して企業の即戦力となる人材育成にも従事する。\
 n\n水上 宙士 氏\n株式会社ベネッセコーポレーションDig
 ital Innovation Partners　副本部長\n2020年から活動を始めたD
 Xコンサルティング活動は6案件からスタートし、2023年
 までにトータルで100件を超える案件数を担当。常に30
 件以上のプロジェクトをマネジメントしながら、時に
 は自身がプレイヤーとして事業成長を実現する役割を
 果たしている。\n\n\n▼注意事項\n\n開催方法：Webセミナ
 ー　※Zoomを利用します\n参加方法：お申込後に、別途
 メールにてご案内致します。\n競合他社様のお申込み
 はお断りする場合がございます。予めご容赦ください
 。\n
LOCATION:オンライン
URL:https://techplay.jp/event/928596?utm_medium=referral&utm_source=ics&utm
 _campaign=ics
END:VEVENT
END:VCALENDAR
