BEGIN:VCALENDAR
VERSION:2.0
PRODID:-//https://techplay.jp//JP
CALSCALE:GREGORIAN
METHOD:PUBLISH
X-WR-CALDESC:12/19 限定開催【経験者にオススメ】エンジニ
 ア歴20年の講師に無料で学ぶ・現場で活かせるAIスキル
X-WR-CALNAME:12/19 限定開催【経験者にオススメ】エンジニ
 ア歴20年の講師に無料で学ぶ・現場で活かせるAIスキル
X-WR-TIMEZONE:Asia/Tokyo
BEGIN:VTIMEZONE
TZID:Asia/Tokyo
BEGIN:STANDARD
DTSTART:19700101T000000
TZOFFSETFROM:+0900
TZOFFSETTO:+0900
TZNAME:JST
END:STANDARD
END:VTIMEZONE
BEGIN:VEVENT
UID:928903@techplay.jp
SUMMARY:12/19 限定開催【経験者にオススメ】エンジニア歴2
 0年の講師に無料で学ぶ・現場で活かせるAIスキル
DTSTART;TZID=Asia/Tokyo:20231219T180000
DTEND;TZID=Asia/Tokyo:20231219T200000
DTSTAMP:20260423T044439Z
CREATED:20231205T003843Z
DESCRIPTION:イベント詳細はこちら\nhttps://techplay.jp/event/92890
 3?utm_medium=referral&utm_source=ics&utm_campaign=ics\n\n実際の案件
 を想定したプログラム作成に挑戦！現場で活かせるAI
 スキルを身につけよう\nビジネスシーンでも幅広い分
 野で使用されているプログラム言語「Python」。Pythonは
 、今後さらに需要が高まる市場価値の高いプログラム
 言語です。現在、Pythonを扱えるエンジニアはまだ多く
 ないため、Pythonエンジニアの年収は正社員のITエンジ
 ニアを大きく上回っています。すでに他のプログラム
 言語を学ばれている方は、Pythonを身につけることで、
 更なるキャリアアップにつながる可能性があります。\
 n今回はこの「Python」を使用し、実際の案件を想定した
 仕事で活かせるプログラム作成を学べる無料講座を東
 京で開催！この講座を機会にPythonをもっと学んでいた
 だき、自分の得意ジャンル×AIで、仕事に活かせる強み
 を身につけてみませんか？\n大学での講師歴20年、エン
 ジニア歴20年の講師が丁寧に教える人気講座なので、
 経験が浅くて心配という方も、安心してご参加いただ
 ければと思います。\n開催場所GARAGE Coworking Space@Waseda (
 早稲田大学正門から1分)〒162-0041 東京都新宿区早稲田
 鶴巻町518 早稲田玉井ビル 3階\n想定案件イメージ\n機械
 学習を用いた画像判定、物体検出のWEBサービスをお客
 様に対して提供するという案件を想定しています。例
 ：工場での不良検知をカメラと機械学習を用いて解決
 する場合などで活用することができるようになります\
 n本講座でできること\n機械学習AutoMLを利用して様々な
 画像認識を試し、花を判定するアプリを作成します。
 また、ネットから収集した画像でオリジナルの画像判
 定アプリの作成に挑戦していただきます。AutoMLでの画
 像分類が簡単に出来るようになると、プログラムを書
 かなくても画像分類が出来るようになります。\n講座
 内容\n◯データベース(SQLite\,PostgreSQL)◯WEBフレームワー
 ク(Flask)◯Bootstrap◯Google AutoML vision◯画像分類モデル作
 成◯WEBアプリケーションのデプロイ【使用言語】Python\
 n実行環境\n実行環境がない場合はanaconda をinstall して
 ください。\nリアル開催がオススメな理由\nプログラミ
 ングを学ぶなら、対面で直接教えてもらえる環境をオ
 ススメしています！独学やオンラインで始めると、\n
 「不明点を聞きづらい」\n「エラーが解決できない」\n
 「学習のゴールが分からずモチベーションが続かない
 」\nといったことにつまづきがちです。リアル開催な
 ら、不明点やエラーが解決できない時に、すぐにプロ
 の講師に質問することが可能。途中で挫折することな
 く学べるので、スムーズに学習を進めることができま
 す。独学で学べるか不安のある人や、オンラインだと
 集中できなさそう…と心配な方には、特にリアル開催
 がオススメです。\n●AIエンジニア養成コースのカリキ
 ュラム概要。制作者からのメッセージ\nhttps://youtu.be/U_Z
 ZPNJYDxY
LOCATION:GARAGE Coworking Space@Waseda 東京都新宿区早稲田鶴巻町
 518 早稲田玉井ビル 3階
URL:https://techplay.jp/event/928903?utm_medium=referral&utm_source=ics&utm
 _campaign=ics
END:VEVENT
END:VCALENDAR
