BEGIN:VCALENDAR
VERSION:2.0
PRODID:-//https://techplay.jp//JP
CALSCALE:GREGORIAN
METHOD:PUBLISH
X-WR-CALDESC:北海道活躍カムバックセミナー vol.1
X-WR-CALNAME:北海道活躍カムバックセミナー vol.1
X-WR-TIMEZONE:Asia/Tokyo
BEGIN:VTIMEZONE
TZID:Asia/Tokyo
BEGIN:STANDARD
DTSTART:19700101T000000
TZOFFSETFROM:+0900
TZOFFSETTO:+0900
TZNAME:JST
END:STANDARD
END:VTIMEZONE
BEGIN:VEVENT
UID:928925@techplay.jp
SUMMARY:北海道活躍カムバックセミナー vol.1
DTSTART;TZID=Asia/Tokyo:20240118T180000
DTEND;TZID=Asia/Tokyo:20240118T180000
DTSTAMP:20260421T135410Z
CREATED:20231205T043521Z
DESCRIPTION:イベント詳細はこちら\nhttps://techplay.jp/event/92892
 5?utm_medium=referral&utm_source=ics&utm_campaign=ics\n\n北海道カム
 バック活躍セミナーvol.1\n概要\n北海道出身の皆さま、
 北海道に興味がある皆さまへ、朗報です\n北海道に帰
 りたい・移住したいのに、何から始めればいいのか具
 体的なことがわからず諦めてしまっていませんか？ Inn
 ovation BASE 北海道とVibes-Jobsが贈る『北海道カムバック
 活躍セミナー』では、札幌市役所や川村秀憲教授（北
 海道大学）ご協力のもと、北海道（札幌市）のお仕事
 の現状や、地域への貢献活動、ITやAIに関する研究につ
 いて信頼できる貴重な情報をご提供いたします！ また
 、セミナーの最後には懇親会を予定しており、参加者
 の皆さまが気になっていることや知りたいこと、心配
 していることを解消できるよう、リラックスした雰囲
 気でお話しできる場をご用意しております。（北海道
 の美味しい名産品や飲み物をご用意しております）私
 たちと一緒にどさんこライフへの第一歩を踏み出しま
 しょう！皆様のご参加を心よりお待ちしております✨\
 n※ご来場の方は必ず下記フォームよりご予約をお願い
 いたします！\n▶️▷▶️　　予約フォーム　　◀️
 ◁◀️\n■開催概要日　時：2024年1月18日（木）18:15～21
 :00(18:00開場)場　所：SHIBUYA QWS　　　　東京都渋谷区渋
 谷2-24-12 渋谷スクランブルスクエア15F対　象：北海道
 へのUターン・Iターンを考えている方、北海道に興味
 がある方、北海道が好きな方、北海道出身の方参加費
 ：無料共　催：Innovation BASE 北海道、Vibes-Jobs(TK-lab)後　
 援：札幌市役所、一般財団法人さっぽろ産業振興財団
 、北海道大学川村研究所\n■コンテンツ札幌市のビジ
 ネス環境のご紹介札幌で働く魅力2024年1月現在の転職
 事情北海道地元企業のプレゼン（順不同）　1.株式会
 社イノベーションベース北海道　2.一般財団法人さっ
 ぽろ産業振興財団　3.JIG-SAW株式会社　4.エア・ウォー
 ター北海道株式会社　5.株式会社クレスコ　6.株式会社
  HBA　懇親会（軽食あり）\nお問い合わせ：info_CBS@vibes-j
 obs.jp (カムバックセミナー運営事務局)※ 当日予告なく
 時間配分・内容が変更になる可能性がございます。\n
 登壇者\n\n小坂 武史\n株式会社イノベーションプラス代
 表取締役、株式会社TK-Lab代表取締役\n・1991年：AT&T Jens
 入社。インターネット黎明期より、日本初のインター
 ネットプロバイダー事業を推進。\n・1998年：Webクリエ
 イティブ会社Digital Magic Labsにて、クリエイティブ事業
 、新規事業を担当。\n・2002年：株式会社ティーケーラ
 ボを設立。「ひとにやさしいデジタルの創造」という
 コンセプトを掲げ、新規事業支援、人材開発支援を展
 開。\n・2007年：企業の新規事業をコンサルティング、
 デザイン、システム構築・運用のトータルで支援する
 株式会社イノベーションプラスを設立し、DX事業を拡
 大。\n・2017年：株式会社ティーケーラボの事業転換を
 行い、HRテクノロジーを屈指した人材開発・支援を専
 業とする。\n・2022年：”ITに強い会社”から”事業創
 造Company”に発展。大企業から地域まで幅広く”DX”を
 支援し、国立大学の学生やパートナーと共に”地域創
 生・新産学連携”を拡げている。\n\n\n\n原 徳子\nVibes-Jo
 b 代表\n茨城県出身。広島大学修士課程でドイツと日本
 との盲学校体育教育について研究。障がい者スポーツ
 業界の課題解決に命燃やしてます。 2017年、タレント
 マネジメント会社へ出向し、障がい者アスリートのマ
 ネジメント、自治体やスポンサー企業とのイベント制
 作〜運営、スポンサー営業、大会取材などを経験。2018
 年より（株）リクルートにて中途斡旋のコンサルタン
 ト、NET領域のベンチャー企業の法人営業を担当。\n\n札
 幌市役所\n
LOCATION:SHIBUYA QWS （渋谷キューズ） 東京都渋谷区渋谷二
 丁目24番12号 渋谷スクランブルスクエア（東棟）15階
URL:https://techplay.jp/event/928925?utm_medium=referral&utm_source=ics&utm
 _campaign=ics
END:VEVENT
END:VCALENDAR
