BEGIN:VCALENDAR
VERSION:2.0
PRODID:-//https://techplay.jp//JP
CALSCALE:GREGORIAN
METHOD:PUBLISH
X-WR-CALDESC:【オンライン・視聴無料】知の掛け合わせで
 生み出す　これからの製品開発戦略
X-WR-CALNAME:【オンライン・視聴無料】知の掛け合わせで
 生み出す　これからの製品開発戦略
X-WR-TIMEZONE:Asia/Tokyo
BEGIN:VTIMEZONE
TZID:Asia/Tokyo
BEGIN:STANDARD
DTSTART:19700101T000000
TZOFFSETFROM:+0900
TZOFFSETTO:+0900
TZNAME:JST
END:STANDARD
END:VTIMEZONE
BEGIN:VEVENT
UID:928934@techplay.jp
SUMMARY:【オンライン・視聴無料】知の掛け合わせで生み
 出す　これからの製品開発戦略
DTSTART;TZID=Asia/Tokyo:20231221T160000
DTEND;TZID=Asia/Tokyo:20231221T163000
DTSTAMP:20260420T204633Z
CREATED:20231205T055828Z
DESCRIPTION:イベント詳細はこちら\nhttps://techplay.jp/event/92893
 4?utm_medium=referral&utm_source=ics&utm_campaign=ics\n\n知の掛け合
 わせで生み出す　これからの製品開発戦略\n概要\n現代
 の製品開発は、市場の成熟と顧客ニーズの多様化によ
 り、従来以上に複雑かつ多角的なアプローチが要求さ
 れています。特に競争激化が伴う製造業界において生
 き残るためには、市場ニーズと独自性による参入障壁
 の確保の両立が不可欠です。\nしかしながら独自性の
 追求と市場ニーズのバランスとりは、プロダクトアウ
 トとマーケットイン両方の勘所が必要になるため難し
 い課題であります。\n本ウェビナーでは、組織内で誰
 がどんな情報に詳しいかを把握し、相互の知識を共有
 することでトランザクティブメモリーを高める手法を
 紹介します。この手法により、プロダクトアウトとマ
 ーケットインのバランスをとることで、より顧客にと
 って価値の高い製品開発の実現に近づくことが可能に
 なります。\nまた、実際の製品開発プロセスにおいて
 、どのように各個人の知を統合していけば、生産性の
 高い革新的な製品を創出できるか、弊社が提供する情
 報収集プラットフォーム『Anews』を例に解説いたしま
 す。このウェビナーを通して、製造業の製品開発に携
 わる皆様が、より効率的かつ効果的な製品開発を実現
 できるような、知見とインスピレーションをご提供で
 きればと思いますので、ぜひご参加いただければと思
 います。\n参加対象\n\n製造業にて製品開発に取り組ま
 れている方\nより生産的な製品開発組織をつくってい
 きたいとお悩みの方\n組織内にあるデータを効果的に
 製品開発に活かしていきたい方\n\n開催概要\n日　　　
 時：2023年12月21日(木) 16:00-16:30場　　　所：オンライン
 （Zoom）参　加　費：無料\n登壇者\n\n勝俣 洋平\nストッ
 クマーク株式会社\nパナソニック株式会社に新卒入社
 後、研究開発部門にて光学デバイスの開発者として従
 事。プロジェクター用途の新規光源製造プロセスの構
 築および、光学システムの新プラットフォームの立ち
 上げなどを推進したのち、経営戦略部門に異動。新規
 事業開拓やAIを用いた需要予測システムの構築など幅
 広い領域での業務を経験。その後、製造業領域の知見
 を活かし、イグニションポイント株式会社にて、AIを
 活用した業務効率化や、ESG戦略立案などを支援するコ
 ンサルタント業務に従事。2022年から、ストックマーク
 にセールス担当として参画し、現在はBizDevとしてプロ
 ダクトの新機能開発を推進している。\nストックマー
 クとは\nストックマークは「価値創造の仕組みを再発
 明し、人類を前進させる」をミッションに掲げ、最先
 端の自然言語処理技術を活用し、多くの企業様の事業
 創造活動を支援しております。\n自然言語処理技術を
 活用し、国内外約3万5千サイトの膨大なビジネスニュ
 ースを分類。業務に直結する情報をAIが届けることで
 、組織の情報感度を高め、事業アイディアの着想と組
 織内での発展を促す「Anews」、AIが組織や業務に合わせ
 て必要な情報を構造化し、示唆が得られる市場調査サ
 ービス「Astrategy」によって企業様の新たな価値創造を
 サポートしています。\n■Anewshttps://stockmark.co.jp/product/a
 news■Astrategyhttps://stockmark.co.jp/product/astrategy\n注意事項\n
 \n競合企業などのご参加をお断りする場合がございま
 す。予めご了承くださいませ。\n
LOCATION:オンライン
URL:https://techplay.jp/event/928934?utm_medium=referral&utm_source=ics&utm
 _campaign=ics
END:VEVENT
END:VCALENDAR
