BEGIN:VCALENDAR
VERSION:2.0
PRODID:-//https://techplay.jp//JP
CALSCALE:GREGORIAN
METHOD:PUBLISH
X-WR-CALDESC:【定員5人】むずかしい GA4\, 何をやればいい？
 SEO\, どんな使い方？ChatGPT\, Webのアクセス・反響・売上
 を増やす！これから始める GA4 × ChatGPT (AI) × SEO 「新」
 組み合わせ戦略【別日開催あり】
X-WR-CALNAME:【定員5人】むずかしい GA4\, 何をやればいい？
 SEO\, どんな使い方？ChatGPT\, Webのアクセス・反響・売上
 を増やす！これから始める GA4 × ChatGPT (AI) × SEO 「新」
 組み合わせ戦略【別日開催あり】
X-WR-TIMEZONE:Asia/Tokyo
BEGIN:VTIMEZONE
TZID:Asia/Tokyo
BEGIN:STANDARD
DTSTART:19700101T000000
TZOFFSETFROM:+0900
TZOFFSETTO:+0900
TZNAME:JST
END:STANDARD
END:VTIMEZONE
BEGIN:VEVENT
UID:928976@techplay.jp
SUMMARY:【定員5人】むずかしい GA4\, 何をやればいい？SEO\,
  どんな使い方？ChatGPT\, Webのアクセス・反響・売上を
 増やす！これから始める GA4 × ChatGPT (AI) × SEO 「新」組
 み合わせ戦略【別日開催あり】
DTSTART;TZID=Asia/Tokyo:20231220T140000
DTEND;TZID=Asia/Tokyo:20231220T150000
DTSTAMP:20260420T073006Z
CREATED:20231205T091001Z
DESCRIPTION:イベント詳細はこちら\nhttps://techplay.jp/event/92897
 6?utm_medium=referral&utm_source=ics&utm_campaign=ics\n\nむずかしい 
 GA4\, 何をやればいい？SEO\, どんな使い方？ChatGPT\nWebの
 アクセス・反響・売上を増やす！\n～ これから始める 
 GA4 × ChatGPT (AI) × SEO 『新』組み合わせ戦略 ～\n\n\n12月
 20日(水) 14:00～15:00\n\nもっと早く受講されたい方へ: 次
 の日程でも開催します\n\n12月 7日(木) 14:00～15:00 お申し
 込みなど詳しくは こちら\n\n12月 8日(金) 14:00～15:00 お
 申し込みなど詳しくは こちら\n\n12月13日(水) 14:00～15:00
  お申し込みなど詳しくは こちら\n\n12月15日(金) 14:00～1
 5:00 お申し込みなど詳しくは こちら\n\n\n\n\n\n\n初心者
 にも分りやすくGoogleの資格試験に 28回 パスした講師が
 解説\n\nGA4とSEO さらにChatGPTを組み合わせた戦略を「基
 本」から\n\n1回の定員が5人にも関わらず累計245人が申
 し込んだ人気セミナー「これから始める組み合わせ戦
 略(一例)」の完全リニューアル版\n「むずかしい」とい
 う声が多いGA4、しかし これはWeb運営上の欠かせないツ
 ール\nさらに日々のアクセス増 売上増のためSEOも考え
 なくてはならない\n最近 話題のChatGPTは どんな風にマ
 ーケティングに活用できるのか？\n\nチームは この変
 化に対応できるか？\n\nそんな悩みと危機感を抱いてい
 る方々に解決策を説明します\n\n▼こんな方に おすす
 めです\n\n時代の変化に対応できるようにチームをレベ
 ルアップさせたい\n\n\nこれからデジタル(Web)マーケテ
 ィングを始めようと思ってる\n\nもしくは始めてみたが
 試行錯誤が続いてる\n\n\nGA4を基本から知りたい\n\nGA4の
  どの機能を使うと今 行ってることの評価ができるか
 知りたい\n\n\nChatGPTが何なのか知りたい\n\nあるいはChatG
 PTを使ってるが活用できてない方\n\n\nSEOなど いくつか
 の施策は行ってるが うまく連携してない\n\nSEOのペー
 ジ速度対策に困ってる\n\n\n\n以前「これから始める組
 み合わせ戦略(一例)」を受講された方\n\nもちろん この
 講師の他のセミナーを受講された方も\n\n\n\nマーケテ
 ィングチームのリーダーの方\n\nさらに詳しい「参加対
 象」はページ下段に記載してあります\n\n\n\n▼セミナ
 ーの内容\n\n\n基本的なことでも場当たり的ではなく体
 系的に考え進めることで効果が得られる\n\n基本的なこ
 とでも組み合わせることで大きな効果が期待できる\nPD
 CAの大切さ\n\nGA4とChatGPTとSEOには どんな相互作用があ
 るのか\nGA4で まず見るべきデータは何か\nChatGPTに送る
 指示文「プロンプト」の作り方\nSEO対策キーワード探
 しのフレームワーク(考え方の枠組み)\nsitemap.xml の必要
 性\nネット広告とSEOを連携させる施策\n\n▼開催概要\n\n
 開催日時\n\n2023年12月20日(水) 14:00～15:00\n\nもっと早く
 受講されたい方へ: 次の日程でも開催します\n\n12月7日(
 木) 14:00～15:00 お申し込みなど詳しくは こちら\n\n12月8
 日(金) 14:00～15:00 お申し込みなど詳しくは こちら\n\n12
 月13日(水) 14:00～15:00 お申し込みなど詳しくは こちら\n
 \n12月15日(金) 14:00～15:00 お申し込みなど詳しくは こち
 ら\n\n\n\n\n\n\n・参加費無料\n・開催方法ウェビナー(オ
 ンラインセミナー)　※Zoomを利用します\n・参加方法お
 申し込み後にメールで ご案内致します\n▼タイムスケ
 ジュール\n\n\n\n時間\n内容\n\n\n\n\n13:50〜\n受付開始(視聴
 用URL開場)\n\n\n14:00〜14:45\nセミナー本編\n\n\n14:45〜15:00\n
 質疑応答(質問がなくなり次第終了)、また説明が分か
 りやすかったか？など直感的な印象などをアンケート
 させて頂きます。\n\n\n\n※ 当日予告なく時間配分・内
 容が変更になる可能性がございます\n▼講師紹介\n\n澤
 井 貞夫\n(株)GxP(旧グロース・インク(株)が統合されま
 した 詳しくは こちら)マーケター兼コンテンツ ディレ
 クター\n\n\n７つのGoogle資格保有者 試験に 28回 パス\n\nG
 oogle関連の各資格は1年ごとに更新のための再受験が必
 要\n\nつまり7つの資格 × 4年 ＝ 28回 の試験にパスして
 います\n\n\n\n\n講師の認定資格証明書はこちらで ご確
 認頂けます\n\n・通販 EC の経験を経て、スマホ[アプリ]
 /モバイルや PC 向けコンテンツのディレクションおよ
 びマーケティングの経験 多数。\n・企画立案から要件
 定義、そして進捗管理からプロジェクトの収益化まで
 をトータルで対応。\n\n\n最近の講演一例\n\nBusiness Web Se
 minar(有料)で12/5 17:30現在人気セミナーランキング総合
 １位！該当セミナー→Googleアナリティクス活用の具体
 的プロセス：SEO、広告、コンバージョンなど(詳しくは
 クリック)( 動画の一部は こちらで ご覧になれます )今
 回は そんな有料セミナーの講師の無料ライブ セミナ
 ーです\n▼参加対象\n\n\nマーケティングや広報ご担当
 者様・責任者様 全般\n\n\nデータ分析ご担当者様\n\n戦
 略立案ご担当者様\n\n事業計画ご担当者様\n\nECサイト運
 営者様\n\n\n以上いずれかの ご関係者様\n\n社員研修を
 検討中の人事部の方\n\n\n新卒に\n\n中途採用に\n\n\nあな
 たの\n\n\n部下に必要と思えたら\n\nご同僚にも\n\n\nその
 他 思い当たる人やチーム、部署に紹介してみては？\n
 その他とりあえず このセミナーで勉強してみたいと思
 われた方\n\n※ Web初心者から事業の成長カーブを目指
 してる方にまで分かりやすく ご説明します※ 同業他
 社の方や個人事業主 自営業 フリーランス 学生の方は
 対象外となります\n▼参加費\n無料\n▼主役は「あなた
 」 私どものサポート実績の一例\n日本一人口が少ない
 県 鳥取県 私たちは この鳥取県への移住者数を増やす
 取り組みを行ってる ふるさと鳥取県定住機構様をサポ
 ートさせて頂いていますこちら様の努力の積み重ねも
 あり おかげさまで今年度 上半期としては『過去最多
 』の移住者数となりました\n注意事項\n※ 参加を辞退
 する場合は、詳細ページより申込のキャンセルをお願
 い致します。※ 無断キャンセル・欠席が続く場合、次
 回以降の参加をお断りさせていただく場合がございま
 すのでご了承ください。
LOCATION:Zoom配信
URL:https://techplay.jp/event/928976?utm_medium=referral&utm_source=ics&utm
 _campaign=ics
END:VEVENT
END:VCALENDAR
