BEGIN:VCALENDAR
VERSION:2.0
PRODID:-//https://techplay.jp//JP
CALSCALE:GREGORIAN
METHOD:PUBLISH
X-WR-CALDESC:オウンドメディア運用者必見！ベテランコン
 サルタントによる年末相談祭
X-WR-CALNAME:オウンドメディア運用者必見！ベテランコン
 サルタントによる年末相談祭
X-WR-TIMEZONE:Asia/Tokyo
BEGIN:VTIMEZONE
TZID:Asia/Tokyo
BEGIN:STANDARD
DTSTART:19700101T000000
TZOFFSETFROM:+0900
TZOFFSETTO:+0900
TZNAME:JST
END:STANDARD
END:VTIMEZONE
BEGIN:VEVENT
UID:929452@techplay.jp
SUMMARY:オウンドメディア運用者必見！ベテランコンサル
 タントによる年末相談祭
DTSTART;TZID=Asia/Tokyo:20231221T120000
DTEND;TZID=Asia/Tokyo:20231221T130000
DTSTAMP:20260420T031232Z
CREATED:20231211T091009Z
DESCRIPTION:イベント詳細はこちら\nhttps://techplay.jp/event/92945
 2?utm_medium=referral&utm_source=ics&utm_campaign=ics\n\nオウンドメ
 ディア運用者必見！ベテランコンサルタントによる年
 末相談祭\n《年内最後》オウンドメディア運営者のお
 悩み解決！\n2023年はコアアルゴリズムアップデートが
 短期間に複数回リリースされたことから、これまで以
 上に対応に頭を悩ませた運営者の方は多いのではない
 でしょうか。当日は、SEOを中心に業界問わず様々な企
 業様のデジタルマーケティング支援を行ってきたベテ
 ランコンサルタント尾崎が、時間の許す限りメディア
 運営者のお悩みに丁寧にお答えいたします。他社のオ
 ウンドメディア担当者の悩みから市況感を掴むなど、
 情報収集の場としてもご活用ください！\n▼こんな方
 にオススメです！\n\n事業会社のオウンドメディア運用
 者様\nコアアルゴリズムアップデートの影響を受け対
 応にお悩みの運用者様\n他社のオウンドメディア担当
 者の悩みから市況感を掴みたい運用者様\n\n▼ウェビナ
 ー内容\n\n2023年SEO業界の動向振り返り\n事前質問回答\n
 当日質問回答\nまとめ\n\n▼過去の質問事例\n\n競合他社
 が上位に来るキーワード全てに対して、当社も対応し
 たいと上司に言われて困っています。取り扱い製品が
 とてもニッチなBtoB製品なので、他社に流れると機会損
 失になりますが、検索ボリュームは1000に満たないキー
 ワードばかりです。今あるページにできる限り盛り込
 むか、いくつかのキーワードごとに別途ランディング
 ページを設けるかどちらがよいでしょうか？\nエンタ
 メ系のニュースサイトを運営しています。過去に出し
 たホラー、都市伝説などに関するニュースから毎月一
 定の流入があったのですが、9月のコアアップデート以
 降急激にPVが下がりました。「サイトテーマから離れ
 たコンテンツはSEO的に評価されづらい」というような
 傾向やトレンドはあるのでしょうか？\n\n▼開催概要\n\
 n開催日時：2023年12月21日（木）12:00～13:00\n参加費：無
 料\n会場：オンライン　※Zoomを利用します\n参加方法
 ：お申込み受付後、メールにて視聴登録用URLをご案内
 いたします\n複数名でのご参加をご希望の場合は、1名
 様ずつお申し込みくださいますようお願い申し上げま
 す。\n\n▼登壇者\n株式会社CINCマーケティングDX事業本
 部 コンサルティング部マネージャー尾崎 篤志\n以上と
 なります。皆様のご参加、お待ちしております！\n\n※
 企業向けのセミナーでございますので、フリーメール
 での登録はご遠慮くださいますようお願いいたします
 。※競合他社/同業者/企業にご所属でない個人の方か
 らのお申込みなど、 当社の判断によりセミナー参加を
 お断りする場合があります。予めご了承ください。※
 終了時刻は前後する可能性がございます。※予告なく
 登壇者・内容の変更がある場合がございます。
LOCATION:オンラインセミナー
URL:https://techplay.jp/event/929452?utm_medium=referral&utm_source=ics&utm
 _campaign=ics
END:VEVENT
END:VCALENDAR
