BEGIN:VCALENDAR
VERSION:2.0
PRODID:-//https://techplay.jp//JP
CALSCALE:GREGORIAN
METHOD:PUBLISH
X-WR-CALDESC:2024年のSEOはどう対策していくべき？今年のお
 さらいから今後の展望を解説！
X-WR-CALNAME:2024年のSEOはどう対策していくべき？今年のお
 さらいから今後の展望を解説！
X-WR-TIMEZONE:Asia/Tokyo
BEGIN:VTIMEZONE
TZID:Asia/Tokyo
BEGIN:STANDARD
DTSTART:19700101T000000
TZOFFSETFROM:+0900
TZOFFSETTO:+0900
TZNAME:JST
END:STANDARD
END:VTIMEZONE
BEGIN:VEVENT
UID:929961@techplay.jp
SUMMARY:2024年のSEOはどう対策していくべき？今年のおさら
 いから今後の展望を解説！
DTSTART;TZID=Asia/Tokyo:20231222T140000
DTEND;TZID=Asia/Tokyo:20231222T150000
DTSTAMP:20260421T074316Z
CREATED:20231217T025140Z
DESCRIPTION:イベント詳細はこちら\nhttps://techplay.jp/event/92996
 1?utm_medium=referral&utm_source=ics&utm_campaign=ics\n\nこんな方に
 おすすめ\n\n最新のSEOの動向を知りたい方\n今年のSEO関
 連のトピックが知りたい方\n今後のSEO対策の考え方に
 ついて興味がある方\n\n\n\n\n\n開催日\n2023年12月22日(金)\
 n\n\n\n\n時間\n14:00～15:00 (15分前より入室可能)※配信時
 間は1時間を目安としており、配信時間が前後する可能
 性がございます。 ご了承頂けますと幸いです。\n\n\n場
 所\nウェビナー\n\n\n定員\n30名\n\n\n参加費\n無料\n\n\n登
 壇者\n石原 凛子\n\n\n\nセミナー内容紹介\n2023年も残す
 ところ数日となりました。今年は、8月から11月にかけ
 てコアアップデートが連続されるなど、例年とは違う
 動向が見られた年です。また、ChatGPTをはじめとした生
 成AIの台頭により、コンテンツ作成の在り方にも変化
 が訪れました。SEOは、アルゴリズムがアップデートし
 続けるため、日々最新の情報を取り入れる必要があり
 ます。そこで、今回のウェビナーでは、2023年のSEO業界
 のおさらいと今後の展望について紹介します。SEOはア
 ルゴリズムのアップデートにいかに柔軟に対応できる
 かがポイントです。年の瀬にこれまでのSEOのおさらい
 をしておきましょう。\n株式会社ipeについて\n弊社は SE
 O対策を専業に10年取り組ませて頂いており、KADOKAWA様
 、SUNTORY様、LIXL様をはじめ、ご支援させて頂いた企業
 様は300社以上になります。社内には、分析チームだけ
 ではなくコンテンツチーム、エンジニアチームが在籍
 しているため、品質の高い記事作成によるビックワー
 ドでの上位化や施策の実装・開発など技術的なフォロ
 ーまで一貫してご支援させて頂ける体制となっており
 ます。また、UI/UX改善によるCVRの向上を見据えたご支
 援をさせて頂くことで、検索順位の向上だけでなく売
 り上げ増加までをサポートします。\nTwitterはこちら↓F
 ollow @info_ipe\nクライアント実績一例\n\nウェビナー参加
 特典\nウェビナー参加頂いた方の中でご希望される方
 には下記の特典をプレゼントします。・「サイト無料
 診断」⇒SEO対策に関するお悩みを解決させて頂く相談
 会を無料でご招待させて頂きます。下記に該当する悩
 みをお持ちの方に、お役立ていただける内容になって
 おります。\n・検索順位が伸び悩んでいる・今以上に
 流入数を増加させたいが、方法が分からない・流入数
 は確保できているが、CVにつながらない\nプログラム\n\
 n\n\n時間\n内容\n\n\n\n\n13:45~14:00\nZOOM入室可能\n\n\n14:00~15:
 00\n2023年のコアアップデートのおさらいSEOで重要視さ
 れる項目の変化や生成AIについて2024年のSEOはどう対策
 する？\n\n\n\n株式会社ipe　セールスチーム 石原 凛子近
 畿大学文芸学部文化デザイン学科卒。在学中は人間の
 五感に関する感性学を専攻し、アロマオイルを使った
 心地よい空間のデザインやプロデュースについて研究
 。2023年4月に株式会社ipeにセールスチームとして加入
 。多角的な視点を使った空間デザインでの経験をもと
 に、さまざまな角度からマーケティングに関する提案
 を行っている。大規模ポータルサイトやECサイトなど
 幅広い業種業界での課題発掘に従事している。業界に
 迫る本質的な課題調査には定評があり、数多くの新規
 顧客からご好評をいただいている。
LOCATION:オンライン
URL:https://techplay.jp/event/929961?utm_medium=referral&utm_source=ics&utm
 _campaign=ics
END:VEVENT
END:VCALENDAR
