BEGIN:VCALENDAR
VERSION:2.0
PRODID:-//https://techplay.jp//JP
CALSCALE:GREGORIAN
METHOD:PUBLISH
X-WR-CALDESC:AIビジネスの教科書登場！米ベストセラーに学
 ぶ、生成AI時代のDXの鉄則とは何か？
X-WR-CALNAME:AIビジネスの教科書登場！米ベストセラーに学
 ぶ、生成AI時代のDXの鉄則とは何か？
X-WR-TIMEZONE:Asia/Tokyo
BEGIN:VTIMEZONE
TZID:Asia/Tokyo
BEGIN:STANDARD
DTSTART:19700101T000000
TZOFFSETFROM:+0900
TZOFFSETTO:+0900
TZNAME:JST
END:STANDARD
END:VTIMEZONE
BEGIN:VEVENT
UID:930434@techplay.jp
SUMMARY:AIビジネスの教科書登場！米ベストセラーに学ぶ
 、生成AI時代のDXの鉄則とは何か？
DTSTART;TZID=Asia/Tokyo:20240112T120000
DTEND;TZID=Asia/Tokyo:20240112T130000
DTSTAMP:20260421T100442Z
CREATED:20231221T101759Z
DESCRIPTION:イベント詳細はこちら\nhttps://techplay.jp/event/93043
 4?utm_medium=referral&utm_source=ics&utm_campaign=ics\n\nAIビジネス
 の教科書登場！米ベストセラーに学ぶ、生成AI時代のDX
 の鉄則とは何か？\n▼内容\nハーバード・ビジネス・ス
 クール教授が、医療系スタートアップからアマゾンや
 マイクロソフトまで、さまざまな企業の事例を分析し
 、その成功と失敗を具体的に解説した名著がついに日
 本でも出版されました。\nAI活用アイデアとはどのよう
 なものであるべきか？ なぜプロジェクトがPoCで止まっ
 てしまうのか？ 組織や会社をどのように変革すべきか
 ？経営層、DX推進担当マネジャーなど、新時代のビジ
 ネスリーダーがまず知っておくべき本質を突いた、AI
 ビジネスの教科書と呼ぶべき一冊です。\n本セミナー
 では本書籍の監訳者であるグロービス経営大学院の吉
 田教授と弊社常務の大植が、本の内容と実事例の両面
 から生成AI時代のAIファーストカンパニーについて議論
 します。\n▼セミナー内でご紹介する内容・AIファース
 トカンパニーとはどのようにあるべきか？・具体的な
 事例から見るAIファーストカンパニー・AIファーストカ
 ンパニーとなるためのステップとは　※内容は変更に
 なる可能性がございます。\n本セミナーにご参加いた
 だき、終了後のアンケートにお答えいただいた皆様に
 は、講演資料をプレゼントいたします。戦略立案や社
 内の情報共有に是非お役立てください。（本セミナー
 は無料です）\n▼こんな方におすすめ\n\nDX推進部門の
 ご責任者・ご担当者\n経営者、事業責任者 など\n\n\n▼
 講義内容\n12:00-　　対談12:45-　　質疑応答13:00‐　　終
 了\n▼講師プロフィール\n吉田 素文 氏\nグロービス経
 営大学院　教授\n大手私鉄会社を経てグロービスに参
 画。ビジネス・経営の全領域を横断するゼネラル・マ
 ネジメントを専門とし、グロービス経営大学院での講
 義に加え、20年以上にわたり製造業を中心に、経営者
 育成プログラムを設計・提供、幅広い産業での企業の
 戦略・組織課題に幅広く取り組み、これまで1500件を超
 えるビジネスの問題解決に関わる。\n近年は特に、デ
 ジタル、サステナブル、グローバルを中心テーマに活
 動。テクノロジー企業との協働等を通じ、“第四次産
 業革命時代の戦略・組織への変革”、 ”社会課題起点
 の戦略・ビジネスモデルの進化”等のテーマで様々な
 企業を支援している。著書に『ファシリテーションの
 教科書』（東洋経済新報社）、共訳書に『一流ビジネ
 ススクールで教える デジタル・シフト戦略 』(ダイヤ
 モンド社)がある。\n\n大植 択真\n株式会社エクサウィ
 ザーズ　常務取締役 兼株式会社Exa Enterprise AI　代表取
 締役\n京都大学工学部卒業。京都大学工学研究科修了
 （都市計画、AI・データサイエンス）。2013年、ボスト
 ンコンサルティンググループに入社。事業成長戦略、
 事業変革、DX推進、新規事業立ち上げなどの多数のプ
 ロジェクトに従事した後に2018年、エクサウィザーズ入
 社。2019年4月より、AI事業管掌執行役員として年間数百
 件のAI導入・DX実現を担当。企業の経営層や管理職向け
 DX研修の講師実績が多数ある。2020年6月に取締役就任。
 2023年6月に常務取締役就任。兵庫県立大学客員准教授
 。兵庫県ChatGPT等生成AI活用検討プロジェクトチーム ア
 ドバイザー。著書に「Web3時代のAI戦略」（日経BP、2022
 年)、「次世代AI戦略2025 激変する20分野 変革シナリオ12
 8」（日経BP、2021年)。\n\n\n▼注意事項\n\n開催方法：Web
 セミナー　※Zoomを利用します\n参加方法：お申込後に
 、別途メールにてご案内致します。\n競合他社様のお
 申込みはお断りする場合がございます。予めご容赦く
 ださい。\n
LOCATION:オンライン
URL:https://techplay.jp/event/930434?utm_medium=referral&utm_source=ics&utm
 _campaign=ics
END:VEVENT
END:VCALENDAR
