BEGIN:VCALENDAR
VERSION:2.0
PRODID:-//https://techplay.jp//JP
CALSCALE:GREGORIAN
METHOD:PUBLISH
X-WR-CALDESC:自社専用の生成AI環境を構築できる！ 法人向
 けChatGPT「exaBase 生成AI」とNSSOLの支援
X-WR-CALNAME:自社専用の生成AI環境を構築できる！ 法人向
 けChatGPT「exaBase 生成AI」とNSSOLの支援
X-WR-TIMEZONE:Asia/Tokyo
BEGIN:VTIMEZONE
TZID:Asia/Tokyo
BEGIN:STANDARD
DTSTART:19700101T000000
TZOFFSETFROM:+0900
TZOFFSETTO:+0900
TZNAME:JST
END:STANDARD
END:VTIMEZONE
BEGIN:VEVENT
UID:930527@techplay.jp
SUMMARY:自社専用の生成AI環境を構築できる！ 法人向けChat
 GPT「exaBase 生成AI」とNSSOLの支援
DTSTART;TZID=Asia/Tokyo:20240116T120000
DTEND;TZID=Asia/Tokyo:20240116T130000
DTSTAMP:20260420T160522Z
CREATED:20231222T070004Z
DESCRIPTION:イベント詳細はこちら\nhttps://techplay.jp/event/93052
 7?utm_medium=referral&utm_source=ics&utm_campaign=ics\n\n自社専用の
 生成AI環境を構築できる！ 法人向けChatGPT「exaBase 生成A
 I」とNSSOLの支援\n▼内容\nChatGPTをご利用中の企業様か
 ら次のようなお悩みを伺います。\n「ChatGPTに質問して
 も、一般的なことしか回答してくれない」「規程など
 自社データを生成AIに取り込んで、業務を効率化した
 い」\nそこで本セミナーでは、自社データを連携させ
 て独自のChatGPT環境を構築できる「exaBase 生成AI powered by
  GPT-4」を提供するエクサウィザーズと、生成AI活用支
 援サービスを提供する日鉄ソリューションズ（NSSOL）
 が共催し、各サービスの特長や活用方法、事例につい
 て解説いたします。\n▼セミナー内でご紹介する内容
 ・「exaBase 生成AI」の特長、活用方法・「exaBase 生成AI
 」のデータ連携機能の特長、活用成功企業の事例・NSSO
 Lの生成AI活用支援の特長、活用方法、事例 など　※内
 容は変更になる可能性がございます。\n「素早く、自
 社独自の生成AI環境を構築したい」「生成AIと社内外の
 データベースや情報源を連携させたい」など、生成AI
 の一歩進んだ活用をしたいとお考えの企業様におすす
 めの内容です。（本セミナーは無料です）\n▼こんな
 方におすすめ\n\n情報システム部門やDX推進部門、企画
 部門のご責任者・ご担当者\n経営者、事業責任者 など\
 n\n\n▼講義内容\n12:00-　　法人向けChatGPT「exaBase 生成AI
 」のご紹介12:25-　　NSSOLによるサクセスプランのご紹
 介12:45-　　質疑応答13:00‐　　終了\n▼講師プロフィー
 ル\n三橋 利也 氏\n日鉄ソリューションズ株式会社デジ
 タルソリューション＆コンサルティング本部デジタル
 テクノロジー＆ソリューション事業部AI ソリューショ
 ン部　部長\n東京大学大学院理学系研究科卒業。理学
 修士。専攻は素粒子実験物理学。 2003年 新日鉄ソリュ
 ーションズ（現 日鉄ソリューションズ）入社。システ
 ム研究開発センターにて、検索エンジン・アプリケー
 ションアーキテクチャ等の研究に従事。検索エンジン
 に関する特許２件取得。ITアーキテクトとして、金融
 、流通・サービス、製造業、社会公共分野のシステム
 開発に多数参画。 2013年 米Purdue大学クラナートビジネ
 ススクール卒業。 MBA取得。 2015年より、 AI プラットフ
 ォームDataRobot事業の責任者として、ビジネスディベロ
 ップメントと顧客への導入コンサルティングを主導。
 初代DataRobot Partner of the year MVPに選出。2022年、DataRobot 
 社より世界一の代理店の表彰を受ける。 AIソリューシ
 ョン部の部長として、組織運営にあたりつつ、現在も1
 0社以上の製薬企業・製造業・金融機関のAI活用に関す
 るコンサルティングや新規AIソリューションの企画活
 動を行っている。エクサウィザーズ社との業務提携の
 窓口を務める。\n\n河井 浩一\n株式会社エクサウィザー
 ズ執行役員コーポレート統括 副統括株式会社Exa Enterpri
 se AI社長室長\n2008年、パデュー大学クラナート経営学
 部卒業後、ゴールドマン・サックス証券株式会社の投
 資銀行部門に入社。2015年、同部門におけるヴァイス・
 プレジデントに就任。約13年にわたり、国内外の多数
 のテクノロジー・メディア・テレコム業界や物流業界
 に対するM&A、IPOを含む資金調達に関する助言業務に従
 事。近年は、アクティビスト対応や企業価値向上策に
 関する助言業務にも関与。 2021年4月、当社参画。2022年
 2月社長室長、4月執行役員就任。社長直下として、財
 務戦略・資本政策に限らず、中長期的な企業価値の向
 上に向けた様々な業務・施策に従事。\n\n\n▼注意事項\
 n\n開催方法：Webセミナー　※Zoomを利用します\n参加方
 法：お申込後に、別途メールにてご案内致します。\n
 競合他社様のお申込みはお断りする場合がございます
 。予めご容赦ください。\n
LOCATION:オンライン
URL:https://techplay.jp/event/930527?utm_medium=referral&utm_source=ics&utm
 _campaign=ics
END:VEVENT
END:VCALENDAR
