BEGIN:VCALENDAR
VERSION:2.0
PRODID:-//https://techplay.jp//JP
CALSCALE:GREGORIAN
METHOD:PUBLISH
X-WR-CALDESC:シニアプログラミング発表会-2024年1月 #5
X-WR-CALNAME:シニアプログラミング発表会-2024年1月 #5
X-WR-TIMEZONE:Asia/Tokyo
BEGIN:VTIMEZONE
TZID:Asia/Tokyo
BEGIN:STANDARD
DTSTART:19700101T000000
TZOFFSETFROM:+0900
TZOFFSETTO:+0900
TZNAME:JST
END:STANDARD
END:VTIMEZONE
BEGIN:VEVENT
UID:930800@techplay.jp
SUMMARY:シニアプログラミング発表会-2024年1月 #5
DTSTART;TZID=Asia/Tokyo:20240127T193000
DTEND;TZID=Asia/Tokyo:20240127T210000
DTSTAMP:20260422T092155Z
CREATED:20231226T013444Z
DESCRIPTION:イベント詳細はこちら\nhttps://techplay.jp/event/93080
 0?utm_medium=referral&utm_source=ics&utm_campaign=ics\n\nシニアプロ
 グラミング発表会 #5\nシニアプログラミングネットワ
 ークの発表会も5回目です！\nシニアのみなさんのプロ
 グラミング学習を支援するシニアプログラミングネッ
 トワークの活動が始まってそろそろ5年。「学び始める
 にはいつからでも遅くない！」として活動の幅も大き
 く広がっています。\nそして、シニアプログラミング
 ネットワークに集まるみなさんの作品も多くなってき
 ました。そこでみなさんの作品を発表する場をつろう
 ということで、シニアプログラミング発表会を行いま
 す。\n今回のエントリーしていただいたみなさん！完
 成している作品もあれば、「今こういう内容を勉強中
 です」というものまで様々。\nまた、イベントの後半
 は質疑応答も兼ねた懇親会とします。ぜひ発表した皆
 さんと交流してください！\nYouTubeでの配信も行います
 。懇親会でお話ししたい方はZoomで、発表だけみたい方
 はYouTubeからご覧ください。\n概要\n本イベントはオン
 ラインイベントです。\n懇親会にも参加希望の方は以
 下のZoom URLから参加お願いします。https://us02web.zoom.us/j/
 88298565528?pwd=c2NiSTBIaUVpQ2ZVeTlDWWxQUktGdz09\n発表を見るだけ
 で良い方はYouTubeからご覧ください。https://youtube.com/live
 /8MPtRsmgNHs?feature=share\nタイムスケジュール\n\n\n\n時間\n
 内容\n\n\n\n\n19:25〜\n入室可能\n\n\n19:30〜19:35\nオープニ
 ング\n\n\n19:35〜20:30\n発表会！廣部久美子；Mike（三毛）
 」　と　「三文字」鈴木富司：iPhoneアプリ開発とChatGPT
 園田真理子：この１年、生成ＡＩでしてきたこと小松
 八千代：着せ替えゲーム大阪支部：大阪支部の活動とS
 cratch作品\n\n\n20:30〜20:55\n振り返り\n\n\n20:55〜21:00\nクロ
 ージング\n\n\n21:00〜22:00\n懇親会\n\n\n\n※ 当日予告なく
 時間配分・内容が変更になる可能性がございます。\n
 登壇者\n参加対象\n\nプログラミングを勉強したいシニ
 ア\nシニアのプログラミング勉強を支援したい若手\nプ
 ログラミングに興味関心がある方\nシニアが作成した
 プログラミング作品に興味がある方\n興味があればど
 なたでも！\n\n参加費\n無料\nハッシュタグ\n#シニアプ
 ログラミング\n注意事項\n\nリクルーティング、勧誘な
 ど、採用目的・宣伝目的でのイベント参加はお断りし
 ております。\n
LOCATION:オンライン
URL:https://techplay.jp/event/930800?utm_medium=referral&utm_source=ics&utm
 _campaign=ics
END:VEVENT
END:VCALENDAR
