BEGIN:VCALENDAR
VERSION:2.0
PRODID:-//https://techplay.jp//JP
CALSCALE:GREGORIAN
METHOD:PUBLISH
X-WR-CALDESC:Web広告とSEOどちらに投資すべき？広告運用者
 兼SEOコンサルタントがフラットな立場で解説します！
X-WR-CALNAME:Web広告とSEOどちらに投資すべき？広告運用者
 兼SEOコンサルタントがフラットな立場で解説します！
X-WR-TIMEZONE:Asia/Tokyo
BEGIN:VTIMEZONE
TZID:Asia/Tokyo
BEGIN:STANDARD
DTSTART:19700101T000000
TZOFFSETFROM:+0900
TZOFFSETTO:+0900
TZNAME:JST
END:STANDARD
END:VTIMEZONE
BEGIN:VEVENT
UID:930813@techplay.jp
SUMMARY:Web広告とSEOどちらに投資すべき？広告運用者兼SEO
 コンサルタントがフラットな立場で解説します！
DTSTART;TZID=Asia/Tokyo:20240111T140000
DTEND;TZID=Asia/Tokyo:20240111T150000
DTSTAMP:20260423T104554Z
CREATED:20231226T042222Z
DESCRIPTION:イベント詳細はこちら\nhttps://techplay.jp/event/93081
 3?utm_medium=referral&utm_source=ics&utm_campaign=ics\n\nこんな方に
 おすすめ\n\nWeb広告とSEOの違いを知りたい方\nこれからW
 ebマーケティングを始める予定のマーケター\n自社にと
 ってどのようなマーケティング手法が適切かわからな
 い方\n\n\n\n\n開催日\n2023年1月11日(木)\n\n\n\n\n時間\n14:00
 ～15:00(15分前より入室可能)\n\n\n場所\nウェビナー\n\n\n
 定員\n30名\n\n\n参加費\n無料\n\n\n登壇者\n土田 悠真\n\n\n\
 nセミナー内容紹介\n今回のウェビナーでは各Web広告の
 媒体の特徴をご紹介いたします。大手実績多数の株式
 会社ipeに在籍するアナリストたちの知見を凝縮。現場
 で使える生きた知識をご紹介します。より効果的にWeb
 広告を使いこなすためにも、弊社の知見をぜひご活用
 ください。\n株式会社ipeについて\n弊社は SEO対策を専
 業に10年取り組ませて頂いており、KADOKAWA様、SUNTORY様
 、LIXL様をはじめ、ご支援させて頂いた企業様は300社以
 上になります。社内には、分析チームだけではなくコ
 ンテンツチーム、エンジニアチームが在籍しているた
 め、品質の高い記事作成によるビックワードでの上位
 化や施策の実装・開発など技術的なフォローまで一貫
 してご支援させて頂ける体制となっております。また
 、UI/UX改善によるCVRの向上を見据えたご支援をさせて
 頂くことで、検索順位の向上だけでなく売り上げ増加
 までをサポートします。\nTwitterはこちら↓Follow @info_ipe
 \nクライアント実績一例\n\nウェビナー参加特典\nウェ
 ビナーにご参加頂いた方でご希望の方に下記の特典を
 ご用意しております。\n・「web広告無料相談会へご招
 待」⇒web広告に関するお悩みを解決させて頂く相談会
 に無料でご招待させて頂きます。下記に該当する悩み
 をお持ちの方は、お役立ていただける内容になってお
 ります\n・CPAをより下げた運用をしたい・新しいweb広
 告の可能性を知りたい\nプログラム\n\n\n\n時間\n内容\n\n
 \n\n\n13:45~14:00\nZOOM入室可能\n\n\n14:00~15:00\nWeb広告とSEO対
 策の特徴整理各手法の簡易シュミレーションの紹介Web
 広とSEO対策を取り組む上での優先順位の見極め方紹介\
 n\n\n\n株式会社ipe　土田悠真早稲田大学卒業後、東京地
 方検察庁に入庁。刑事事件の捜査や公判事務等を行う
 。その後、株式会社ipeに入社。ディレクターとして入
 社も、3か月でコンサルタントとの兼任を始める。さら
 にその後、9か月でコンサルティングチームのリーダー
 に就任。年商150億円超えの中古品マーケットプレイス
 、商品数500万品超えのファッションECサイトをはじめ
 とし、様々なジャンルのサイトをコンサルティング、
 分析を行う。ツイッターはこちら。
LOCATION:オンライン
URL:https://techplay.jp/event/930813?utm_medium=referral&utm_source=ics&utm
 _campaign=ics
END:VEVENT
END:VCALENDAR
