BEGIN:VCALENDAR
VERSION:2.0
PRODID:-//https://techplay.jp//JP
CALSCALE:GREGORIAN
METHOD:PUBLISH
X-WR-CALDESC:【本年度最後です！】GO島根！ITエンジニア転
 職フェア／オンライン
X-WR-CALNAME:【本年度最後です！】GO島根！ITエンジニア転
 職フェア／オンライン
X-WR-TIMEZONE:Asia/Tokyo
BEGIN:VTIMEZONE
TZID:Asia/Tokyo
BEGIN:STANDARD
DTSTART:19700101T000000
TZOFFSETFROM:+0900
TZOFFSETTO:+0900
TZNAME:JST
END:STANDARD
END:VTIMEZONE
BEGIN:VEVENT
UID:930972@techplay.jp
SUMMARY:【本年度最後です！】GO島根！ITエンジニア転職フ
 ェア／オンライン
DTSTART;TZID=Asia/Tokyo:20240127T130000
DTEND;TZID=Asia/Tokyo:20240127T170000
DTSTAMP:20260420T204955Z
CREATED:20231227T071930Z
DESCRIPTION:イベント詳細はこちら\nhttps://techplay.jp/event/93097
 2?utm_medium=referral&utm_source=ics&utm_campaign=ics\n\n「GO島根！IT
 エンジニア転職フェア」について\n島根県へのUIターン
 を考えていらっしゃるITエンジニア向けの転職フェア
 です。このフェアには、島根県内のIT企業が多数集結
 します。\n企業の採用担当者と直接話ができるため、
 効率的な転職活動ができます。自由に企業ブースを回
 って色々な企業と情報交換してください。\n\n1日で複
 数の企業に出会えるため、効率的に転職活動ができま
 す。\nイベント専用にまとめた求人情報で、欲しい情
 報を一気読み。\n専門員による転職相談や移住相談コ
 ーナーもあります。\nエントリーしたい企業があった
 場合、企業への連絡や日程調整を代行します。\n\n開催
 概要\n開催日時\n令和6年1月27日（土）13:00～17:00（受付
 開始：12:30～）\n場所\nオンライン（oviceを利用）\nスケ
 ジュール\n\n\n\n\n\n\n\n\n\n12:30-\n受付開始\n\n\n13:00-13:05\n
 主催者開会挨拶\n\n\n13:05-17:00\n島根県IT企業ブース出展I
 T人材コーディネーターによる転職相談コーナーふるさ
 と島根定住財団による移住相談コーナー\n\n\n\n対象者\n
 島根県外在住のITエンジニア\n参加費\n無料（通信費は
 自己負担）\n参加方法\nインターネットに接続できるパ
 ソコン（Webカメラとマイクが使用できるもの）が必要
 です。\n申込方法\nIT WORK@島根のイベントページからお
 申し込みください。
LOCATION:オンライン（oviceを使用）
URL:https://techplay.jp/event/930972?utm_medium=referral&utm_source=ics&utm
 _campaign=ics
END:VEVENT
END:VCALENDAR
