BEGIN:VCALENDAR
VERSION:2.0
PRODID:-//https://techplay.jp//JP
CALSCALE:GREGORIAN
METHOD:PUBLISH
X-WR-CALDESC:【事例付き】ECサイトのSEO戦略！中長期的に流
 入と売り上げを伸ばす設計方法
X-WR-CALNAME:【事例付き】ECサイトのSEO戦略！中長期的に流
 入と売り上げを伸ばす設計方法
X-WR-TIMEZONE:Asia/Tokyo
BEGIN:VTIMEZONE
TZID:Asia/Tokyo
BEGIN:STANDARD
DTSTART:19700101T000000
TZOFFSETFROM:+0900
TZOFFSETTO:+0900
TZNAME:JST
END:STANDARD
END:VTIMEZONE
BEGIN:VEVENT
UID:931298@techplay.jp
SUMMARY:【事例付き】ECサイトのSEO戦略！中長期的に流入
 と売り上げを伸ばす設計方法
DTSTART;TZID=Asia/Tokyo:20240118T140000
DTEND;TZID=Asia/Tokyo:20240118T150000
DTSTAMP:20260420T094821Z
CREATED:20240104T054430Z
DESCRIPTION:イベント詳細はこちら\nhttps://techplay.jp/event/93129
 8?utm_medium=referral&utm_source=ics&utm_campaign=ics\n\nこんな方に
 おすすめ\n\nECサイトの運用担当者\nECサイトの流入や売
 り上げが伸びなくて悩んでいる人\nSEOの戦略設計まで
 知りたい人\n\n\n\n\n開催日\n2023年1月18日(木)\n\n\n\n\n時間
 \n14:00～15:00 (15分前より入室可能)※配信時間は1時間を
 目安としており、配信時間が前後する可能性がござい
 ます。 ご了承頂けますと幸いです。\n\n\n場所\nウェビ
 ナー\n\n\n定員\n30名\n\n\n参加費\n無料\n\n\n登壇者\n石原 
 凛子\n\n\n\nセミナー内容紹介\nECサイトの売り上げを伸
 ばすには、広告配信やSNSなど様々な方法があります。
 その中でも、特定のキーワードでサイトを上位に表示
 させるSEOは、ECサイトの売り上げを伸ばすのに効果的
 です。限られた予算の範囲内で配信する広告などと違
 って、SEOでは継続的な集客ができます。ECサイトのSEO
 戦略には下記が挙げられます。\n・適切なキーワード
 設計・商品への導線設計・モバイルフレンドリーなサ
 イト設計自社のECサイトに足りない部分を把握して、
 改善する必要があります。\nそこで、今回のウェビナ
 ーではECサイトにおけるSEO戦略の設計方法を解説しま
 す。実際にipeが対応した事例を基に解説しております
 。\nこれを機に、ECサイトの売り上げを伸ばすためのSEO
 戦略をチェックしましょう。\n株式会社ipeについて\n弊
 社は SEO対策を専業に10年取り組ませて頂いており、KADO
 KAWA様、SUNTORY様、LIXL様をはじめ、ご支援させて頂いた
 企業様は300社以上になります。社内には、分析チーム
 だけではなくコンテンツチーム、エンジニアチームが
 在籍しているため、品質の高い記事作成によるビック
 ワードでの上位化や施策の実装・開発など技術的なフ
 ォローまで一貫してご支援させて頂ける体制となって
 おります。また、UI/UX改善によるCVRの向上を見据えた
 ご支援をさせて頂くことで、検索順位の向上だけでな
 く売り上げ増加までをサポートします。\nTwitterはこち
 ら↓Follow @info_ipe\nクライアント実績一例\n\nウェビナー
 参加特典\nウェビナー参加頂いた方の中でご希望され
 る方には下記の特典をプレゼントします。・「サイト
 無料診断」⇒SEO対策に関するお悩みを解決させて頂く
 相談会を無料でご招待させて頂きます。下記に該当す
 る悩みをお持ちの方に、お役立ていただける内容にな
 っております。\n・検索順位が伸び悩んでいる・今以
 上に流入数を増加させたいが、方法が分からない・流
 入数は確保できているが、CVにつながらない\nプログラ
 ム\n\n\n\n時間\n内容\n\n\n\n\n13:45~14:00\nZOOM入室可能\n\n\n14:
 00~15:00\nSEO戦略とはECサイトにおけるSEO戦略ipeが設計し
 たECサイトのSEO戦略\n\n\n\n株式会社ipe　セールスチーム
  石原 凛子近畿大学文芸学部文化デザイン学科卒。在
 学中は人間の五感に関する感性学を専攻し、アロマオ
 イルを使った心地よい空間のデザインやプロデュース
 について研究。2023年4月に株式会社ipeにセールスチー
 ムとして加入。多角的な視点を使った空間デザインで
 の経験をもとに、さまざまな角度からマーケティング
 に関する提案を行っている。大規模ポータルサイトやE
 Cサイトなど幅広い業種業界での課題発掘に従事してい
 る。業界に迫る本質的な課題調査には定評があり、数
 多くの新規顧客からご好評をいただいている。
LOCATION:オンライン
URL:https://techplay.jp/event/931298?utm_medium=referral&utm_source=ics&utm
 _campaign=ics
END:VEVENT
END:VCALENDAR
