BEGIN:VCALENDAR
VERSION:2.0
PRODID:-//https://techplay.jp//JP
CALSCALE:GREGORIAN
METHOD:PUBLISH
X-WR-CALDESC:成功事例から学ぶ！Webサイト集客術～Webサイ
 ト経由の売上を2倍にした方法とは～
X-WR-CALNAME:成功事例から学ぶ！Webサイト集客術～Webサイ
 ト経由の売上を2倍にした方法とは～
X-WR-TIMEZONE:Asia/Tokyo
BEGIN:VTIMEZONE
TZID:Asia/Tokyo
BEGIN:STANDARD
DTSTART:19700101T000000
TZOFFSETFROM:+0900
TZOFFSETTO:+0900
TZNAME:JST
END:STANDARD
END:VTIMEZONE
BEGIN:VEVENT
UID:931325@techplay.jp
SUMMARY:成功事例から学ぶ！Webサイト集客術～Webサイト経
 由の売上を2倍にした方法とは～
DTSTART;TZID=Asia/Tokyo:20240110T120000
DTEND;TZID=Asia/Tokyo:20240110T130000
DTSTAMP:20260420T111258Z
CREATED:20240104T074909Z
DESCRIPTION:イベント詳細はこちら\nhttps://techplay.jp/event/93132
 5?utm_medium=referral&utm_source=ics&utm_campaign=ics\n\n成功事例か
 ら学ぶ！Webサイト集客術～Webサイト経由の売上を2倍に
 した方法とは～\n効果的なWeb集客手法を成功事例をも
 とに解説\nデジタルマーケティングの急速な発展によ
 り、引き続きWebサイトを使った集客の重要性は高まっ
 ています。一方で様々な制約から、思うようにWebサイ
 トを活用できていない、集客や売上に繋がらないとお
 悩みの企業様も多いのではないでしょうか。本ウェビ
 ナーではSEO集客に焦点を当て、ニッチなBtoB商材を扱う
 企業様がWebサイト経由で売上を2倍以上に増やした事例
 をはじめ、toB／toC両方の事例をコンサルタントよりご
 紹介いたします。\n▼こんな方にオススメです！\n\nWeb
 集客への注力を検討している事業会社様\n対面営業の
 みでの販路拡大に限界を感じている事業会社様\n大手
 情報サイトに頼らない集客の仕組みをつくりたい企業
 様\n\n▼ウェビナー内容\n\nWebサイトのSEO集客について\n
 \nよくあるケース（toB／toCの場合）\n\n\n主要なSEO施策\n
 BtoB成功事例\nBtoC成功事例\n\n▼開催概要\n\n開催日時：2
 024年1月10日（水）12:00～13:00\n参加費：無料\n会場：オ
 ンライン　※Zoomを利用します\n参加方法：お申込み受
 付後、メールにて視聴登録用URLをご案内いたします\n
 複数名でのご参加をご希望の場合は、1名様ずつお申し
 込みくださいますようお願い申し上げます。\n\n▼登壇
 者\n株式会社CINCマーケティングDX事業本部 コンサルテ
 ィング部マネージャー尾崎 篤志\n以上となります。皆
 様のご参加、お待ちしております！\n\n※企業向けのセ
 ミナーでございますので、フリーメールでの登録はご
 遠慮くださいますようお願いいたします。※競合他社/
 同業者/企業にご所属でない個人の方からのお申込みな
 ど、 当社の判断によりセミナー参加をお断りする場合
 があります。予めご了承ください。※終了時刻は前後
 する可能性がございます。※予告なく登壇者・内容の
 変更がある場合がございます。
LOCATION:オンラインセミナー
URL:https://techplay.jp/event/931325?utm_medium=referral&utm_source=ics&utm
 _campaign=ics
END:VEVENT
END:VCALENDAR
