BEGIN:VCALENDAR
VERSION:2.0
PRODID:-//https://techplay.jp//JP
CALSCALE:GREGORIAN
METHOD:PUBLISH
X-WR-CALDESC:リプレイスをご検討中のお客様必見！40万人以
 上が使う 『CYBERMAIL Σ 』を徹底解剖！
X-WR-CALNAME:リプレイスをご検討中のお客様必見！40万人以
 上が使う 『CYBERMAIL Σ 』を徹底解剖！
X-WR-TIMEZONE:Asia/Tokyo
BEGIN:VTIMEZONE
TZID:Asia/Tokyo
BEGIN:STANDARD
DTSTART:19700101T000000
TZOFFSETFROM:+0900
TZOFFSETTO:+0900
TZNAME:JST
END:STANDARD
END:VTIMEZONE
BEGIN:VEVENT
UID:931666@techplay.jp
SUMMARY:リプレイスをご検討中のお客様必見！40万人以上
 が使う 『CYBERMAIL Σ 』を徹底解剖！
DTSTART;TZID=Asia/Tokyo:20240125T160000
DTEND;TZID=Asia/Tokyo:20240125T163000
DTSTAMP:20260421T125459Z
CREATED:20240109T011732Z
DESCRIPTION:イベント詳細はこちら\nhttps://techplay.jp/event/93166
 6?utm_medium=referral&utm_source=ics&utm_campaign=ics\n\nリプレイス
 をご検討中のお客様必見\n40万人以上が使う『CYBERMAIL Σ
 』を徹底解剖！\n概要\n昨今、急な値上がりやサポート
 終了でご利用中のサービスの変更のご相談が増えてお
 ります。\n低コストなものがいい！シンプルに使いた
 い！今のメーラ・GWはそのまま使いたい！そんなご希
 望はすべて『CYBERMAIL Σ』で満たせます！\n本セミナー
 では、実際のいろいろなお客様の事例もご紹介しなが
 ら、自社で”したいこと・必須ポイント”が叶うのか
 その場で回答もさせていただきます。\n乗換予定のサ
 ービスが高い…、PPAP対策したいけど今のメールだとで
 きない…といったお客様にぜひ聞いていただきたい30
 分のセミナーとなります！\n今後メールサービスの変
 更を予定されている企業様・今急いで探している企業
 様はお気軽にご参加くださいませ！\nセミナープログ
 ラム\n本セミナーでは、メールサービスを変更すると
 きに、気にしたいポイントをご紹介させていただきま
 す。\n\n『CYBERMAIL Σ』ってなに？\n特徴をご紹介\n実際
 のお客様のご相談・事例（スピード移行/カスタマイズ
 事例など）をご紹介\n質疑応答\n\nこんな方におすすめ
 ！\n\n社内システム担当者\n情報システム部担当者\n今
 後メールの変更を検討中の方\nメールサービスのサポ
 ート終了が迫っている方\n\n参加費\n無料\n注意事項\n\n
 競合他社様、参加対象以外の企業様からのお申し込み
 は、お断りさせていただく場合がございます。\nリク
 ルーティング、勧誘など、採用目的でのイベント参加
 はお断りしております。\n無断キャンセルや欠席が続
 く場合、次回以降の参加をお断りさせていただく場合
 がございます。\n
LOCATION:ビデオウェビナー「Zoom」
URL:https://techplay.jp/event/931666?utm_medium=referral&utm_source=ics&utm
 _campaign=ics
END:VEVENT
END:VCALENDAR
