BEGIN:VCALENDAR
VERSION:2.0
PRODID:-//https://techplay.jp//JP
CALSCALE:GREGORIAN
METHOD:PUBLISH
X-WR-CALDESC:アジャイル開発をUIテスト自動化で加速しよう
 ！
X-WR-CALNAME:アジャイル開発をUIテスト自動化で加速しよう
 ！
X-WR-TIMEZONE:Asia/Tokyo
BEGIN:VTIMEZONE
TZID:Asia/Tokyo
BEGIN:STANDARD
DTSTART:19700101T000000
TZOFFSETFROM:+0900
TZOFFSETTO:+0900
TZNAME:JST
END:STANDARD
END:VTIMEZONE
BEGIN:VEVENT
UID:931994@techplay.jp
SUMMARY:アジャイル開発をUIテスト自動化で加速しよう！
DTSTART;TZID=Asia/Tokyo:20240130T160000
DTEND;TZID=Asia/Tokyo:20240130T170000
DTSTAMP:20260420T035110Z
CREATED:20240111T012511Z
DESCRIPTION:イベント詳細はこちら\nhttps://techplay.jp/event/93199
 4?utm_medium=referral&utm_source=ics&utm_campaign=ics\n\n概要\n開発
 からリリースまでの期間が短い昨今、アジャイル開発
 ・DevOps時代となっております。 アジャイル開発におい
 ては、短いサイクルの品質維持が特に重要であるため
 、UIテストの自動化が注目を集めています。そこで本
 セミナーでは、アジャイル開発におけるE2Eテストの課
 題とそれに対する解決策としてテスト自動化ツール「R
 anorex」をご紹介をします。アジャイル開発を効率良く
 行いたい方や、UIテストの自動化に興味がある方は、
 ぜひご視聴ください。\n本セミナーは、Zoomを利用したW
 EBセミナーです。お申込みいただきますと「参加者へ
 の情報」にURLなどが表示されます。\nアジェンダ\n\n\n\n
 内容\n\n\n\n\nアジャイル開発におけるE2Eテストの課題\n\
 n\nUIテスト自動化ツール「Ranorex」の紹介\n\n\nデモンス
 トレーション\n\n\n質疑応答\n\n\n\n次のような方におす
 すめです\n\nアジャイル開発でUIテストの自動化に取り
 組みたい方\nこれからテスト自動化に取り組もうとし
 ている方\nテスト自動化ツールの選定を行う予定の方\n
 \n参加費\n無料\nお問い合わせ\nテクマトリックス株式
 会社　ソフトウェアエンジニアリング事業部
LOCATION:オンライン(Zoom)
URL:https://techplay.jp/event/931994?utm_medium=referral&utm_source=ics&utm
 _campaign=ics
END:VEVENT
END:VCALENDAR
