BEGIN:VCALENDAR
VERSION:2.0
PRODID:-//https://techplay.jp//JP
CALSCALE:GREGORIAN
METHOD:PUBLISH
X-WR-CALDESC:【メディア担当者なら知っておきたい】SEO記
 事のライティング方法とは！？ユーザニーズの拾い方
 からライティング方法まで解説
X-WR-CALNAME:【メディア担当者なら知っておきたい】SEO記
 事のライティング方法とは！？ユーザニーズの拾い方
 からライティング方法まで解説
X-WR-TIMEZONE:Asia/Tokyo
BEGIN:VTIMEZONE
TZID:Asia/Tokyo
BEGIN:STANDARD
DTSTART:19700101T000000
TZOFFSETFROM:+0900
TZOFFSETTO:+0900
TZNAME:JST
END:STANDARD
END:VTIMEZONE
BEGIN:VEVENT
UID:932013@techplay.jp
SUMMARY:【メディア担当者なら知っておきたい】SEO記事の
 ライティング方法とは！？ユーザニーズの拾い方から
 ライティング方法まで解説
DTSTART;TZID=Asia/Tokyo:20240119T140000
DTEND;TZID=Asia/Tokyo:20240119T150000
DTSTAMP:20260421T083338Z
CREATED:20240111T050217Z
DESCRIPTION:イベント詳細はこちら\nhttps://techplay.jp/event/93201
 3?utm_medium=referral&utm_source=ics&utm_campaign=ics\n\nこんな方に
 おすすめ\n\nSEO記事の作成や編集を担当している方\n作
 成した記事が上位表示されずお悩みの方\nオウンドメ
 ディアの流入を増やしたい方\n\n\n\n\n開催日\n2023年1月19
 日(金)\n\n\n\n\n時間\n14:00～15:00(15分前より入室可能)\n\n\n
 場所\nウェビナー\n\n\n定員\n30名\n\n\n参加費\n無料\n\n\n
 登壇者\n水越 貫太\n\n\n\nセミナー内容紹介\n時間をかけ
 て作ったSEO記事が、上位表示されないとお悩みの方は
 いませんか？\nSEOを上位表示させるには、単純なライ
 ティングスキルだけでなく下記のようなスキルが必要
 です。・ターゲットユーザーに適した言葉遣いや表現
 方法・ユーザーニーズの把握・狙ったキーワードで上
 位表示するための構成案作成これらすべてのスキルを
 一から勉強するのは難しいかもしれません。そこで今
 回は、SEO記事を書くために必要なライティング方法を
 紹介します。SEO記事に必要なライティングスキルを身
 に付ければ、オウンドメディアの流入を増やし、コン
 バージョンの増加も狙えます。現在オウンドメディア
 を運用しており、成果を伸ばしたいと考えている方は
 ぜひご参加ください。\n株式会社ipeについて\n弊社は SE
 O対策を専業に10年取り組ませて頂いており、KADOKAWA様
 、SUNTORY様、LIXL様をはじめ、ご支援させて頂いた企業
 様は300社以上になります。社内には、分析チームだけ
 ではなくコンテンツチーム、エンジニアチームが在籍
 しているため、品質の高い記事作成によるビックワー
 ドでの上位化や施策の実装・開発など技術的なフォロ
 ーまで一貫してご支援させて頂ける体制となっており
 ます。また、UI/UX改善によるCVRの向上を見据えたご支
 援をさせて頂くことで、検索順位の向上だけでなく売
 り上げ増加までをサポートします。\nTwitterはこちら↓F
 ollow @info_ipe\nクライアント実績一例\n\nウェビナー参加
 特典\nウェビナーにご参加頂いた方でご希望の方に下
 記の特典をご用意しております。\n・「GA4設定チェッ
 クリスト」⇒ウェビナーで使用させて頂いた、GA4基本
 設定の手順が一目で分かるチェックシートを今回ご参
 加頂いた方、限定でお渡しさせて頂きます。是非、今
 一度ご自分の手でご確認ください\n・「サイト無料診
 断」⇒SEO対策に関するお悩みを解決させて頂く相談会
 を無料でご招待させて頂きます。下記に該当する悩み
 をお持ちの方に、お役立ていただける内容になってお
 ります。\n・検索順位が伸び悩んでいる・今以上に流
 入数を増加させたいが、方法が分からない・流入数は
 確保できているが、CVにつながらない\nプログラム\n\n\n
 \n時間\n内容\n\n\n\n\n13:45~14:00\nZOOM入室可能\n\n\n14:00~15:00\
 nSEO記事に必要な要素とはSEO記事のライティング方法紹
 介！SEO記事ライティングの際の注意点\n\n\n\n株式会社ip
 e　セールスチーム 水越 貫太\n早稲田大学商学部卒。
 マーケティングを専攻し、ブランド戦略論や消費者行
 動論を学ぶ。在学時に、インターンとしてipeへ参画。
  現在はインサイドセールスとして、持ち前の傾聴力
 で、お客様に寄り添い、お客様の課題解決に向けた営
 業活動を行うなど、新規顧客との接点創出に従事して
 いる。
LOCATION:オンライン
URL:https://techplay.jp/event/932013?utm_medium=referral&utm_source=ics&utm
 _campaign=ics
END:VEVENT
END:VCALENDAR
