BEGIN:VCALENDAR
VERSION:2.0
PRODID:-//https://techplay.jp//JP
CALSCALE:GREGORIAN
METHOD:PUBLISH
X-WR-CALDESC:2/18(日) Accenture Song キャリアフェス＆1Day選考会
 （現地会場&オンライン）
X-WR-CALNAME:2/18(日) Accenture Song キャリアフェス＆1Day選考会
 （現地会場&オンライン）
X-WR-TIMEZONE:Asia/Tokyo
BEGIN:VTIMEZONE
TZID:Asia/Tokyo
BEGIN:STANDARD
DTSTART:19700101T000000
TZOFFSETFROM:+0900
TZOFFSETTO:+0900
TZNAME:JST
END:STANDARD
END:VTIMEZONE
BEGIN:VEVENT
UID:932064@techplay.jp
SUMMARY:2/18(日) Accenture Song キャリアフェス＆1Day選考会（
 現地会場&オンライン）
DTSTART;TZID=Asia/Tokyo:20240218T100000
DTEND;TZID=Asia/Tokyo:20240218T180000
DTSTAMP:20260420T031109Z
CREATED:20240111T075508Z
DESCRIPTION:イベント詳細はこちら\nhttps://techplay.jp/event/93206
 4?utm_medium=referral&utm_source=ics&utm_campaign=ics\n\n概要\n≪ア
 クセンチュア ソング本部が主催するキャリアセミナー
 です！≫\nアクセンチュア ソングでは、コンサルティ
 ングビジネスを脱却し “生活者起点”を軸にまだ世に
 無い新たな価値を創造し続けています。当日は経営層
 や現場社員より直接魅力をご紹介します。ご参加お待
 ちしております！今回のセミナーでは実際のプロジェ
 クト事例や中途で活躍中の社員の方々が自身のキャリ
 アや現在対応しているプロジェクトについて詳らかに
 お話をし、やりがい、おもしろさについて語ります！\
 nテーマにご興味ある方はもちろん、アクセンチュアに
 ついてご興味ある方々もお気軽にご参加下さい。\n組
 織について\nアクセンチュアには5つの事業本部があり
 、アクセンチュア ソングはそのなかの1つです。5つの
 事業本部のなかには、コンサルティングを専門とする
 部門や、システム構築・運用を主とする部門などがあ
 りますが、アクセンチュア ソング部門の独自性は、部
 内にコンサルティングやエンジニアリングなど、お客
 様を支援するためのあらゆるケイパビリティを内包し
 ている点にあります。 また、お客様の先にいる「生活
 者」への価値提供に重きを置くBtoBtoCのサービスを提供
 している点でも、他の事業本部と大きく異なります。 
 同じチームには多くのエンジニアが在籍しており、顧
 客体験を具現化するさまざまなシステムのIT戦略立案
 、構想策定、システム導入・開発、運用まで幅広く支
 援する役割を担います。\n当日のプログラム\n・採用説
 明会＋各応募職種別座談会・選考会　 ※事前予約制※
 当日予告なく時間配分が変更になる可能性がございま
 す。※参加人数に応じて内容を変更する場合がござい
 ます。\n参加対象\n＊本イベントは社会人経験のある方
 を対象としております。　参加目的が不適切だと判断
 される場合には、運営側で参加をキャンセルさせてい
 ただく場合がございます。\n・アクセンチュア ソング
 本部に興味がある方\n場所\nアクセンチュア・イノベー
 ション・ハブ東京（９F）〒108-0073 港区三田一丁目4番1
 号 住友不動産麻布十番ビル\n参加費\n無料\n応募方法\n2
 /18(日) Accenture Song キャリアフェス＆1Day選考会（現地会
 場&オンライン）参加登録 (beamery.com)テーマにご興味あ
 る方はもちろん、アクセンチュアソングについてご興
 味ある方々もお気軽にご参加下さい。\n注意事項\n欠席
 される場合は、お手数ですが速やかにキャンセル処理
 をお願い致します。無断キャンセルや欠席が続く場合
 、次回以降の参加をお断りさせていただく場合がござ
 います。
LOCATION:オンライン or 来社（アクセンチュア・イノベー
 ション・ハブ東京 9F）
URL:https://techplay.jp/event/932064?utm_medium=referral&utm_source=ics&utm
 _campaign=ics
END:VEVENT
END:VCALENDAR
