BEGIN:VCALENDAR
VERSION:2.0
PRODID:-//https://techplay.jp//JP
CALSCALE:GREGORIAN
METHOD:PUBLISH
X-WR-CALDESC:2/7（水）Amazonギフト券が当たる！！大容量ク
 ラウドファイルサーバー導入支援セミナー開催のお知
 らせ
X-WR-CALNAME:2/7（水）Amazonギフト券が当たる！！大容量ク
 ラウドファイルサーバー導入支援セミナー開催のお知
 らせ
X-WR-TIMEZONE:Asia/Tokyo
BEGIN:VTIMEZONE
TZID:Asia/Tokyo
BEGIN:STANDARD
DTSTART:19700101T000000
TZOFFSETFROM:+0900
TZOFFSETTO:+0900
TZNAME:JST
END:STANDARD
END:VTIMEZONE
BEGIN:VEVENT
UID:932065@techplay.jp
SUMMARY:2/7（水）Amazonギフト券が当たる！！大容量クラウ
 ドファイルサーバー導入支援セミナー開催のお知らせ
DTSTART;TZID=Asia/Tokyo:20240207T150000
DTEND;TZID=Asia/Tokyo:20240207T160000
DTSTAMP:20260423T051150Z
CREATED:20240111T080441Z
DESCRIPTION:イベント詳細はこちら\nhttps://techplay.jp/event/93206
 5?utm_medium=referral&utm_source=ics&utm_campaign=ics\n\n2/7（水）Amaz
 onギフト券が当たる！！大容量クラウドファイルサー
 バー導入支援セミナー\n概要\n株式会社TOKAIコミュニケ
 ーションズは、2024年2月7日（水）に大容量クラウドフ
 ァイルサーバー導入支援セミナーを開催します。\n「
 クラウドファイルサーバーを導入したいが、コストが
 気になる」とお考えの方も多いと思います。今回は、
 大容量クラウドファイルサーバーを低コストで利用す
 る秘訣を、コスト試算例などを用いて徹底解説します
 。\nセミナーでは、Amazon FSx for NetApp ONTAPの基本的な機
 能、最新情報、導入事例などをご紹介します。導入イ
 メージを持ちたい方に是非ご参加頂きたいセミナーで
 す。\n\n・クラウドファイルサーバーを導入検討してい
 る・大容量クラウドファイルサーバーに興味がある・A
 mazon FSx for NetApp ONTAPついて理解したい・Amazon FSx for NetAp
 p ONTAPの最新情報を知りたい\n皆様のご参加を心よりお
 待ちしております。\nまた今回はウェビナーにご参加
 いただいた後、アンケートにご回答いただいた方より
 、 抽選で20名様に5000円分のAmazonギフト券をプレゼント
 します！！！ぜひ最後まで、ご参加ください。\nセミ
 ナー名称\n大容量クラウドファイルサーバーをローコ
 ストで使う秘密とは？～Amazon FSx for NetApp ONTAPを徹底解
 説～\nタイムスケジュール\n\n\n\n時間\n内容\n\n\n\n\n14:45
 ～15:00\n受付開始\n\n\n15:00～15:05\n講演開始のご案内\n\n\n
 15:05～15:15\n大容量クラウドファイルサーバー Amazon FSx f
 or NetApp ONTAPとは（仮）講師：ネットアップ合同会社\n\n
 \n15:15～15:25\nおさえておきたい、Amazon FSx for NetApp ONTAP
 最新情報（仮）講師：ネットアップ合同会社\n\n\n15:25
 ～15:45\n構築例からわかるクラウドファイルサーバーの
 導入イメージ（仮）講師：株式会社TOKAIコミュニケー
 ションズ\n\n\n15:45～15:50\n質疑応答\n\n\n15:50～15:55\n講演
 終了のご案内\n\n\n\n参加費\n無料\n参加方法\n申込ペー
 ジからお申込みをお願いします。※お申込み期限　開
 催日当日の14:30までZoomウェビナーを使用し、開催しま
 す。事前にZoomウェビナーにアクセスできるブラウザ環
 境（Google Chrome、MozillFirefox）を準備いただき、環境チ
 ェックをお願いします。（環境チェックURL　 https://zoom
 .us/test）\n※同業他社の方のお申込み/ご参加はお断り
 しております。\n共催\n株式会社TOKAIコミュニケーショ
 ンズネットアップ合同会社\n注意事項\n\nリクルーティ
 ング、勧誘など、採用目的でのイベント参加はお断り
 しております。\nキャンセル待ち・補欠・落選の方は
 ご参加いただくことが出来ませんのでご了承ください
 。\n欠席される場合は、お手数ですが速やかにキャン
 セル処理をお願い致します。\n無断キャンセルや欠席
 が続く場合、次回以降の参加をお断りさせていただく
 場合がございます。\n申込時アンケートを正確に回答
 頂けていない場合、個別にご連絡させていただく場合
 がございます。\n
LOCATION:オンライン
URL:https://techplay.jp/event/932065?utm_medium=referral&utm_source=ics&utm
 _campaign=ics
END:VEVENT
END:VCALENDAR
