BEGIN:VCALENDAR
VERSION:2.0
PRODID:-//https://techplay.jp//JP
CALSCALE:GREGORIAN
METHOD:PUBLISH
X-WR-CALDESC:事業推進の成功は未来の可視化が鍵！－魅力
 や想いが伝わるイメージビジュアル活用術－
X-WR-CALNAME:事業推進の成功は未来の可視化が鍵！－魅力
 や想いが伝わるイメージビジュアル活用術－
X-WR-TIMEZONE:Asia/Tokyo
BEGIN:VTIMEZONE
TZID:Asia/Tokyo
BEGIN:STANDARD
DTSTART:19700101T000000
TZOFFSETFROM:+0900
TZOFFSETTO:+0900
TZNAME:JST
END:STANDARD
END:VTIMEZONE
BEGIN:VEVENT
UID:932138@techplay.jp
SUMMARY:事業推進の成功は未来の可視化が鍵！－魅力や想
 いが伝わるイメージビジュアル活用術－
DTSTART;TZID=Asia/Tokyo:20240124T120000
DTEND;TZID=Asia/Tokyo:20240124T130000
DTSTAMP:20260420T142653Z
CREATED:20240112T055842Z
DESCRIPTION:イベント詳細はこちら\nhttps://techplay.jp/event/93213
 8?utm_medium=referral&utm_source=ics&utm_campaign=ics\n\n事業推進の
 成功は未来の可視化が鍵！－魅力や想いが伝わるイメ
 ージビジュアル活用術－\n概要\n\n\nスマートシティの
 推進や都市計画で変わっていく未来の街の姿\n\n\n開発
 した新商品でユーザーの暮らしが豊かに変化している
 イメージ\n\n\n従業員がワクワク、生き生きと働くため
 に必要な会社のビジョンや理念浸透\n\n\nより良い未来
 を生み出すための取り組みやサービスを推進するにあ
 たっては周囲の理解や協力が必要不可欠です。\nしか
 しせっかくよい施策やサービスがあったとしても、周
 囲に伝えたいイメージや想いがうまく伝えられずにプ
 ロジェクトを前に進められないといった、お悩みを抱
 えている方は多いのではないでしょうか・・？\nこの
 ような未来のことを推進するプロジェクトでは、取り
 組みやサービスがどのように活用され、人々の身近な
 暮らしや企業で働く人の意識や行動がどう変化するの
 かを、企画や方針を伝える相手にイメージを正確に伝
 えることが重要です。そのためにはビジュアルを用い
 て**【可視化】**することが、効果的となります。\n今
 回のウェビナーでは、約31年間CM制作やイベントのイメ
 ージイラストをはじめ広告イラストやゲームイラスト
 を多数手がけてきたアクアスターの知見を活かし、プ
 ロジェクトや事業推進におけるイメージを可視化する
 重要性やその活用法をご紹介いたします。\nタイムス
 ケジュール\n\n\n\n時間\n内容\n\n\n\n\n12:00〜\nウェビナー
 開始\n\n\n\n第1部：イメージビジュアルの重要性第2部：
 イメージビジュアルのメリット第3部：魅力を120％伝え
 るビジュアルのポイント第4部：イメージビジュアルの
 効果的活用方法第5部：まとめ質疑応答\n\n\n〜13:00\nウ
 ェビナー終了\n\n\n\n※ 当日予告なく時間配分・内容が
 変更になる可能性がございます。\n登壇者\n\n杉浦 迅\n
 株式会社アクアスター 企画営業部第1アカウントユニ
 ットリーダー\n広告代理店を中心に様々な企業の課題
 解決に従事。\n企業のCM制作・商品企画をはじめ官公庁
 が推進するプロジェクトなど\nイメージを可視化する
 案件を多数担当\n\n\n\n太田光\n株式会社アクアスター 
 ビジュアルワークス部 部長\n全体のマネジメントを担
 当しながら、\n自身も広告業界をはじめ様々な業界の
 イラスト制作に従事。\n描くだけではなく、企業課題
 に応じ、タッチや構図などの提案も行う。\n\nこんな方
 にオススメ！\n\nスマートシティの推進や都市計画など
 を推進する部署に所属されている方\n新商品の開発や
 プロモーションに携わっている方\n企業のビジョンや
 理念浸透を推進される方\n自治体・行政・官公庁関係\n
 \n参加費\n無料\n注意事項\n\n弊社並びに講師への営業目
 的でのウェビナー参加はお断りしております。\n今回
 のウェビナーは学生の方は対象外となります。ご了承
 ください。\n
LOCATION:オンライン
URL:https://techplay.jp/event/932138?utm_medium=referral&utm_source=ics&utm
 _campaign=ics
END:VEVENT
END:VCALENDAR
