BEGIN:VCALENDAR
VERSION:2.0
PRODID:-//https://techplay.jp//JP
CALSCALE:GREGORIAN
METHOD:PUBLISH
X-WR-CALDESC:【techteam主催！】チーム開発の基本を知ろうの
 会 ~チーム開発には欠かせない便利ツールもご紹介~
X-WR-CALNAME:【techteam主催！】チーム開発の基本を知ろうの
 会 ~チーム開発には欠かせない便利ツールもご紹介~
X-WR-TIMEZONE:Asia/Tokyo
BEGIN:VTIMEZONE
TZID:Asia/Tokyo
BEGIN:STANDARD
DTSTART:19700101T000000
TZOFFSETFROM:+0900
TZOFFSETTO:+0900
TZNAME:JST
END:STANDARD
END:VTIMEZONE
BEGIN:VEVENT
UID:932291@techplay.jp
SUMMARY:【techteam主催！】チーム開発の基本を知ろうの会 ~
 チーム開発には欠かせない便利ツールもご紹介~
DTSTART;TZID=Asia/Tokyo:20240117T200000
DTEND;TZID=Asia/Tokyo:20240117T210000
DTSTAMP:20260420T080649Z
CREATED:20240114T043808Z
DESCRIPTION:イベント詳細はこちら\nhttps://techplay.jp/event/93229
 1?utm_medium=referral&utm_source=ics&utm_campaign=ics\n\nチーム開発
 の基本を知ろうの会！\n今回の勉強会について\n今回の
 テーマはチーム開発の基本を振り返ろうにしました。
 普段から実施しているチーム開発って正しく進められ
 ているのかな？など気になる人に参加してほしく開催
 します！決してこれが正解！というわけではなく、チ
 ームにより各々正解の進め方や流れは違うと思います
 ので、あくまで1例として捉えていただければ幸いです
 ！また、ディスカッションも随時行おうと考えており
 ますのでこの方法はどういったチームには効果的なの
 かなど含めてディスカッションしましょう！\nタイム
 スケジュール\n\n\n\n時間\n内容\n\n\n\n\n20:00〜20:10\n始め
 に\n\n\n20:10〜20:50\n勉強会\n\n\n20:50~21:00\n終わりの言葉\n\
 n\n\n※ 当日予告なく時間配分・内容が変更になる可能
 性がございます。\n登壇者\n\nダイキング\ntechteam主催\n
 大学卒業後に金融業界に就職、徐々にプログラミング
 に興味を持ち始める。\n2018年からwebエンジニアとして
 仕事を始める。\n2021年にwebエンジニアとして独立。\n20
 22年からエンジニアコミュニティに自分なりに貢献を
 したいと考えtechteamの運営を始め交流会やもくもく会
 の主催をする。\n\n参加対象\n\nこの勉強会に興味を持
 ってくださる方\n\n参加費\n無料\n注意事項\n\nリクルー
 ティング、勧誘など、採用目的でのイベント参加はお
 断りしております。\nキャンセル待ち・補欠・落選の
 方はご参加いただくことが出来ませんのでご了承くだ
 さい。\n欠席される場合は、お手数ですが速やかにキ
 ャンセル処理をお願い致します。\n無断キャンセルや
 欠席が続く場合、次回以降の参加をお断りさせていた
 だく場合がございます。\n
LOCATION:オンライン
URL:https://techplay.jp/event/932291?utm_medium=referral&utm_source=ics&utm
 _campaign=ics
END:VEVENT
END:VCALENDAR
