BEGIN:VCALENDAR
VERSION:2.0
PRODID:-//https://techplay.jp//JP
CALSCALE:GREGORIAN
METHOD:PUBLISH
X-WR-CALDESC:HubSpot活用セミナー ～ BtoBで使えるワークフロ
 ー8選!～
X-WR-CALNAME:HubSpot活用セミナー ～ BtoBで使えるワークフロ
 ー8選!～
X-WR-TIMEZONE:Asia/Tokyo
BEGIN:VTIMEZONE
TZID:Asia/Tokyo
BEGIN:STANDARD
DTSTART:19700101T000000
TZOFFSETFROM:+0900
TZOFFSETTO:+0900
TZNAME:JST
END:STANDARD
END:VTIMEZONE
BEGIN:VEVENT
UID:932343@techplay.jp
SUMMARY:HubSpot活用セミナー ～ BtoBで使えるワークフロー8
 選!～
DTSTART;TZID=Asia/Tokyo:20240118T150000
DTEND;TZID=Asia/Tokyo:20240118T163000
DTSTAMP:20260420T224409Z
CREATED:20240115T015328Z
DESCRIPTION:イベント詳細はこちら\nhttps://techplay.jp/event/93234
 3?utm_medium=referral&utm_source=ics&utm_campaign=ics\n\n名称：HubSpot
 活用セミナー ～ BtoBで使えるワークフロー8選！～\n形
 態：ウェビナー（オンライン）講師：株式会社トライ
 エッジ日時：1月18日(木) 15時～16時30分参加費：無料対
 象：HubSpot MarketingHubまたはSalesHubのProfessionalプラン以上
 を契約されている企業の管理・実務者様、上記プラン
 をご検討中の方【お申込みはこちら】 【申し込みに
 関しての注意事項】\n※勉強会へのご参加は、事前に
 ご登録いただいた方のみとなります。※同業他社及び
 当社の競合にあたる企業の方のお申込みはご遠慮いた
 だく場合がございます。予めご了承ください。※HubSpot
  MarketingHubまたはSalesHubのProfessionalプラン以上方向けの
 内容となっております。こちらの研修はHubSpotのワーク
 フローに関する基礎構成や基本的な操作方法を学び、
 今後より効果的にご活用いただくための内容となって
 おります。アジェンダ■HubSpotのワークフロー機能と最
 近アップデート内容について\n■BtoBでよく使うワーク
 フローを解説└ マーケティング担当者に役立つワーク
 フロー4選　 - 資料ダウンロードをしたリードへの活用
 　 - 新規リードへのステップメール　 - 自社セミナー
 への活用　 - マーケティングコンタクトのメンテナン
 ス（競合等の除外を自動化）└ 営業担当者に役立つワ
 ークフロー4選　 - 問い合わせや料金ページを3回見た
 人を営業に通知　 - 未入力項目を営業に通知　 - 取引
 ステージの移行を営業チームに共有　 - HubSpotでコンタ
 クトへの接触 / 未接触の営業状況をワークフローで自
 動付与する方法\n■質疑応答【お申込みはこちら】お
 申込みをキャンセルされる場合、速やかに弊社までご
 連絡いただけますようお願い申し上げます。そのほか
 不明点ございましたら、お手数ですがinfo@triedge.co.jpま
 でご連絡のほどお願いいたします。**プライバシーポ
 リシー**をご確認の上、送信してください。
LOCATION:オンライン
URL:https://techplay.jp/event/932343?utm_medium=referral&utm_source=ics&utm
 _campaign=ics
END:VEVENT
END:VCALENDAR
