BEGIN:VCALENDAR
VERSION:2.0
PRODID:-//https://techplay.jp//JP
CALSCALE:GREGORIAN
METHOD:PUBLISH
X-WR-CALDESC:2/25(日)15:00【体験レッスン】マインクラフトで
 初めてのプログラミング！（新小3〜中3 保護者同伴要
 ）
X-WR-CALNAME:2/25(日)15:00【体験レッスン】マインクラフトで
 初めてのプログラミング！（新小3〜中3 保護者同伴要
 ）
X-WR-TIMEZONE:Asia/Tokyo
BEGIN:VTIMEZONE
TZID:Asia/Tokyo
BEGIN:STANDARD
DTSTART:19700101T000000
TZOFFSETFROM:+0900
TZOFFSETTO:+0900
TZNAME:JST
END:STANDARD
END:VTIMEZONE
BEGIN:VEVENT
UID:933534@techplay.jp
SUMMARY:2/25(日)15:00【体験レッスン】マインクラフトで初
 めてのプログラミング！（新小3〜中3 保護者同伴要）
DTSTART;TZID=Asia/Tokyo:20240225T150000
DTEND;TZID=Asia/Tokyo:20240225T163000
DTSTAMP:20260420T044735Z
CREATED:20240125T060140Z
DESCRIPTION:イベント詳細はこちら\nhttps://techplay.jp/event/93353
 4?utm_medium=referral&utm_source=ics&utm_campaign=ics\n\n感染症対策
 に伴う注意事項\n\n①発熱や悪寒、咳などの症状がある
 場合やご体調がすぐれない場合にはご来校いただけま
 せん。\n②教室入口に消毒液を設置していますのでよ
 ろしければご利用ください。\n③入室可能時間を開始10
 分前からとさせていただいております。\n\nATC校の様子
 \n\n\n▼ 教室：最大12名でレッスンを実施。\n\n\n\n\n\n▼
 待合スペース：レッスンスペースの奥には保護者様の
 待合スペースもございます♪\n\n\n\n\n\n▼貸出パソコン
 完備：パソコンがない場合は無料でお貸し出しいたし
 ます♪\n\n\n\n\nアクセス方法\n\nトレードセンター前駅
 からお越しの場合
LOCATION:キッズプログラミングスクール8x9　ATC校（トレー
 ドセンター前駅で下車直結） 大阪府大阪市住之江区南
 港北2-1-10 ATCビル ITM棟3F D-1 Robo&Peace
URL:https://techplay.jp/event/933534?utm_medium=referral&utm_source=ics&utm
 _campaign=ics
END:VEVENT
END:VCALENDAR
