BEGIN:VCALENDAR
VERSION:2.0
PRODID:-//https://techplay.jp//JP
CALSCALE:GREGORIAN
METHOD:PUBLISH
X-WR-CALDESC:第2回渋滞予測チャレンジコンテスト ～高速料
 金・ルート検索データを活用した高速道路の渋滞予測
 高度化への挑戦～
X-WR-CALNAME:第2回渋滞予測チャレンジコンテスト ～高速料
 金・ルート検索データを活用した高速道路の渋滞予測
 高度化への挑戦～
X-WR-TIMEZONE:Asia/Tokyo
BEGIN:VTIMEZONE
TZID:Asia/Tokyo
BEGIN:STANDARD
DTSTART:19700101T000000
TZOFFSETFROM:+0900
TZOFFSETTO:+0900
TZNAME:JST
END:STANDARD
END:VTIMEZONE
BEGIN:VEVENT
UID:933576@techplay.jp
SUMMARY:第2回渋滞予測チャレンジコンテスト ～高速料金
 ・ルート検索データを活用した高速道路の渋滞予測高
 度化への挑戦～
DTSTART;TZID=Asia/Tokyo:20240131T160000
DTEND;TZID=Asia/Tokyo:20240331T235900
DTSTAMP:20260423T103934Z
CREATED:20240125T091616Z
DESCRIPTION:イベント詳細はこちら\nhttps://techplay.jp/event/93357
 6?utm_medium=referral&utm_source=ics&utm_campaign=ics\n\n渋滞予測チ
 ャレンジコンテスト ～高速料金・ルート検索データを
 活用した高速道路の渋滞予測高度化への挑戦～\n【注
 】申し込みはコンテストサイト「SIGNATE」に公開するコ
 ンテストの専用ページからお申し込みください。（※
 申し込みにはSIGNATEへの登録が必須となります）\n1. 概
 要\nNEXCO東日本（東京都千代田区）と東京大学大学院情
 報学環（東京都文京区）は、第２回渋滞予測チャレン
 ジコンテストを開催します。交通量や速度データに加
 え、今まで活用していなかった、高速料金・ルート検
 索データ（高速道路のお出かけ予定情報）を利用して
 渋滞予測を行っていただくものです。本コンテストは
 、より詳細な交通量データを活用することで更なる予
 測精度の向上を目指すとともに、東北自動車道を予測
 対象に追加することにより汎用性の向上を図ります。
 （募集期間：1月31日～3月31日）\nモデリング部門：\n\nN
 EXCO東日本から提供するデータを基に渋滞予測アルゴリ
 ズムを開発し、2024年4月1日～5月6日間の指定日（GW期間
 含む）の渋滞予測を行っていただきます。交通量や速
 度データと高速道路のお出かけ予定情報である高速料
 金・ルート検索データを活用した予測となります。\n\n
 2. スケジュール\n\n\n\n\n\n\n\n\n\n2024年1月31日\n応募開始\n
 \n\n2024年3月31日\n応募締め切り\n\n\n2023年4月～5月\n渋滞
 予測の予測精度評価\n\n\n2024年6月下旬\n最終選考（プレ
 ゼン審査によるモデリング賞の選定）、表彰式\n\n\n\n3
 ．応募資格\n法人・個人問わず、どなたでも応募可能
 です。\n4．応募方法\nコンテストサイト「SIGNATE」に公
 開する本コンテストの専用ページからお申し込みくだ
 さい。\n5．審査員\n東京大学大学院　情報学環　教授
 　越塚　登東京大学　空間情報科学研究センター　准
 教授　澁谷　遊野モビリティジャーナリスト　楠田　
 悦子NEXCO総研　交通環境研究部　交通研究担当部長　
 邢　健NEXCO東日本　管理事業本部　ITS推進部長　中西
 　規祥\n6．チャレンジコンテストとは\n本コンテスト
 は、NEXCO東日本と東京大学大学院情報学環が、2011年に
 締結した『情報社会基盤に関する研究協力協定』に基
 づいた、「データ利活用の取り組みに関する共同研究
 」の一環です。NEXCO東日本が、より安全・安心な交通
 の未来を作るために取り組んでいることの1つが渋滞予
 測です。渋滞に関する研究は、発生原因・緩和の方法
 などが見つかっているものの、予測を行う実務では長
 年の経験に則した予測を行っています。本コンテスト
 は、同社の掲げる「自動運転社会の実現を加速させる
 次世代高速道路の目指す姿（構想）」（2021年4月28日発
 表）の重点プロジェクト（6）・（29）の1つとして、ビ
 ッグデータの活用による渋滞予測の精度向上を目的と
 した革新的なデータ分析事例・アイデアを募集するも
 のです。\n7．お問い合わせ\nコンテストに関するお問
 い合わせは、コンテストサイト「SIGNATE」の**専用ペー
 ジ**からご登録後、専用ページよりお問い合わせくだ
 さい。\n8．その他\n株式会社Michele Holdingsは、本コンテ
 ストについて、事務局として運営・推進しております
 。コンテストの詳細は、「SIGNATE」の**専用ページ**を
 ご覧ください。
LOCATION:
URL:https://techplay.jp/event/933576?utm_medium=referral&utm_source=ics&utm
 _campaign=ics
END:VEVENT
END:VCALENDAR
