BEGIN:VCALENDAR
VERSION:2.0
PRODID:-//https://techplay.jp//JP
CALSCALE:GREGORIAN
METHOD:PUBLISH
X-WR-CALDESC:いまさら聞けないExcelシリーズVol.６ 【テーブ
 ル編 】
X-WR-CALNAME:いまさら聞けないExcelシリーズVol.６ 【テーブ
 ル編 】
X-WR-TIMEZONE:Asia/Tokyo
BEGIN:VTIMEZONE
TZID:Asia/Tokyo
BEGIN:STANDARD
DTSTART:19700101T000000
TZOFFSETFROM:+0900
TZOFFSETTO:+0900
TZNAME:JST
END:STANDARD
END:VTIMEZONE
BEGIN:VEVENT
UID:933955@techplay.jp
SUMMARY:いまさら聞けないExcelシリーズVol.６ 【テーブル編
  】
DTSTART;TZID=Asia/Tokyo:20240219T190000
DTEND;TZID=Asia/Tokyo:20240219T200000
DTSTAMP:20260421T103120Z
CREATED:20240129T063046Z
DESCRIPTION:イベント詳細はこちら\nhttps://techplay.jp/event/93395
 5?utm_medium=referral&utm_source=ics&utm_campaign=ics\n\nいまさら聞
 けないExcelシリーズVol.６ 【テーブル編 】\nクリーク･
 アンド･リバー社（C&R社）は、2024年２月19日（月） に
 、日常的にExcelを使用し多くのデータを扱っている方
 を対象に、「いまさら聞けないExcelシリーズVol.６ 【テ
 ーブル編】」を開催します。\nExcelで データの加工、
 集計、データ分析など、これまでご自身で調べたり、
 先輩から習ったりしながら必要に応じて知識・技術の
 習得をされてきた方が多いのではないでしょうか。普
 段Excelを活用している中で、・よく使う関数だけど、
 実はあまり理解できていない・必要な関数や機能をす
 っと思い出したい・作業工程をもっと簡略化してスピ
 ードアップしたい・エラーを未然に防ぎたい・自分の
 使いかた（使用方法）が正しいのか不安だという方々
 に向け、「いまさら聞けないExcelシリーズ」を実施し
 ていきます。\nVol.６では、「縞模様になるだけじゃな
 い」便利なテーブル機能を実習をしながら学んでいき
 ます。\nこんなことをお話します！\n\nテーブルとは\n
 便利なテーブル機能\n\nこんな方にオススメ！\n\n普段Ex
 celを使っている中級者\nExcelでデータ集計をされている
 方\nExcelの機能についてさらに学びたいとお考えの方\n
 テーブル機能について知りたい、学びなおししたい方\
 n\nタイムスケジュール\n\n\n\n時間\n内容\nspeaker\n\n\n\n\n19
 ：00～19：05\nオープニング\nC&R社\n\n\n19：05～19：50\n講
 演\n古澤登志美 氏\n\n\n19：50～20：00\n質疑応答\n\n\n\n20
 ：00～\nクロージング\n\n\n\n\n※ 当日予告なく時間配分
 ・内容が変更になる可能性がございます。\n登壇者\n古
 澤　登志美（ふるさわ・としみ）氏\n株式会社ワンズ
 ・ワン代表取締役。2001年、パソコン出張サポート業を
 起ち上げ、同時にＩＴ系セミナー講師としても活動を
 開始。Excelを始めとしたOfficeアプリの他、ホームペー
 ジ作成や画像処理など、全く初めて触れる受講者にも
 わかりやすく伝えることを得意とする。現在はＩＴ活
 用支援を中心とした、中小機企業向け経営コンサルテ
 ィングを主な事業としている。2017年、中小企業診断士
 登録。2021年ＩＴコーディネータ認定。\n\n参加対象\n・
 Excel初級～中級者の方・基本的な操作方法をしっかり
 理解して使いこなしたい方・マーケティング部門/販促
 部門/営業/プランナーの方で、普段データを扱ってい
 る方・事務職からのキャリアアップをご検討中の方\n
 参加費\n無料\n当ウェビナーについて\n\n\nこちらのサイ
 ト からもお申込みいただくことができます。\n\n\n▼C&
 R社で実施しているオンライン講座・ウェビナー　一覧
 ページhttps://www.c-place.ne.jp/
LOCATION:
URL:https://techplay.jp/event/933955?utm_medium=referral&utm_source=ics&utm
 _campaign=ics
END:VEVENT
END:VCALENDAR
