BEGIN:VCALENDAR
VERSION:2.0
PRODID:-//https://techplay.jp//JP
CALSCALE:GREGORIAN
METHOD:PUBLISH
X-WR-CALDESC:Drupal Meetup 豊田 202402
X-WR-CALNAME:Drupal Meetup 豊田 202402
X-WR-TIMEZONE:Asia/Tokyo
BEGIN:VTIMEZONE
TZID:Asia/Tokyo
BEGIN:STANDARD
DTSTART:19700101T000000
TZOFFSETFROM:+0900
TZOFFSETTO:+0900
TZNAME:JST
END:STANDARD
END:VTIMEZONE
BEGIN:VEVENT
UID:934015@techplay.jp
SUMMARY:Drupal Meetup 豊田 202402
DTSTART;TZID=Asia/Tokyo:20240228T200000
DTEND;TZID=Asia/Tokyo:20240228T210000
DTSTAMP:20260420T110802Z
CREATED:20240129T140732Z
DESCRIPTION:イベント詳細はこちら\nhttps://techplay.jp/event/93401
 5?utm_medium=referral&utm_source=ics&utm_campaign=ics\n\nDrupal Meetup 
 豊田は、オープンソースCMS（コンテンツ管理システム
 ）であるDrupal(ドルーパル)に興味があり豊田・名古屋
 地域を中心に活動する人達が交流する場所です。\nDrupa
 l （ドルーパル）は、デジタルデータプラットフォー
 ムとして世界中で支持されており、テスラモーターズ
 、GE、NASA、ホワイトハウスといったグローバルな大企
 業・政府機関などで、多くの採用実績があります。\n
 日本でも、グローバルで多言語・多プラットフォーム
 ・ブランド展開を行っている企業（製薬会社など）の
 サイトリニューアル・サイト集約や、オープンソース
 という利点を活かして大学のサイトリニューアル等で
 採用されています。\nまた、デジタル庁が推進する、
 「政府統一Webサイト」の構築基盤にDrupalが採用された
 ことにより、DrupalおよびDrupal技術者により関心が集ま
 っています。\nDrupal は、単なるウェブサイトの構築・
 管理にとどまらず、バックエンドのプラットフォーム
 として利用する事が可能で、デジタルサイネージやス
 マートウォッチなどのデバイスに表示・通知したり、I
 oTやAI（人工知能）といったシステムと連携することも
 できます。\nまた、Drupalホスティング会社であるアク
 ィア社は、2023年4年連続で大手調査会社ガートナーのGa
 rtner®️ Magic Quadrant™️ for DXPのリーダー企業に選出さ
 れました。\nDrupal 技術者の方、デジタルマーケティン
 グ運用担当の方、また、Drupal やオープンソースにご興
 味がある方のご参加をお待ちしております。\nDrupal 技
 術動向に関する発表や意見交換を行います。 技術動向
 は知りたいけれど、技術者でないという方も、是非、
 気軽にご参加ください。\nDrupal Meetup 豊田 Facebookページ
 \n関連情報\n◆その他の場所で開催されているDrupal Meetu
 p\n東京地区\nDrupal Meetup 羽田\nDrupal Meetup Tokyo\n大阪地区\
 nDrupal Meetup 梅田\nMeetupの雑談から始まった「技術書典
 」へのDrupal関連の本を分担して執筆する流れができ、
 「Drupal Meetup 豊田支部」名で、今まで6冊の書籍を出版
 しました。\n[技術書典 Drupal Meetup 豊田支部] (https://techb
 ookfest.org/organization/5132232752627712)\n[Amazon Kindleストア  Drup
 al Meetup 豊田支部] (https://www.amazon.co.jp/s?i=digital-text&rh=p_2
 7%3ADrupal+Meetup+%E8%B1%8A%E7%94%B0%E6%94%AF%E9%83%A8&s=relevancerank&te
 xt=Drupal+Meetup+%E8%B1%8A%E7%94%B0%E6%94%AF%E9%83%A8&ref=dp_byline_sr_eb
 ooks_1)\n「続・酒屋の娘、Webサイト制作します -Drupal 10
 で多言語サイトに挑戦！」- 技術書典15で発売\n「続・
 酒屋の娘、Webサイト制作します -Drupal 10で多言語サイ
 トに挑戦！」\nアマゾンKindlesストア\n頒布価格：電子
 書籍 1\,000円（税込）\n執筆者：7名\nページ数：102ペー
 ジ\n待望のストーリー企画のDrupal入門書の多言語版\n「
 酒屋の娘、Webサイト制作します -Drupal 10で小さな商店
 街がDXに挑戦！」- 技術書典14で発売\n「酒屋の娘、Web
 サイト制作します -Drupal 10で小さな商店街がDXに挑戦！
 」\nアマゾンKindlesストア\n頒布価格：電子書籍 1\,000円
 （税込）\n執筆者：7名\nページ数：102ページ\n待望のス
 トーリー企画のDrupal入門書\n「Drupal 9 おいしいレシピ
 集 3」- 技術書典13で発売\n「Drupal 9 おいしいレシピ集
 ３」\nアマゾンKindlesストア\n頒布価格：電子書籍 1\,000
 円（税込）電子＋紙セット 1\,500円（税込）\n執筆者：6
 名\nページ数：90ページ\n1章　MetatagでサイトをSNSフレ
 ンドリーに\n2章　W3.CSSとW3CSSテーマを使ってみよう\n3
 章　コンテナでDrupalを起動する\n4章　Web Profilerで楽々
 プロファイリング\n5章　M5StackでハイブリッドDrupalはじ
 めの⼀歩\n6章　Drupal のアップデートの考察\n「Drupal 9 
 おいしいレシピ集２」- 技術書典12で新刊発売\n「Drupal 
 9 おいしいレシピ集２」\nアマゾンKindlesストア\n頒布価
 格：電子書籍 1\,000円（税込）\n執筆者：7名\nページ数
 ：108ページ\n1章　settings.php 探訪\n2章　Webform をアンケ
 ート収集に活⽤しよう\n3章　Feeds モジュールの活⽤と 
 Drupal から記事配信まで\n4章　Geofield モジュールで位置
 情報を可視化\n5章　Drupal で理解する OAuth 2.0\n6章　イ
 ンストールプロファイルを作ってみよう\n「Drupal 9 お
 いしいレシピ集」- 技術書典11で発売\n「Drupal 9 おいし
 いレシピ集」\nアマゾンKindlesストア\n頒布価格：電子
 書籍 1\,000円（税込）電子＋紙セット 1\,500円（税込）\n
 執筆者：6名\nページ数：104ページ\n1章　アプリ開発の 
 CI/CD 環境構築\n2章　Drush とサイトエイリアスで楽々サ
 イト管理\n3章　Group モジュールで会員限定サイトを構
 築する\n4章　Jamstack でヘッドレス Drupal を爆速構築\n5
 章　Mautic と Drupal で⾏う⾃動連携\n各章の終わりにう
 まポン＆まるちゃん先生が活躍する4コマ漫画を掲載！
 \n「Drupal 9 Web開発ことはじめ」-インプレスR&D 技術の泉
 シリーズ発売 2021年4月16日（金）\n「Drupal 9 Web開発をは
 じめるための薄い本」にさらに見直し、Drupalのアップ
 デート方法、テーマ開発などの章が追加されインプレ
 スR&D 技術の泉シリーズとして、「Drupal 9 Web開発ことは
 じめ」Amazon Kindle版/オンデマンド印刷版で発売される
 ことになりました。\nAmazon Kindle版 2\,200円（税込）\nオ
 ンデマンド印刷版 3\,630円（税込）\n「Drupal 9 Web開発を
 はじめるための薄い本」-オンラインブック発行・販売
 (800円)\nDrupal Meetup 豊田#14(2020年10月27日)での雑談（「技
 術書典10オンラインマーケット」の話）から、Drupal Meet
 up の方々に展開し、計８名の方が執筆メンバーとして
 、オンラインブックとして「Drupal 9 Web開発をはじめる
 ための薄い本」が2020年12月26日に発行・販売(800円)され
 ました。\nAcquia Japanの丸山さんがブログに詳細まとめ
 てらっしゃいますので、どうぞご覧ください。\n諸注
 意\n・プログラム内容は予告なく変更する可能性があ
 ります。\n・開催中の事故・天災・その他の事象によ
 ってもたらされたすべての不利益に関して、当勉強会
 、および会場提供者はその責任を負いかねます。\n・
 本イベントは全ての参加者が楽しんでいただくことを
 主旨としております。そのため、以下のような行動を
 取られた方は、退室していただく場合がございます。
 また次回以降の参加もお断りさせていただく場合がご
 ざいますので了承下さい。\n過去に以下のような行動
 を取られた方からのお申込についてもお断りさせてい
 ただく場合がございます。\n1）イベントの妨害と見ら
 れる言動\n2）講師および参加者に対して一方的な批判
 また攻撃的な言動\n3）人材紹介、転職、マルチ商法、
 宗教など、本勉強会とは関係のない勧誘活動
LOCATION:Zoom オンライン
URL:https://techplay.jp/event/934015?utm_medium=referral&utm_source=ics&utm
 _campaign=ics
END:VEVENT
END:VCALENDAR
